Workbook

Sheet BT
A1: TRASLADO RG ERSeP Nº64/2025 y NOTA ERSeP DEL 13 DE JUNIO DE 2025
A2: CATEGORIA TARIFARIA | B2: UNIDADES | C2: A PARTIR DEL 1 DE JUNIO DE 2025
C3: MODIFICACION CT COOPERATIVA
C4: RG ERSEP 64/2025 | I4: NOTA ERSeP - NUEVO ESTACIONAL Y FAM EPEC 05/2025
I5: MODIFICACION CT MAYO 2025 COOPERATIVA (LUEGO DE APLICAR RG ERSeP Nº64/2025) | J5: TARIFAS PARA GENERACION DISTRIBUIDA
C6: GRUPO "A" - Anexo I | D6: GRUPO "B" - Anexo II | E6: GRUPO "C" - Anexo III | F6: GRUPO "D" - Anexo IV | G6: GRUPO "E" - Anexo V | H6: GRUPO "F" - Anexo VI | I6: ANEXO 1 | J6: ANEXO 4
C7: MODIFICACION POR ACTUALIZACION VAD COOPERATIVAS | I7: INCREMENTO AUTORIZADO POR NUEVO VAD EPEC | J7: VALORES A FACTURAR
A8: Cuadro N° 1:
A9: Cooperativas con Compra en Baja Tensión sin Facturación de Potencia
A10: Suministros en Baja Tension (220 y 380 V) sin Facturacion de Potencia
A11: Por cada kWh suministrado | B11: $/kWh (pesos por kWh) | I11: 3.74399 | J11: 75.90217
A13: Cuadro N° 2:
A14: Cooperativas con Compra en Baja Tension (220 y 380 V) con Facturación de Potencia
A15: Suministros en Baja Tension (220 y 380 V)
A16: Energia destinada a suministros Residenciales con demanda menor a 10 kW
A17: NIVEL 1-ALTOS INGRESOS, NIVEL 2 CONSUMO MAYOR A 350 KWH Y NIVEL 3 CONSUMO MAYOR A 250 KWH-VALOR A INCREMENTAR RESPECTO DE LA TARIFA RESIDENCIAL N1 | I17: VALOR A INCREMENTAR RESPECTO DE LA TARIFA RESIDENCIAL N1
A18: Cargos Fijos | B18: $ (pesos) | C18: 0.0249 | D18: =$C$18 -> 0.0249 | E18: =$C$18 -> 0.0249 | F18: =$C$18 -> 0.0249 | G18: =$C$18 -> 0.0249 | H18: =$C$18 -> 0.0249 | I18: 0 | J18: 0
A19: Para la totalidad de los kWh | B19: $/kWh (pesos por kWh) | C19: 0.0126 | D19: 0.0133 | E19: 0.0135 | F19: 0.0142 | G19: 0.0134 | H19: 0.0147 | I19: 2.45883 | J19: 75.90217
A20: NIVEL 2 - INGRESOS BAJOS - POR LOS PRIMEROS 350 KWH | I20: VALOR A DESCONTAR RESPECTO DE LA TARIFA RESIDENCIAL N1
A21: Cargos Fijos | B21: $ (pesos) | C21: 0 | D21: 0 | E21: 0 | F21: 0 | G21: 0 | H21: 0 | I21: 0 | J21: 0
A22: Por los primeros 350 kWh | B22: $/kWh (pesos por kWh) | C22: 0 | D22: 0 | E22: 0 | F22: 0 | G22: 0 | H22: 0 | I22: -58.23209 | J22: 26.23234
A23: NIVEL 3 - INGRESOS MEDIOS - POR LOS PRIMEROS 250 KWH | I23: VALOR A DESCONTAR RESPECTO DE LA TARIFA RESIDENCIAL N1
A24: Cargos Fijos | B24: $ (pesos) | C24: 0 | D24: 0 | E24: 0 | F24: 0 | G24: 0 | H24: 0 | I24: 0 | J24: 0
A25: Por los primeros 250 kWh según corresponda | B25: $/kWh (pesos por kWh) | C25: 0 | D25: 0 | E25: 0 | F25: 0 | G25: 0 | H25: 0 | I25: -45.08181 | J25: 37.44904
A26: Para Usuarios ELECTRODEPENDIENTES SEGÚN LEY NACIONAL Nº 27351 (diferencial aplicable respecto de la tarifa resultante para Usuarios Residenciales Nivel 2) | I26: VALOR A DESCONTAR RESPECTO DE LA TARIFA RESIDENCIAL N2
A27: Cargos Fijos | B27: $ (pesos) | C27: 0 | D27: 0 | E27: 0 | F27: 0 | G27: 0 | H27: 0 | I27: 0
A28: Para la totalidad de los kWh, cuando no se registre y/o facture potencia | B28: $/kWh (pesos por kWh) | C28: 0 | D28: 0 | E28: 0 | F28: 0 | G28: 0 | H28: 0 | I28: -28.08215
A29: Para Usuarios ELECTRODEPENDIENTES SEGÚN LEY PROVINCIAL Nº 10511 (corresponde aplicar gratuidad del servicio) | I29: TARIFA FINAL A APLICAR POR TODO EL CONSUMO
A30: Cargos Fijos | B30: $ (pesos) | C30: 0 | D30: 0 | E30: 0 | F30: 0 | G30: 0 | H30: 0 | I30: 0
A31: Para la totalidad de los kWh, cuando no se registre y/o facture potencia | B31: $/kWh (pesos por kWh) | C31: 0 | D31: 0 | E31: 0 | F31: 0 | G31: 0 | H31: 0 | I31: 0
A32: Suministros a Clubes de Barrio y de Pueblo (diferencial aplicable respecto de la categoría disponible en el Cuadro Tarifario de la Prestadora, solo en caso que el respectivo Club/Entidad sea informado por el MINISTERIO DE TURISMO Y DEPORTES o el área que éste disponga, de conformidad con la Resolución SE Nº 742/2022) - SIN FACTURACION DE POTENCIA
A33: Cargos Fijos | B33: $ (pesos) | C33: =C$18 -> 0.0249 | D33: =D$18 -> 0.0249 | E33: =E$18 -> 0.0249 | F33: =F$18 -> 0.0249 | G33: =G$18 -> 0.0249 | H33: =H$18 -> 0.0249 | I33: 0 | J33: 0
A34: Para la totalidad de los kWh, cuando no se registre y/o facture potencia | B34: $/kWh (pesos por kWh) | C34: 0.0131 | D34: 0.0138 | E34: 0.0137 | F34: 0.0148 | G34: 0.0137 | H34: 0.0149 | I34: -49.94633 | J34: 26.23044
A35: Suministros a entidades integrantes del Sistema Nacional de Bomberos Voluntarios (diferencial aplicable respecto de la categoría disponible en el Cuadro Tarifario de la Prestadora, según Res. SE 161/2023) - SIN FACTURACION DE POTENCIA
A36: Cargos Fijos | B36: $ (pesos) | C36: =C$18 -> 0.0249 | D36: =D$18 -> 0.0249 | E36: =E$18 -> 0.0249 | F36: =F$18 -> 0.0249 | G36: =G$18 -> 0.0249 | H36: =H$18 -> 0.0249 | I36: 0 | J36: 0
A37: Para la totalidad de los kWh, cuando no se registre y/o facture potencia | B37: $/kWh (pesos por kWh) | C37: =C34 -> 0.0131 | D37: =D34 -> 0.0138 | E37: =E34 -> 0.0137 | F37: =F34 -> 0.0148 | G37: =G34 -> 0.0137 | H37: =H34 -> 0.0149 | I37: -78.02658 | J37: 0
A38: Energia destinada a suministros identificados como Alumbrado Publico - SIN FACTURACION DE POTENCIA
A39: Cargos Fijos | B39: $ (pesos) | C39: =C$18 -> 0.0249 | D39: =D$18 -> 0.0249 | E39: =E$18 -> 0.0249 | F39: =F$18 -> 0.0249 | G39: =G$18 -> 0.0249 | H39: =H$18 -> 0.0249 | I39: 0 | J39: 0
A40: Para la totalidad de los kWh, cuando no se registre y/o facture potencia | B40: $/kWh (pesos por kWh) | C40: =C34 -> 0.0131 | D40: =D34 -> 0.0138 | E40: =E34 -> 0.0137 | F40: =F34 -> 0.0148 | G40: =G34 -> 0.0137 | H40: =H34 -> 0.0149 | I40: 2.40773 | J40: 75.60556
A41: Energia destinada a suministros Generales con demanda menor o igual a 10 kW. excepto usuarios Residenciales y Alumbrado Publico
A42: Cargos Fijos | B42: $ (pesos) | C42: =C$18 -> 0.0249 | D42: =D$18 -> 0.0249 | E42: =E$18 -> 0.0249 | F42: =F$18 -> 0.0249 | G42: =G$18 -> 0.0249 | H42: =H$18 -> 0.0249 | I42: 0 | J42: 0
A43: Por cada kWh hasta 800 kWh mensuales | B43: $/kWh (pesos por kWh) | C43: =C34 -> 0.0131 | D43: =D34 -> 0.0138 | E43: =E34 -> 0.0137 | F43: =F34 -> 0.0148 | G43: =G34 -> 0.0137 | H43: =H34 -> 0.0149 | I43: 2.64809 | J43: 75.8961
A44: Por cada kWh excedente de 800 kWh mensuales | B44: $/kWh (pesos por kWh) | C44: =C34 -> 0.0131 | D44: =D34 -> 0.0138 | E44: =E34 -> 0.0137 | F44: =F34 -> 0.0148 | G44: =G34 -> 0.0137 | H44: =H34 -> 0.0149 | I44: =I43 -> 2.64809 | J44: =J43 -> 75.8961
A45: Energia destinada a suministros con demanda mayor a 10 Kw y menor a 300 kW. excepto usuarios Residenciales y Alumbrado Publico - SIN FACTURACION DE POTENCIA
A46: Cargos Fijos | B46: $ (pesos) | C46: =C$18 -> 0.0249 | D46: =D$18 -> 0.0249 | E46: =E$18 -> 0.0249 | F46: =F$18 -> 0.0249 | G46: =G$18 -> 0.0249 | H46: =H$18 -> 0.0249 | I46: 0 | J46: 0
A47: Para la totalidad de los kWh | B47: $/kWh (pesos por kWh) | C47: =C34 -> 0.0131 | D47: =D34 -> 0.0138 | E47: =E34 -> 0.0137 | F47: =F34 -> 0.0148 | G47: =G34 -> 0.0137 | H47: =H34 -> 0.0149 | I47: =I43 -> 2.64809 | J47: =J43 -> 75.8961
A48: Suministros a Clubes de Barrio y de Pueblo (diferencial aplicable respecto de la categoría disponible en el Cuadro Tarifario de la Prestadora, solo en caso que el respectivo Club/Entidad sea informado por el MINISTERIO DE TURISMO Y DEPORTES o el área que éste disponga, de conformidad con la Resolución SE Nº 742/2022) - CON FACTURACION DE POTENCIA
A49: Por cada kW-mes suministrado en Horario de Pico | B49: $/kW-mes (pesos por kW-mes) | C49: 0.0263 | D49: 0 | E49: 0.0277 | F49: 0 | G49: 0.0275 | H49: 0 | I49: 0 | J49: 0
A50: Por cada kW-mes suministrado en Horario Fuera de Pico | B50: $/kW-mes (pesos por kW-mes) | C50: 0.0339 | D50: 0 | E50: 0.0356 | F50: 0 | G50: 0.0354 | H50: 0 | I50: 0 | J50: 0
A51: Por cada kWh suministrado en Horario de Pico | B51: $/kWh (pesos por kWh) | C51: 0 | D51: 0 | E51: 0 | F51: 0 | G51: 0 | H51: 0 | I51: -50.84519 | J51: 26.63634
A52: Por cada kWh suministrado en Horario de Valle | B52: $/kWh (pesos por kWh) | C52: =C51 -> 0 | D52: 0 | E52: =E51 -> 0 | F52: 0 | G52: =G51 -> 0 | H52: 0 | I52: -49.05329 | J52: 25.82717
A53: Por cada kWh suministrado en Horario de Resto | B53: $/kWh (pesos por kWh) | C53: =C51 -> 0 | D53: 0 | E53: =E51 -> 0 | F53: 0 | G53: =G51 -> 0 | H53: 0 | I53: -49.84431 | J53: 26.18437
A54: Suministros a entidades integrantes del Sistema Nacional de Bomberos Voluntarios (diferencial aplicable respecto de la categoría disponible en el Cuadro Tarifario de la Prestadora, según Res. SE 161/2023) - CON FACTURACION DE POTENCIA
A55: Por cada kW-mes suministrado en Horario de Pico | B55: $/kW-mes (pesos por kW-mes) | C55: =C49 -> 0.0263 | D55: =D49 -> 0 | E55: =E49 -> 0.0277 | F55: =F49 -> 0 | G55: =G49 -> 0.0275 | H55: =H49 -> 0 | I55: 0 | J55: 0
A56: Por cada kW-mes suministrado en Horario Fuera de Pico | B56: $/kW-mes (pesos por kW-mes) | C56: =C50 -> 0.0339 | D56: =D50 -> 0 | E56: =E50 -> 0.0356 | F56: =F50 -> 0 | G56: =G50 -> 0.0354 | H56: =H50 -> 0 | I56: 0 | J56: 0
A57: Por cada kWh suministrado en Horario de Pico | B57: $/kWh (pesos por kWh) | C57: =C51 -> 0 | D57: =D51 -> 0 | E57: =E51 -> 0 | F57: =F51 -> 0 | G57: =G51 -> 0 | H57: =H51 -> 0 | I57: -79.33363 | J57: 0
A58: Por cada kWh suministrado en Horario de Valle | B58: $/kWh (pesos por kWh) | C58: =C52 -> 0 | D58: =D52 -> 0 | E58: =E52 -> 0 | F58: =F52 -> 0 | G58: =G52 -> 0 | H58: =H52 -> 0 | I58: -76.72797 | J58: 0
A59: Por cada kWh suministrado en Horario de Resto | B59: $/kWh (pesos por kWh) | C59: =C53 -> 0 | D59: =D53 -> 0 | E59: =E53 -> 0 | F59: =F53 -> 0 | G59: =G53 -> 0 | H59: =H53 -> 0 | I59: -77.87822 | J59: 0
A60: Energia destinada a suministros identificados como Alumbrado Publico - CON FACTURACION DE POTENCIA
A61: Por cada kW-mes suministrado en Horario de Pico | B61: $/kW-mes (pesos por kW-mes) | C61: =C49 -> 0.0263 | D61: =D49 -> 0 | E61: =E49 -> 0.0277 | F61: =F49 -> 0 | G61: =G49 -> 0.0275 | H61: =H49 -> 0 | I61: 250.94637 | J61: 0
A62: Por cada kW-mes suministrado en Horario Fuera de Pico | B62: $/kW-mes (pesos por kW-mes) | C62: =C50 -> 0.0339 | D62: =D50 -> 0 | E62: =E50 -> 0.0356 | F62: =F50 -> 0 | G62: =G50 -> 0.0354 | H62: =H50 -> 0 | I62: 151.96221 | J62: 0
A63: Por cada kWh suministrado en Horario de Pico | B63: $/kWh (pesos por kWh) | C63: =C51 -> 0 | D63: =D51 -> 0 | E63: =E51 -> 0 | F63: =F51 -> 0 | G63: =G51 -> 0 | H63: =H51 -> 0 | I63: 1.34196 | J63: 77.19581
A64: Por cada kWh suministrado en Horario de Valle | B64: $/kWh (pesos por kWh) | C64: =C52 -> 0 | D64: =D52 -> 0 | E64: =E52 -> 0 | F64: =F52 -> 0 | G64: =G52 -> 0 | H64: =H52 -> 0 | I64: 1.3034 | J64: 74.60479
A65: Por cada kWh suministrado en Horario de Resto | B65: $/kWh (pesos por kWh) | C65: =C53 -> 0 | D65: =D53 -> 0 | E65: =E53 -> 0 | F65: =F53 -> 0 | G65: =G53 -> 0 | H65: =H53 -> 0 | I65: 1.32041 | J65: 75.74858
A66: Energia destinada a suministros con demanda mayor a 10 Kw y menor a 300 kW. excepto usuarios Residenciales y Alumbrado Publico - CON FACTURACION DE POTENCIA
A67: Por cada kW-mes suministrado en Horario de Pico | B67: $/kW-mes (pesos por kW-mes) | C67: =C61 -> 0.0263 | D67: =D61 -> 0 | E67: =E61 -> 0.0277 | F67: =F61 -> 0 | G67: =G61 -> 0.0275 | H67: =H61 -> 0 | I67: =I61 -> 250.94637 | J67: 0
A68: Por cada kW-mes suministrado en Horario Fuera de Pico | B68: $/kW-mes (pesos por kW-mes) | C68: =C62 -> 0.0339 | D68: =D62 -> 0 | E68: =E62 -> 0.0356 | F68: =F62 -> 0 | G68: =G62 -> 0.0354 | H68: =H62 -> 0 | I68: =I62 -> 151.96221 | J68: 0
A69: Por cada kWh suministrado en Horario de Pico | B69: $/kWh (pesos por kWh) | C69: =C63 -> 0 | D69: =D63 -> 0 | E69: =E63 -> 0 | F69: =F63 -> 0 | G69: =G63 -> 0 | H69: =H63 -> 0 | I69: =I63 -> 1.34196 | J69: =J63 -> 77.19581
A70: Por cada kWh suministrado en Horario de Valle | B70: $/kWh (pesos por kWh) | C70: =C64 -> 0 | D70: =D64 -> 0 | E70: =E64 -> 0 | F70: =F64 -> 0 | G70: =G64 -> 0 | H70: =H64 -> 0 | I70: =I64 -> 1.3034 | J70: =J64 -> 74.60479
A71: Por cada kWh suministrado en Horario de Resto | B71: $/kWh (pesos por kWh) | C71: =C65 -> 0 | D71: =D65 -> 0 | E71: =E65 -> 0 | F71: =F65 -> 0 | G71: =G65 -> 0 | H71: =H65 -> 0 | I71: =I65 -> 1.32041 | J71: =J65 -> 75.74858

Sheet MT
A1: TRASLADO RG ERSeP Nº64/2025 y NOTA ERSeP DEL 13 DE JUNIO DE 2025
A2: CATEGORIA TARIFARIA | B2: UNIDADES | C2: A PARTIR DEL 1 DE JUNIO DE 2025
C3: MODIFICACION CT COOPERATIVA
C4: RG ERSEP 64/2025 | I4: NOTA ERSeP - NUEVO ESTACIONAL Y FAM EPEC 05/2025
I5: MODIFICACION CT MAYO 2025 COOPERATIVA (LUEGO DE APLICAR RG ERSeP Nº64/2025) | J5: TARIFAS PARA GENERACION DISTRIBUIDA
C6: GRUPO "A" - Anexo I | D6: GRUPO "B" - Anexo II | E6: GRUPO "C" - Anexo III | F6: GRUPO "D" - Anexo IV | G6: GRUPO "E" - Anexo V | H6: GRUPO "F" - Anexo VI | I6: ANEXO 1 | J6: ANEXO 4
C7: MODIFICACION POR ACTUALIZACION VAD COOPERATIVAS | I7: INCREMENTO AUTORIZADO POR NUEVO VAD EPEC | J7: VALORES A FACTURAR
A8: Cuadro N° 3:
A9: Cooperativas con Compra en Media Tension (13200 y 33000 V) con Facturacion de Potencia
A10: SUMINISTROS EN BAJA TENSION (220 y 380 V)
A11: Energia destinada a suministros Residenciales con demanda menor a 10 kW
A12: NIVEL 1-ALTOS INGRESOS, NIVEL 2 CONSUMO MAYOR A 350 KWH Y NIVEL 3 CONSUMO MAYOR A 250 KWH-VALOR A INCREMENTAR RESPECTO DE LA TARIFA RESIDENCIAL N1 | I12: VALOR A INCREMENTAR RESPECTO DE LA TARIFA RESIDENCIAL N1
A13: Cargos Fijos | B13: $ (pesos) | C13: =BT!C18 -> 0.0249 | D13: =BT!D18 -> 0.0249 | E13: =BT!E18 -> 0.0249 | F13: =BT!F18 -> 0.0249 | G13: =BT!G18 -> 0.0249 | H13: =BT!H18 -> 0.0249 | I13: 0 | J13: =BT!J18 -> 0
A14: Para la totalidad de los kWh | B14: $/kWh (pesos por kWh) | C14: =BT!C19 -> 0.0126 | D14: =BT!D19 -> 0.0133 | E14: =BT!E19 -> 0.0135 | F14: =BT!F19 -> 0.0142 | G14: =BT!G19 -> 0.0134 | H14: =BT!H19 -> 0.0147 | I14: 2.21475 | J14: =BT!J19 -> 75.90217
A15: NIVEL 2 - INGRESOS BAJOS - POR LOS PRIMEROS 350 KWH | I15: VALOR A DESCONTAR RESPECTO DE LA TARIFA RESIDENCIAL N1
A16: Cargos Fijos | B16: $ (pesos) | C16: =BT!C21 -> 0 | D16: =BT!D21 -> 0 | E16: =BT!E21 -> 0 | F16: =BT!F21 -> 0 | G16: =BT!G21 -> 0 | H16: =BT!H21 -> 0 | I16: 0 | J16: =BT!J21 -> 0
A17: Por los primeros 350 kWh | B17: $/kWh (pesos por kWh) | C17: =BT!C22 -> 0 | D17: =BT!D22 -> 0 | E17: =BT!E22 -> 0 | F17: =BT!F22 -> 0 | G17: =BT!G22 -> 0 | H17: =BT!H22 -> 0 | I17: -58.66305 | J17: =BT!J22 -> 26.23234
A18: NIVEL 3 - INGRESOS MEDIOS - POR LOS PRIMEROS 250 KWH | I18: VALOR A DESCONTAR RESPECTO DE LA TARIFA RESIDENCIAL N1
A19: Cargos Fijos | B19: $ (pesos) | C19: 0 | D19: 0 | E19: 0 | F19: 0 | G19: 0 | H19: 0 | I19: 0 | J19: =BT!J24 -> 0
A20: Por los primeros 250 kWh según corresponda | B20: $/kWh (pesos por kWh) | C20: 0 | D20: 0 | E20: 0 | F20: 0 | G20: 0 | H20: 0 | I20: -45.41545 | J20: =BT!J25 -> 37.44904
A21: Para Usuarios ELECTRODEPENDIENTES SEGÚN LEY NACIONAL Nº 27351 (diferencial aplicable respecto de la tarifa resultante para Usuarios Residenciales Nivel 2) | I21: VALOR A DESCONTAR RESPECTO DE LA TARIFA RESIDENCIAL N2
A22: Cargos Fijos | B22: $ (pesos) | C22: 0 | D22: 0 | E22: 0 | F22: 0 | G22: 0 | H22: 0 | I22: 0
A23: Para la totalidad de los kWh, cuando no se registre y/o facture potencia | B23: $/kWh (pesos por kWh) | C23: 0 | D23: 0 | E23: 0 | F23: 0 | G23: 0 | H23: 0 | I23: -28.07825
A24: Para Usuarios ELECTRODEPENDIENTES SEGÚN LEY PROVINCIAL Nº 10511 (corresponde aplicar gratuidad del servicio) | I24: TARIFA FINAL A APLICAR POR TODO EL CONSUMO
A25: Cargos Fijos | B25: $ (pesos) | C25: 0 | D25: 0 | E25: 0 | F25: 0 | G25: 0 | H25: 0 | I25: 0
A26: Para la totalidad de los kWh, cuando no se registre y/o facture potencia | B26: $/kWh (pesos por kWh) | C26: =C23 -> 0 | D26: =D23 -> 0 | E26: =E23 -> 0 | F26: =F23 -> 0 | G26: =G23 -> 0 | H26: =H23 -> 0 | I26: 0
A27: Suministros a Clubes de Barrio y de Pueblo (diferencial aplicable respecto de la categoría disponible en el Cuadro Tarifario de la Prestadora, solo en caso que el respectivo Club/Entidad sea informado por el MINISTERIO DE TURISMO Y DEPORTES o el área que éste disponga, de conformidad con la Resolución SE Nº 742/2022) - SIN FACTURACION DE POTENCIA
A28: Cargos Fijos | B28: $ (pesos) | C28: =C$13 -> 0.0249 | D28: =D$13 -> 0.0249 | E28: =E$13 -> 0.0249 | F28: =F$13 -> 0.0249 | G28: =G$13 -> 0.0249 | H28: =H$13 -> 0.0249 | I28: 0 | J28: =BT!J33 -> 0
A29: Para la totalidad de los kWh, cuando no se registre y/o facture potencia | B29: $/kWh (pesos por kWh) | C29: =BT!C34 -> 0.0131 | D29: =BT!D34 -> 0.0138 | E29: =BT!E34 -> 0.0137 | F29: =BT!F34 -> 0.0148 | G29: =BT!G34 -> 0.0137 | H29: =BT!H34 -> 0.0149 | I29: -49.93941 | J29: =BT!J34 -> 26.23044
A30: Suministros a entidades integrantes del Sistema Nacional de Bomberos Voluntarios (diferencial aplicable respecto de la categoría disponible en el Cuadro Tarifario de la Prestadora, según Res. SE 161/2023) - SIN FACTURACION DE POTENCIA
A31: Cargos Fijos | B31: $ (pesos) | C31: =C$13 -> 0.0249 | D31: =D$13 -> 0.0249 | E31: =E$13 -> 0.0249 | F31: =F$13 -> 0.0249 | G31: =G$13 -> 0.0249 | H31: =H$13 -> 0.0249 | I31: 0 | J31: =BT!J36 -> 0
A32: Para la totalidad de los kWh, cuando no se registre y/o facture potencia | B32: $/kWh (pesos por kWh) | C32: =C29 -> 0.0131 | D32: =D29 -> 0.0138 | E32: =E29 -> 0.0137 | F32: =F29 -> 0.0148 | G32: =G29 -> 0.0137 | H32: =H29 -> 0.0149 | I32: -78.01575 | J32: =BT!J37 -> 0
A33: Energia destinada a suministros identificados como Alumbrado Publico - SIN FACTURACION DE POTENCIA
A34: Cargos Fijos | B34: $ (pesos) | C34: =C$13 -> 0.0249 | D34: =D$13 -> 0.0249 | E34: =E$13 -> 0.0249 | F34: =F$13 -> 0.0249 | G34: =G$13 -> 0.0249 | H34: =H$13 -> 0.0249 | I34: 0 | J34: =BT!J39 -> 0
A35: Para la totalidad de los kWh, cuando no se registre y/o facture potencia | B35: $/kWh (pesos por kWh) | C35: =C29 -> 0.0131 | D35: =D29 -> 0.0138 | E35: =E29 -> 0.0137 | F35: =F29 -> 0.0148 | G35: =G29 -> 0.0137 | H35: =H29 -> 0.0149 | I35: 2.17368 | J35: =BT!J40 -> 75.60556
A36: Energia destinada a suministros Generales con demanda menor o igual a 10 kW, excepto usuarios Residenciales y Alumbrado Publico
A37: Cargos Fijos | B37: $ (pesos) | C37: =C$13 -> 0.0249 | D37: =D$13 -> 0.0249 | E37: =E$13 -> 0.0249 | F37: =F$13 -> 0.0249 | G37: =G$13 -> 0.0249 | H37: =H$13 -> 0.0249 | I37: 0 | J37: =BT!J42 -> 0
A38: Por cada kWh hasta 800 kWh mensuales | B38: $/kWh (pesos por kWh) | C38: =C29 -> 0.0131 | D38: =D29 -> 0.0138 | E38: =E29 -> 0.0137 | F38: =F29 -> 0.0148 | G38: =G29 -> 0.0137 | H38: =H29 -> 0.0149 | I38: 2.36337 | J38: =BT!J43 -> 75.8961
A39: Por cada kWh excedente de 800 kWh mensuales | B39: $/kWh (pesos por kWh) | C39: =C29 -> 0.0131 | D39: =D29 -> 0.0138 | E39: =E29 -> 0.0137 | F39: =F29 -> 0.0148 | G39: =G29 -> 0.0137 | H39: =H29 -> 0.0149 | I39: =I38 -> 2.36337 | J39: =BT!J44 -> 75.8961
A40: Energia destinada a suministros con demanda mayor a 10 Kw y menor a 300 kW, excepto usuarios Residenciales y Alumbrado Publico - SIN FACTURACION DE POTENCIA
A41: Cargos Fijos | B41: $ (pesos) | C41: =C$13 -> 0.0249 | D41: =D$13 -> 0.0249 | E41: =E$13 -> 0.0249 | F41: =F$13 -> 0.0249 | G41: =G$13 -> 0.0249 | H41: =H$13 -> 0.0249 | I41: 0 | J41: =BT!J46 -> 0
A42: Para la totalidad de los kWh | B42: $/kWh (pesos por kWh) | C42: =C29 -> 0.0131 | D42: =D29 -> 0.0138 | E42: =E29 -> 0.0137 | F42: =F29 -> 0.0148 | G42: =G29 -> 0.0137 | H42: =H29 -> 0.0149 | I42: =I38 -> 2.36337 | J42: =BT!J47 -> 75.8961
A43: Energia destinada a suministros con demanda igual o mayor a 300 kW, SIN FACTURACION DE POTENCIA
A44: Cargos Fijos | B44: $ (pesos) | C44: =C$13 -> 0.0249 | D44: =D$13 -> 0.0249 | E44: =E$13 -> 0.0249 | F44: =F$13 -> 0.0249 | G44: =G$13 -> 0.0249 | H44: =H$13 -> 0.0249 | I44: 0 | J44: 0
A45: Para la totalidad de los kWh | B45: $/kWh (pesos por kWh) | C45: =C29 -> 0.0131 | D45: =D29 -> 0.0138 | E45: =E29 -> 0.0137 | F45: =F29 -> 0.0148 | G45: =G29 -> 0.0137 | H45: =H29 -> 0.0149 | I45: 2.43624 | J45: =J42 -> 75.8961
A46: Suministros a Clubes de Barrio y de Pueblo (diferencial aplicable respecto de la categoría disponible en el Cuadro Tarifario de la Prestadora, solo en caso que el respectivo Club/Entidad sea informado por el MINISTERIO DE TURISMO Y DEPORTES o el área que éste disponga, de conformidad con la Resolución SE Nº 742/2022) - CON FACTURACION DE POTENCIA
A47: Por cada kW-mes suministrado en Horario de Pico | B47: $/kW-mes (pesos por kW-mes) | C47: =BT!C49 -> 0.0263 | D47: =BT!D49 -> 0 | E47: =BT!E49 -> 0.0277 | F47: =BT!F49 -> 0 | G47: =BT!G49 -> 0.0275 | H47: =BT!H49 -> 0 | I47: 0 | J47: =BT!J49 -> 0
A48: Por cada kW-mes suministrado en Horario Fuera de Pico | B48: $/kW-mes (pesos por kW-mes) | C48: =BT!C50 -> 0.0339 | D48: =BT!D50 -> 0 | E48: =BT!E50 -> 0.0356 | F48: =BT!F50 -> 0 | G48: =BT!G50 -> 0.0354 | H48: =BT!H50 -> 0 | I48: 0 | J48: =BT!J50 -> 0
A49: Por cada kWh suministrado en Horario de Pico | B49: $/kWh (pesos por kWh) | C49: =BT!C51 -> 0 | D49: =BT!D51 -> 0 | E49: =BT!E51 -> 0 | F49: =BT!F51 -> 0 | G49: =BT!G51 -> 0 | H49: =BT!H51 -> 0 | I49: -50.83814 | J49: =BT!J51 -> 26.63634
A50: Por cada kWh suministrado en Horario de Valle | B50: $/kWh (pesos por kWh) | C50: =BT!C52 -> 0 | D50: =BT!D52 -> 0 | E50: =BT!E52 -> 0 | F50: =BT!F52 -> 0 | G50: =BT!G52 -> 0 | H50: =BT!H52 -> 0 | I50: -49.04648 | J50: =BT!J52 -> 25.82717
A51: Por cada kWh suministrado en Horario de Resto | B51: $/kWh (pesos por kWh) | C51: =BT!C53 -> 0 | D51: =BT!D53 -> 0 | E51: =BT!E53 -> 0 | F51: =BT!F53 -> 0 | G51: =BT!G53 -> 0 | H51: =BT!H53 -> 0 | I51: -49.8374 | J51: =BT!J53 -> 26.18437
A52: Suministros a entidades integrantes del Sistema Nacional de Bomberos Voluntarios (diferencial aplicable respecto de la categoría disponible en el Cuadro Tarifario de la Prestadora, según Res. SE 161/2023) - CON FACTURACION DE POTENCIA
A53: Por cada kW-mes suministrado en Horario de Pico | B53: $/kW-mes (pesos por kW-mes) | C53: =C47 -> 0.0263 | D53: =D47 -> 0 | E53: =E47 -> 0.0277 | F53: =F47 -> 0 | G53: =G47 -> 0.0275 | H53: =H47 -> 0 | I53: 0 | J53: 0
A54: Por cada kW-mes suministrado en Horario Fuera de Pico | B54: $/kW-mes (pesos por kW-mes) | C54: =C48 -> 0.0339 | D54: =D48 -> 0 | E54: =E48 -> 0.0356 | F54: =F48 -> 0 | G54: =G48 -> 0.0354 | H54: =H48 -> 0 | I54: 0 | J54: 0
A55: Por cada kWh suministrado en Horario de Pico | B55: $/kWh (pesos por kWh) | C55: =C49 -> 0 | D55: =D49 -> 0 | E55: =E49 -> 0 | F55: =F49 -> 0 | G55: =G49 -> 0 | H55: =H49 -> 0 | I55: -79.32261 | J55: 0
A56: Por cada kWh suministrado en Horario de Valle | B56: $/kWh (pesos por kWh) | C56: =C50 -> 0 | D56: =D50 -> 0 | E56: =E50 -> 0 | F56: =F50 -> 0 | G56: =G50 -> 0 | H56: =H50 -> 0 | I56: -76.71732 | J56: 0
A57: Por cada kWh suministrado en Horario de Resto | B57: $/kWh (pesos por kWh) | C57: =C51 -> 0 | D57: =D51 -> 0 | E57: =E51 -> 0 | F57: =F51 -> 0 | G57: =G51 -> 0 | H57: =H51 -> 0 | I57: -77.86741 | J57: 0
A58: Energia destinada a suministros identificados como Alumbrado Publico - CON FACTURACION DE POTENCIA
A59: Por cada kW-mes suministrado en Horario de Pico | B59: $/kW-mes (pesos por kW-mes) | C59: =C47 -> 0.0263 | D59: =D47 -> 0 | E59: =E47 -> 0.0277 | F59: =F47 -> 0 | G59: =G47 -> 0.0275 | H59: =H47 -> 0 | I59: 211.03038 | J59: =BT!J61 -> 0
A60: Por cada kW-mes suministrado en Horario Fuera de Pico | B60: $/kW-mes (pesos por kW-mes) | C60: =C48 -> 0.0339 | D60: =D48 -> 0 | E60: =E48 -> 0.0356 | F60: =F48 -> 0 | G60: =G48 -> 0.0354 | H60: =H48 -> 0 | I60: 114.58768 | J60: =BT!J62 -> 0
A61: Por cada kWh suministrado en Horario de Pico | B61: $/kWh (pesos por kWh) | C61: =C49 -> 0 | D61: =D49 -> 0 | E61: =E49 -> 0 | F61: =F49 -> 0 | G61: =G49 -> 0 | H61: =H49 -> 0 | I61: 1.34178 | J61: =BT!J63 -> 77.19581
A62: Por cada kWh suministrado en Horario de Valle | B62: $/kWh (pesos por kWh) | C62: =C50 -> 0 | D62: =D50 -> 0 | E62: =E50 -> 0 | F62: =F50 -> 0 | G62: =G50 -> 0 | H62: =H50 -> 0 | I62: 1.30322 | J62: =BT!J64 -> 74.60479
A63: Por cada kWh suministrado en Horario de Resto | B63: $/kWh (pesos por kWh) | C63: =C51 -> 0 | D63: =D51 -> 0 | E63: =E51 -> 0 | F63: =F51 -> 0 | G63: =G51 -> 0 | H63: =H51 -> 0 | I63: 1.32023 | J63: =BT!J65 -> 75.74858
A64: Energia destinada a suministros con demanda mayor a 10 Kw y menor a 300 kW. excepto usuarios Residenciales y Alumbrado Publico - CON FACTURACION DE POTENCIA
A65: Por cada kW-mes suministrado en Horario de Pico | B65: $/kW-mes (pesos por kW-mes) | C65: =C47 -> 0.0263 | D65: =D47 -> 0 | E65: =E47 -> 0.0277 | F65: =F47 -> 0 | G65: =G47 -> 0.0275 | H65: =H47 -> 0 | I65: =I59 -> 211.03038 | J65: =J59 -> 0
A66: Por cada kW-mes suministrado en Horario Fuera de Pico | B66: $/kW-mes (pesos por kW-mes) | C66: =C48 -> 0.0339 | D66: =D48 -> 0 | E66: =E48 -> 0.0356 | F66: =F48 -> 0 | G66: =G48 -> 0.0354 | H66: =H48 -> 0 | I66: =I60 -> 114.58768 | J66: =J60 -> 0
A67: Por cada kWh suministrado en Horario de Pico | B67: $/kWh (pesos por kWh) | C67: =C49 -> 0 | D67: =D49 -> 0 | E67: =E49 -> 0 | F67: =F49 -> 0 | G67: =G49 -> 0 | H67: =H49 -> 0 | I67: =I61 -> 1.34178 | J67: =J61 -> 77.19581
A68: Por cada kWh suministrado en Horario de Valle | B68: $/kWh (pesos por kWh) | C68: =C50 -> 0 | D68: =D50 -> 0 | E68: =E50 -> 0 | F68: =F50 -> 0 | G68: =G50 -> 0 | H68: =H50 -> 0 | I68: =I62 -> 1.30322 | J68: =J62 -> 74.60479
A69: Por cada kWh suministrado en Horario de Resto | B69: $/kWh (pesos por kWh) | C69: =C51 -> 0 | D69: =D51 -> 0 | E69: =E51 -> 0 | F69: =F51 -> 0 | G69: =G51 -> 0 | H69: =H51 -> 0 | I69: =I63 -> 1.32023 | J69: =J63 -> 75.74858
A70: Energia destinada a suministros con demanda igual o mayor a 300 Kw - CON FACTURACION DE POTENCIA
A71: Por cada kW-mes suministrado en Horario de Pico | B71: $/kW-mes (pesos por kW-mes) | C71: 0.024 | D71: 0 | E71: 0.0253 | F71: 0 | G71: 0.0251 | H71: 0 | I71: 233.82471 | J71: =J65 -> 0
A72: Por cada kW-mes suministrado en Horario Fuera de Pico | B72: $/kW-mes (pesos por kW-mes) | C72: 0.0339 | D72: 0 | E72: 0.0356 | F72: 0 | G72: 0.0354 | H72: 0 | I72: =I66 -> 114.58768 | J72: =J66 -> 0
A73: Por cada kWh suministrado en Horario de Pico | B73: $/kWh (pesos por kWh) | C73: =C49 -> 0 | D73: 0 | E73: =E49 -> 0 | F73: 0 | G73: =G49 -> 0 | H73: 0 | I73: =I67 -> 1.34178 | J73: =J67 -> 77.19581
A74: Por cada kWh suministrado en Horario de Valle | B74: $/kWh (pesos por kWh) | C74: =C73 -> 0 | D74: 0 | E74: =E73 -> 0 | F74: 0 | G74: =G73 -> 0 | H74: 0 | I74: =I68 -> 1.30322 | J74: =J68 -> 74.60479
A75: Por cada kWh suministrado en Horario de Resto | B75: $/kWh (pesos por kWh) | C75: =C73 -> 0 | D75: 0 | E75: =E73 -> 0 | F75: 0 | G75: =G73 -> 0 | H75: 0 | I75: =I69 -> 1.32023 | J75: =J69 -> 75.74858
A76: Suministros en Media Tension (7620, 13200 y 33000 V)
A77: Energia destinada a suministros con demanda mayor a 10 kW y menor a 300 kW, excepto usuarios Residenciales y Alumbrado Publico - SIN FACTURACION DE POTENCIA
A78: Cargos Fijos | B78: $ (pesos) | C78: =C$13 -> 0.0249 | D78: =D$13 -> 0.0249 | E78: =E$13 -> 0.0249 | F78: =F$13 -> 0.0249 | G78: =G$13 -> 0.0249 | H78: =H$13 -> 0.0249 | I78: 0 | J78: =J41 -> 0
A79: Para la totalidad de los kWh | B79: $/kWh (pesos por kWh) | C79: =C29 -> 0.0131 | D79: =D29 -> 0.0138 | E79: =E29 -> 0.0137 | F79: =F29 -> 0.0148 | G79: =G29 -> 0.0137 | H79: =H29 -> 0.0149 | I79: 2.33303 | J79: 72.12821
A80: Energia destinada a suministros con demanda igual o mayor a 300 kW, SIN FACTURACION DE POTENCIA
A81: Cargos Fijos | B81: $ (pesos) | C81: =C$13 -> 0.0249 | D81: =D$13 -> 0.0249 | E81: =E$13 -> 0.0249 | F81: =F$13 -> 0.0249 | G81: =G$13 -> 0.0249 | H81: =H$13 -> 0.0249 | I81: 0 | J81: =J44 -> 0
A82: Para la totalidad de los kWh | B82: $/kWh (pesos por kWh) | C82: =C29 -> 0.0131 | D82: =D29 -> 0.0138 | E82: =E29 -> 0.0137 | F82: =F29 -> 0.0148 | G82: =G29 -> 0.0137 | H82: =H29 -> 0.0149 | I82: 2.40837 | J82: =J79 -> 72.12821
A83: Energia destinada a suministros con demanda mayor a 10 kW y menor a 300 kW, excepto usuarios Residenciales y Alumbrado Publico - CON FACTURACION DE POTENCIA
A84: Por cada kW-mes suministrado en Horario de Pico | B84: $/kW-mes (pesos por kW-mes) | C84: 0.0142 | D84: 0 | E84: 0.0149 | F84: 0 | G84: 0.0148 | H84: 0 | I84: 211.47818 | J84: =J65 -> 0
A85: Por cada kW-mes suministrado en Horario Fuera de Pico | B85: $/kW-mes (pesos por kW-mes) | C85: 0.0183 | D85: =D84 -> 0 | E85: 0.0192 | F85: =F84 -> 0 | G85: 0.0191 | H85: =H84 -> 0 | I85: 114.83084 | J85: =J66 -> 0
A86: Por cada kWh suministrado en Horario de Pico | B86: $/kWh (pesos por kWh) | C86: 0 | D86: 0 | E86: 0 | F86: 0 | G86: 0 | H86: 0 | I86: 1.27518 | J86: 73.36339
A87: Por cada kWh suministrado en Horario de Valle | B87: $/kWh (pesos por kWh) | C87: =C86 -> 0 | D87: =D86 -> 0 | E87: =E86 -> 0 | F87: =F86 -> 0 | G87: =G86 -> 0 | H87: =H86 -> 0 | I87: 1.23853 | J87: 70.90101
A88: Por cada kWh suministrado en Horario de Resto | B88: $/kWh (pesos por kWh) | C88: =C87 -> 0 | D88: =D87 -> 0 | E88: =E87 -> 0 | F88: =F87 -> 0 | G88: =G87 -> 0 | H88: =H87 -> 0 | I88: 1.2547 | J88: 71.98802
A89: Energia destinada a suministros con demanda mayor a 300 kW, CON FACTURACION DE POTENCIA
A90: Por cada kW-mes suministrado en Horario de Pico | B90: $/kW-mes (pesos por kW-mes) | C90: 0.013 | D90: 0 | E90: 0.0136 | F90: 0 | G90: 0.0135 | H90: 0 | I90: 234.32089 | J90: =J84 -> 0
A91: Por cada kW-mes suministrado en Horario Fuera de Pico | B91: $/kW-mes (pesos por kW-mes) | C91: =C85 -> 0.0183 | D91: =D90 -> 0 | E91: =E85 -> 0.0192 | F91: =F90 -> 0 | G91: 0.0191 | H91: =H90 -> 0 | I91: =I85 -> 114.83084 | J91: =J85 -> 0
A92: Por cada kWh suministrado en Horario de Pico | B92: $/kWh (pesos por kWh) | C92: =C86 -> 0 | D92: 0 | E92: =E86 -> 0 | F92: 0 | G92: =G86 -> 0 | H92: 0 | I92: =I86 -> 1.27518 | J92: =J86 -> 73.36339
A93: Por cada kWh suministrado en Horario de Valle | B93: $/kWh (pesos por kWh) | C93: =C92 -> 0 | D93: =D92 -> 0 | E93: =E92 -> 0 | F93: =F92 -> 0 | G93: =G92 -> 0 | H93: =H92 -> 0 | I93: =I87 -> 1.23853 | J93: =J87 -> 70.90101
A94: Por cada kWh suministrado en Horario de Resto | B94: $/kWh (pesos por kWh) | C94: =C93 -> 0 | D94: =D93 -> 0 | E94: =E93 -> 0 | F94: =F93 -> 0 | G94: =G93 -> 0 | H94: =H93 -> 0 | I94: =I88 -> 1.2547 | J94: =J88 -> 71.98802

Sheet AT
A1: TRASLADO RG ERSeP Nº64/2025 y NOTA ERSeP DEL 13 DE JUNIO DE 2025
A2: CATEGORIA TARIFARIA | B2: UNIDADES | C2: A PARTIR DEL 1 DE JUNIO DE 2025
C3: MODIFICACION CT COOPERATIVA
C4: RG ERSEP 64/2025 | I4: NOTA ERSeP - NUEVO ESTACIONAL Y FAM EPEC 05/2025
I5: MODIFICACION CT MAYO 2025 COOPERATIVA (LUEGO DE APLICAR RG ERSeP Nº64/2025) | J5: TARIFAS PARA GENERACION DISTRIBUIDA
C6: GRUPO "A" - Anexo I | D6: GRUPO "B" - Anexo II | E6: GRUPO "C" - Anexo III | F6: GRUPO "D" - Anexo IV | G6: GRUPO "E" - Anexo V | H6: GRUPO "F" - Anexo VI | I6: ANEXO 1 | J6: ANEXO 4
C7: MODIFICACION POR ACTUALIZACION VAD COOPERATIVAS | I7: INCREMENTO AUTORIZADO POR NUEVO VAD EPEC | J7: VALORES A FACTURAR
A8: Cuadro N°4:
A9: Cooperativas con Compra en Alta Tension (66000 y 132000 V) con Facturacion de Potencia
A10: Suministros en Baja Tension (220 y 380 V)
A11: Energia destinada a suministros Residenciales con demanda menor a 10 kW
A12: NIVEL 1-ALTOS INGRESOS, NIVEL 2 CONSUMO MAYOR A 350 KWH Y NIVEL 3 CONSUMO MAYOR A 250 KWH-VALOR A INCREMENTAR RESPECTO DE LA TARIFA RESIDENCIAL N1 | I12: VALOR A INCREMENTAR RESPECTO DE LA TARIFA RESIDENCIAL N1
A13: Cargos Fijos | B13: $ (pesos) | C13: =BT!C18 -> 0.0249 | D13: =BT!D18 -> 0.0249 | E13: =BT!E18 -> 0.0249 | F13: =BT!F18 -> 0.0249 | G13: =BT!G18 -> 0.0249 | H13: =BT!H18 -> 0.0249 | I13: 0 | J13: =MT!J13 -> 0
A14: Para la totalidad de los kWh | B14: $/kWh (pesos por kWh) | C14: =BT!C19 -> 0.0126 | D14: =BT!D19 -> 0.0133 | E14: =BT!E19 -> 0.0135 | F14: =BT!F19 -> 0.0142 | G14: =BT!G19 -> 0.0134 | H14: =BT!H19 -> 0.0147 | I14: 1.83198 | J14: =MT!J14 -> 75.90217
A15: NIVEL 2 - INGRESOS BAJOS - POR LOS PRIMEROS 350 KWH | I15: VALOR A DESCONTAR RESPECTO DE LA TARIFA RESIDENCIAL N1
A16: Cargos Fijos | B16: $ (pesos) | C16: =BT!C21 -> 0 | D16: =BT!D21 -> 0 | E16: =BT!E21 -> 0 | F16: =BT!F21 -> 0 | G16: =BT!G21 -> 0 | H16: =BT!H21 -> 0 | I16: 0 | J16: =MT!J16 -> 0
A17: Por los primeros 350 kWh | B17: $/kWh (pesos por kWh) | C17: =BT!C22 -> 0 | D17: =BT!D22 -> 0 | E17: =BT!E22 -> 0 | F17: =BT!F22 -> 0 | G17: =BT!G22 -> 0 | H17: =BT!H22 -> 0 | I17: -59.67184 | J17: =MT!J17 -> 26.23234
A18: NIVEL 3 - INGRESOS MEDIOS - POR LOS PRIMEROS 250 KWH | I18: VALOR A DESCONTAR RESPECTO DE LA TARIFA RESIDENCIAL N1
A19: Cargos Fijos | B19: $ (pesos) | C19: 0 | D19: 0 | E19: 0 | F19: 0 | G19: 0 | H19: 0 | I19: 0 | J19: =MT!J19 -> 0
A20: Por los primeros 250 kWh según corresponda | B20: $/kWh (pesos por kWh) | C20: 0 | D20: 0 | E20: 0 | F20: 0 | G20: 0 | H20: 0 | I20: -46.19643 | J20: =MT!J20 -> 37.44904
A21: Para Usuarios ELECTRODEPENDIENTES SEGÚN LEY NACIONAL Nº 27351 (diferencial aplicable respecto de la tarifa resultante para Usuarios Residenciales Nivel 2) | I21: VALOR A DESCONTAR RESPECTO DE LA TARIFA RESIDENCIAL N2
A22: Cargos Fijos | B22: $ (pesos) | C22: 0 | D22: 0 | E22: 0 | F22: 0 | G22: 0 | H22: 0 | I22: 0
A23: Para la totalidad de los kWh, cuando no se registre y/o facture potencia | B23: $/kWh (pesos por kWh) | C23: 0 | D23: 0 | E23: 0 | F23: 0 | G23: 0 | H23: 0 | I23: -27.92494
A24: Para Usuarios ELECTRODEPENDIENTES SEGÚN LEY PROVINCIAL Nº 10511 (corresponde aplicar gratuidad del servicio) | I24: TARIFA FINAL A APLICAR POR TODO EL CONSUMO
A25: Cargos Fijos | B25: $ (pesos) | C25: 0 | D25: 0 | E25: 0 | F25: 0 | G25: 0 | H25: 0 | I25: 0
A26: Para la totalidad de los kWh, cuando no se registre y/o facture potencia | B26: $/kWh (pesos por kWh) | C26: 0 | D26: 0 | E26: 0 | F26: 0 | G26: 0 | H26: 0 | I26: 0
A27: Suministros a Clubes de Barrio y de Pueblo (diferencial aplicable respecto de la categoría disponible en el Cuadro Tarifario de la Prestadora, solo en caso que el respectivo Club/Entidad sea informado por el MINISTERIO DE TURISMO Y DEPORTES o el área que éste disponga, de conformidad con la Resolución SE Nº 742/2022) - SIN FACTURACION DE POTENCIA
A28: Cargos Fijos | B28: $ (pesos) | C28: =$C$13 -> 0.0249 | D28: =D$13 -> 0.0249 | E28: =E$13 -> 0.0249 | F28: =F$13 -> 0.0249 | G28: =G$13 -> 0.0249 | H28: =H$13 -> 0.0249 | I28: 0 | J28: =MT!J28 -> 0
A29: Para la totalidad de los kWh, cuando no se registre y/o facture potencia | B29: $/kWh (pesos por kWh) | C29: =BT!C34 -> 0.0131 | D29: =BT!D34 -> 0.0138 | E29: =BT!E34 -> 0.0137 | F29: =BT!F34 -> 0.0148 | G29: =BT!G34 -> 0.0137 | H29: =BT!H34 -> 0.0149 | I29: -49.66674 | J29: =MT!J29 -> 26.23044
A30: Suministros a entidades integrantes del Sistema Nacional de Bomberos Voluntarios (diferencial aplicable respecto de la categoría disponible en el Cuadro Tarifario de la Prestadora, según Res. SE 161/2023) - SIN FACTURACION DE POTENCIA
A31: Cargos Fijos | B31: $ (pesos) | C31: =$C$13 -> 0.0249 | D31: =D$13 -> 0.0249 | E31: =E$13 -> 0.0249 | F31: =F$13 -> 0.0249 | G31: =G$13 -> 0.0249 | H31: =H$13 -> 0.0249 | I31: 0 | J31: =MT!J31 -> 0
A32: Para la totalidad de los kWh, cuando no se registre y/o facture potencia | B32: $/kWh (pesos por kWh) | C32: =C29 -> 0.0131 | D32: =D29 -> 0.0138 | E32: =E29 -> 0.0137 | F32: =F29 -> 0.0148 | G32: =G29 -> 0.0137 | H32: =H29 -> 0.0149 | I32: -77.58978 | J32: =MT!J32 -> 0
A33: Energia destinada a suministros identificados como Alumbrado Publico - SIN FACTURACION DE POTENCIA
A34: Cargos Fijos | B34: $ (pesos) | C34: =$C$13 -> 0.0249 | D34: =D$13 -> 0.0249 | E34: =E$13 -> 0.0249 | F34: =F$13 -> 0.0249 | G34: =G$13 -> 0.0249 | H34: =H$13 -> 0.0249 | I34: 0 | J34: =MT!J34 -> 0
A35: Para la totalidad de los kWh, cuando no se registre y/o facture potencia | B35: $/kWh (pesos por kWh) | C35: =C29 -> 0.0131 | D35: =D29 -> 0.0138 | E35: =E29 -> 0.0137 | F35: =F29 -> 0.0148 | G35: =G29 -> 0.0137 | H35: =H29 -> 0.0149 | I35: 1.80636 | J35: =MT!J35 -> 75.60556
A36: Energia destinada a suministros Generales con demanda menor o igual a 10 kW, excepto usuarios Residenciales y Alumbrado Publico
A37: Cargos Fijos | B37: $ (pesos) | C37: =$C$13 -> 0.0249 | D37: =D$13 -> 0.0249 | E37: =E$13 -> 0.0249 | F37: =F$13 -> 0.0249 | G37: =G$13 -> 0.0249 | H37: =H$13 -> 0.0249 | I37: 0 | J37: =MT!J37 -> 0
A38: Por cada kWh hasta 800 kWh mensuales | B38: $/kWh (pesos por kWh) | C38: =C29 -> 0.0131 | D38: =D29 -> 0.0138 | E38: =E29 -> 0.0137 | F38: =F29 -> 0.0148 | G38: =G29 -> 0.0137 | H38: =H29 -> 0.0149 | I38: 1.918 | J38: =MT!J38 -> 75.8961
A39: Por cada kWh excedente de 800 kWh mensuales | B39: $/kWh (pesos por kWh) | C39: =C29 -> 0.0131 | D39: =D29 -> 0.0138 | E39: =E29 -> 0.0137 | F39: =F29 -> 0.0148 | G39: =G29 -> 0.0137 | H39: =H29 -> 0.0149 | I39: =I38 -> 1.918 | J39: =MT!J39 -> 75.8961
A40: Energia destinada a suministros con demanda mayor a 10 Kw y menor a 300 kW, excepto usuarios Residenciales y Alumbrado Publico - SIN FACTURACION DE POTENCIA
A41: Cargos Fijos | B41: $ (pesos) | C41: =$C$13 -> 0.0249 | D41: =D$13 -> 0.0249 | E41: =E$13 -> 0.0249 | F41: =F$13 -> 0.0249 | G41: =G$13 -> 0.0249 | H41: =H$13 -> 0.0249 | I41: 0 | J41: =MT!J41 -> 0
A42: Para la totalidad de los kWh | B42: $/kWh (pesos por kWh) | C42: =C29 -> 0.0131 | D42: =D29 -> 0.0138 | E42: =E29 -> 0.0137 | F42: =F29 -> 0.0148 | G42: =G29 -> 0.0137 | H42: =H29 -> 0.0149 | I42: =I39 -> 1.918 | J42: =MT!J42 -> 75.8961
A43: Energia destinada a suministros con demanda igual o mayor a 300 kW, SIN FACTURACION DE POTENCIA
A44: Cargos Fijos | B44: $ (pesos) | C44: =$C$13 -> 0.0249 | D44: =D$13 -> 0.0249 | E44: =E$13 -> 0.0249 | F44: =F$13 -> 0.0249 | G44: =G$13 -> 0.0249 | H44: =H$13 -> 0.0249 | I44: 0 | J44: =MT!J44 -> 0
A45: Para la totalidad de los kWh | B45: $/kWh (pesos por kWh) | C45: =C29 -> 0.0131 | D45: =D29 -> 0.0138 | E45: =E29 -> 0.0137 | F45: =F29 -> 0.0148 | G45: =G29 -> 0.0137 | H45: =H29 -> 0.0149 | I45: 1.9312 | J45: =MT!J45 -> 75.8961
A46: Suministros a Clubes de Barrio y de Pueblo (diferencial aplicable respecto de la categoría disponible en el Cuadro Tarifario de la Prestadora, solo en caso que el respectivo Club/Entidad sea informado por el MINISTERIO DE TURISMO Y DEPORTES o el área que éste disponga, de conformidad con la Resolución SE Nº 742/2022) - CON FACTURACION DE POTENCIA
A47: Por cada kW-mes suministrado en Horario de Pico | B47: $/kW-mes (pesos por kW-mes) | C47: =BT!C49 -> 0.0263 | D47: =BT!D49 -> 0 | E47: =BT!E49 -> 0.0277 | F47: =BT!F49 -> 0 | G47: =BT!G49 -> 0.0275 | H47: =BT!H49 -> 0 | I47: 0 | J47: =MT!J47 -> 0
A48: Por cada kW-mes suministrado en Horario Fuera de Pico | B48: $/kW-mes (pesos por kW-mes) | C48: =BT!C50 -> 0.0339 | D48: =BT!D50 -> 0 | E48: =BT!E50 -> 0.0356 | F48: =BT!F50 -> 0 | G48: =BT!G50 -> 0.0354 | H48: =BT!H50 -> 0 | I48: 0 | J48: =MT!J48 -> 0
A49: Por cada kWh suministrado en Horario de Pico | B49: $/kWh (pesos por kWh) | C49: =BT!C51 -> 0 | D49: =BT!D51 -> 0 | E49: =BT!E51 -> 0 | F49: =BT!F51 -> 0 | G49: =BT!G51 -> 0 | H49: =BT!H51 -> 0 | I49: -50.56057 | J49: =MT!J49 -> 26.63634
A50: Por cada kWh suministrado en Horario de Valle | B50: $/kWh (pesos por kWh) | C50: =BT!C52 -> 0 | D50: =BT!D52 -> 0 | E50: =BT!E52 -> 0 | F50: =BT!F52 -> 0 | G50: =BT!G52 -> 0 | H50: =BT!H52 -> 0 | I50: -48.77868 | J50: =MT!J50 -> 25.82717
A51: Por cada kWh suministrado en Horario de Resto | B51: $/kWh (pesos por kWh) | C51: =BT!C53 -> 0 | D51: =BT!D53 -> 0 | E51: =BT!E53 -> 0 | F51: =BT!F53 -> 0 | G51: =BT!G53 -> 0 | H51: =BT!H53 -> 0 | I51: -49.56528 | J51: =MT!J51 -> 26.18437
A52: Suministros a entidades integrantes del Sistema Nacional de Bomberos Voluntarios (diferencial aplicable respecto de la categoría disponible en el Cuadro Tarifario de la Prestadora, según Res. SE 161/2023) - CON FACTURACION DE POTENCIA
A53: Por cada kW-mes suministrado en Horario de Pico | B53: $/kW-mes (pesos por kW-mes) | C53: =C47 -> 0.0263 | D53: =D47 -> 0 | E53: =E47 -> 0.0277 | F53: =F47 -> 0 | G53: =G47 -> 0.0275 | H53: =H47 -> 0 | I53: 0 | J53: =MT!J53 -> 0
A54: Por cada kW-mes suministrado en Horario Fuera de Pico | B54: $/kW-mes (pesos por kW-mes) | C54: =C48 -> 0.0339 | D54: =D48 -> 0 | E54: =E48 -> 0.0356 | F54: =F48 -> 0 | G54: =G48 -> 0.0354 | H54: =H48 -> 0 | I54: 0 | J54: =MT!J54 -> 0
A55: Por cada kWh suministrado en Horario de Pico | B55: $/kWh (pesos por kWh) | C55: =C49 -> 0 | D55: =D49 -> 0 | E55: =E49 -> 0 | F55: =F49 -> 0 | G55: =G49 -> 0 | H55: =H49 -> 0 | I55: -78.88952 | J55: =MT!J55 -> 0
A56: Por cada kWh suministrado en Horario de Valle | B56: $/kWh (pesos por kWh) | C56: =C50 -> 0 | D56: =D50 -> 0 | E56: =E50 -> 0 | F56: =F50 -> 0 | G56: =G50 -> 0 | H56: =H50 -> 0 | I56: -76.29844 | J56: =MT!J56 -> 0
A57: Por cada kWh suministrado en Horario de Resto | B57: $/kWh (pesos por kWh) | C57: =C51 -> 0 | D57: =D51 -> 0 | E57: =E51 -> 0 | F57: =F51 -> 0 | G57: =G51 -> 0 | H57: =H51 -> 0 | I57: -77.44225 | J57: =MT!J57 -> 0
A58: Energia destinada a suministros identificados como Alumbrado Publico - CON FACTURACION DE POTENCIA
A59: Por cada kW-mes suministrado en Horario de Pico | B59: $/kW-mes (pesos por kW-mes) | C59: =C47 -> 0.0263 | D59: =D47 -> 0 | E59: =E47 -> 0.0277 | F59: =F47 -> 0 | G59: =G47 -> 0.0275 | H59: =H47 -> 0 | I59: 138.30378 | J59: =MT!J59 -> 0
A60: Por cada kW-mes suministrado en Horario Fuera de Pico | B60: $/kW-mes (pesos por kW-mes) | C60: =C48 -> 0.0339 | D60: =D48 -> 0 | E60: =E48 -> 0.0356 | F60: =F48 -> 0 | G60: =G48 -> 0.0354 | H60: =H48 -> 0 | I60: 48.92905 | J60: =MT!J60 -> 0
A61: Por cada kWh suministrado en Horario de Pico | B61: $/kWh (pesos por kWh) | C61: =C49 -> 0 | D61: =D49 -> 0 | E61: =E49 -> 0 | F61: =F49 -> 0 | G61: =G49 -> 0 | H61: =H49 -> 0 | I61: 1.33446 | J61: =MT!J61 -> 77.19581
A62: Por cada kWh suministrado en Horario de Valle | B62: $/kWh (pesos por kWh) | C62: =C50 -> 0 | D62: =D50 -> 0 | E62: =E50 -> 0 | F62: =F50 -> 0 | G62: =G50 -> 0 | H62: =H50 -> 0 | I62: 1.2961 | J62: =MT!J62 -> 74.60479
A63: Por cada kWh suministrado en Horario de Resto | B63: $/kWh (pesos por kWh) | C63: =C51 -> 0 | D63: =D51 -> 0 | E63: =E51 -> 0 | F63: =F51 -> 0 | G63: =G51 -> 0 | H63: =H51 -> 0 | I63: 1.31302 | J63: =MT!J63 -> 75.74858
A64: Energia destinada a suministros con demanda mayor a 10 Kw y menor a 300 kW, excepto usuarios Residenciales y Alumbrado Publico - CON FACTURACION DE POTENCIA
A65: Por cada kW-mes suministrado en Horario de Pico | B65: $/kW-mes (pesos por kW-mes) | C65: =C47 -> 0.0263 | D65: =D47 -> 0 | E65: =E47 -> 0.0277 | F65: =F47 -> 0 | G65: =G47 -> 0.0275 | H65: =H47 -> 0 | I65: =I59 -> 138.30378 | J65: =MT!J65 -> 0
A66: Por cada kW-mes suministrado en Horario Fuera de Pico | B66: $/kW-mes (pesos por kW-mes) | C66: =C48 -> 0.0339 | D66: =D48 -> 0 | E66: =E48 -> 0.0356 | F66: =F48 -> 0 | G66: =G48 -> 0.0354 | H66: =H48 -> 0 | I66: =I60 -> 48.92905 | J66: =MT!J66 -> 0
A67: Por cada kWh suministrado en Horario de Pico | B67: $/kWh (pesos por kWh) | C67: =C49 -> 0 | D67: =D49 -> 0 | E67: =E49 -> 0 | F67: =F49 -> 0 | G67: =G49 -> 0 | H67: =H49 -> 0 | I67: =I61 -> 1.33446 | J67: =MT!J67 -> 77.19581
A68: Por cada kWh suministrado en Horario de Valle | B68: $/kWh (pesos por kWh) | C68: =C50 -> 0 | D68: =D50 -> 0 | E68: =E50 -> 0 | F68: =F50 -> 0 | G68: =G50 -> 0 | H68: =H50 -> 0 | I68: =I62 -> 1.2961 | J68: =MT!J68 -> 74.60479
A69: Por cada kWh suministrado en Horario de Resto | B69: $/kWh (pesos por kWh) | C69: =C51 -> 0 | D69: =D51 -> 0 | E69: =E51 -> 0 | F69: =F51 -> 0 | G69: =G51 -> 0 | H69: =H51 -> 0 | I69: =I63 -> 1.31302 | J69: =MT!J69 -> 75.74858
A70: Energia destinada a suministros con demanda igual o mayor a 300 Kw - CON FACTURACION DE POTENCIA
A71: Por cada kW-mes suministrado en Horario de Pico | B71: $/kW-mes (pesos por kW-mes) | C71: =MT!C71 -> 0.024 | D71: =MT!D71 -> 0 | E71: =MT!E71 -> 0.0253 | F71: =MT!F71 -> 0 | G71: =MT!G71 -> 0.0251 | H71: =MT!H71 -> 0 | I71: 142.4028 | J71: =MT!J71 -> 0
A72: Por cada kW-mes suministrado en Horario Fuera de Pico | B72: $/kW-mes (pesos por kW-mes) | C72: =MT!C72 -> 0.0339 | D72: =MT!D72 -> 0 | E72: =MT!E72 -> 0.0356 | F72: =MT!F72 -> 0 | G72: =MT!G72 -> 0.0354 | H72: =MT!H72 -> 0 | I72: =I66 -> 48.92905 | J72: =MT!J72 -> 0
A73: Por cada kWh suministrado en Horario de Pico | B73: $/kWh (pesos por kWh) | C73: =MT!C73 -> 0 | D73: =MT!D73 -> 0 | E73: =MT!E73 -> 0 | F73: =MT!F73 -> 0 | G73: =MT!G73 -> 0 | H73: =MT!H73 -> 0 | I73: =I67 -> 1.33446 | J73: =MT!J73 -> 77.19581
A74: Por cada kWh suministrado en Horario de Valle | B74: $/kWh (pesos por kWh) | C74: =MT!C74 -> 0 | D74: =MT!D74 -> 0 | E74: =MT!E74 -> 0 | F74: =MT!F74 -> 0 | G74: =MT!G74 -> 0 | H74: =MT!H74 -> 0 | I74: =I68 -> 1.2961 | J74: =MT!J74 -> 74.60479
A75: Por cada kWh suministrado en Horario de Resto | B75: $/kWh (pesos por kWh) | C75: =MT!C75 -> 0 | D75: =MT!D75 -> 0 | E75: =MT!E75 -> 0 | F75: =MT!F75 -> 0 | G75: =MT!G75 -> 0 | H75: =MT!H75 -> 0 | I75: =I69 -> 1.31302 | J75: =MT!J75 -> 75.74858
A76: Suministros en Media Tension (7620, 13200 y 33000 V)
A77: Energia destinada a suministros con demanda mayor a 10 kW y menor a 300 kW, excepto usuarios Residenciales y Alumbrado Publico - SIN FACTURACION DE POTENCIA
A78: Cargos Fijos | B78: $ (pesos) | C78: =$C$13 -> 0.0249 | D78: =D$13 -> 0.0249 | E78: =E$13 -> 0.0249 | F78: =F$13 -> 0.0249 | G78: =G$13 -> 0.0249 | H78: =H$13 -> 0.0249 | I78: 0 | J78: =J41 -> 0
A79: Para la totalidad de los kWh | B79: $/kWh (pesos por kWh) | C79: =C29 -> 0.0131 | D79: =D29 -> 0.0138 | E79: =E29 -> 0.0137 | F79: =F29 -> 0.0148 | G79: =G29 -> 0.0137 | H79: =H29 -> 0.0149 | I79: 1.8773 | J79: =MT!J79 -> 72.12821
A80: Energia destinada a suministros con demanda igual o mayor a 300 kW, SIN FACTURACION DE POTENCIA
A81: Cargos Fijos | B81: $ (pesos) | C81: =$C$13 -> 0.0249 | D81: =D$13 -> 0.0249 | E81: =E$13 -> 0.0249 | F81: =F$13 -> 0.0249 | G81: =G$13 -> 0.0249 | H81: =H$13 -> 0.0249 | I81: 0 | J81: =J44 -> 0
A82: Para la totalidad de los kWh | B82: $/kWh (pesos por kWh) | C82: =C29 -> 0.0131 | D82: =D29 -> 0.0138 | E82: =E29 -> 0.0137 | F82: =F29 -> 0.0148 | G82: =G29 -> 0.0137 | H82: =H29 -> 0.0149 | I82: 1.89103 | J82: =MT!J82 -> 72.12821
A83: Energia destinada a suministros con demanda mayor a 10 kW y menor a 300 kW, excepto usuarios Residenciales y Alumbrado Publico - CON FACTURACION DE POTENCIA
A84: Por cada kW-mes suministrado en Horario de Pico | B84: $/kW-mes (pesos por kW-mes) | C84: =MT!C84 -> 0.0142 | D84: =MT!D84 -> 0 | E84: =MT!E84 -> 0.0149 | F84: =MT!F84 -> 0 | G84: =MT!G84 -> 0.0148 | H84: =MT!H84 -> 0 | I84: 139.54259 | J84: =MT!J84 -> 0
A85: Por cada kW-mes suministrado en Horario Fuera de Pico | B85: $/kW-mes (pesos por kW-mes) | C85: =MT!C85 -> 0.0183 | D85: =MT!D85 -> 0 | E85: =MT!E85 -> 0.0192 | F85: =MT!F85 -> 0 | G85: =MT!G85 -> 0.0191 | H85: =MT!H85 -> 0 | I85: 49.36731 | J85: =MT!J85 -> 0
A86: Por cada kWh suministrado en Horario de Pico | B86: $/kWh (pesos por kWh) | C86: =MT!C86 -> 0 | D86: =MT!D86 -> 0 | E86: =MT!E86 -> 0 | F86: =MT!F86 -> 0 | G86: =MT!G86 -> 0 | H86: =MT!H86 -> 0 | I86: 1.26818 | J86: =MT!J86 -> 73.36339
A87: Por cada kWh suministrado en Horario de Valle | B87: $/kWh (pesos por kWh) | C87: =MT!C87 -> 0 | D87: =MT!D87 -> 0 | E87: =MT!E87 -> 0 | F87: =MT!F87 -> 0 | G87: =MT!G87 -> 0 | H87: =MT!H87 -> 0 | I87: 1.23172 | J87: =MT!J87 -> 70.90101
A88: Por cada kWh suministrado en Horario de Resto | B88: $/kWh (pesos por kWh) | C88: =MT!C88 -> 0 | D88: =MT!D88 -> 0 | E88: =MT!E88 -> 0 | F88: =MT!F88 -> 0 | G88: =MT!G88 -> 0 | H88: =MT!H88 -> 0 | I88: 1.2478 | J88: =MT!J88 -> 71.98802
A89: Energia destinada a suministros con demanda mayor a 300 kW, CON FACTURACION DE POTENCIA
A90: Por cada kW-mes suministrado en Horario de Pico | B90: $/kW-mes (pesos por kW-mes) | C90: =MT!C90 -> 0.013 | D90: =MT!D90 -> 0 | E90: =MT!E90 -> 0.0136 | F90: =MT!F90 -> 0 | G90: =MT!G90 -> 0.0135 | H90: =MT!H90 -> 0 | I90: 143.67832 | J90: =MT!J90 -> 0
A91: Por cada kW-mes suministrado en Horario Fuera de Pico | B91: $/kW-mes (pesos por kW-mes) | C91: =MT!C91 -> 0.0183 | D91: =MT!D91 -> 0 | E91: =MT!E91 -> 0.0192 | F91: =MT!F91 -> 0 | G91: =MT!G91 -> 0.0191 | H91: =MT!H91 -> 0 | I91: =I85 -> 49.36731 | J91: =MT!J91 -> 0
A92: Por cada kWh suministrado en Horario de Pico | B92: $/kWh (pesos por kWh) | C92: =MT!C92 -> 0 | D92: =MT!D92 -> 0 | E92: =MT!E92 -> 0 | F92: =MT!F92 -> 0 | G92: =MT!G92 -> 0 | H92: =MT!H92 -> 0 | I92: =I86 -> 1.26818 | J92: =MT!J92 -> 73.36339
A93: Por cada kWh suministrado en Horario de Valle | B93: $/kWh (pesos por kWh) | C93: =MT!C93 -> 0 | D93: =MT!D93 -> 0 | E93: =MT!E93 -> 0 | F93: =MT!F93 -> 0 | G93: =MT!G93 -> 0 | H93: =MT!H93 -> 0 | I93: =I87 -> 1.23172 | J93: =MT!J93 -> 70.90101
A94: Por cada kWh suministrado en Horario de Resto | B94: $/kWh (pesos por kWh) | C94: =MT!C94 -> 0 | D94: =MT!D94 -> 0 | E94: =MT!E94 -> 0 | F94: =MT!F94 -> 0 | G94: =MT!G94 -> 0 | H94: =MT!H94 -> 0 | I94: =I88 -> 1.2478 | J94: =MT!J94 -> 71.98802
A95: Suministros en Alta Tension (66000 y 132000 V)
A96: Energia destinada a suministros con demanda mayor a 10 kW y menor a 300 kW, excepto usuarios Residenciales y Alumbrado Publico - CON FACTURACION DE POTENCIA
A97: Por cada kW-mes suministrado en Horario de Pico | B97: $/kW-mes (pesos por kW-mes) | C97: 0.0093 | D97: 0 | E97: 0.0098 | F97: 0 | G97: 0.0097 | H97: 0 | I97: 143.47407 | J97: 0
A98: Por cada kW-mes suministrado en Horario Fuera de Pico | B98: $/kW-mes (pesos por kW-mes) | C98: 0.012 | D98: =D97 -> 0 | E98: 0.0126 | F98: =F97 -> 0 | G98: 0.0125 | H98: =H97 -> 0 | I98: 50.75819 | J98: 0
A99: Por cada kWh suministrado en Horario de Pico | B99: $/kWh (pesos por kWh) | C99: 0 | D99: 0 | E99: 0 | F99: 0 | G99: 0 | H99: 0 | I99: 1.21613 | J99: 70.35221
A100: Por cada kWh suministrado en Horario de Valle | B100: $/kWh (pesos por kWh) | C100: =C99 -> 0 | D100: =D99 -> 0 | E100: =E99 -> 0 | F100: =F99 -> 0 | G100: =G99 -> 0 | H100: =H99 -> 0 | I100: 1.18117 | J100: 67.99089
...
