Workbook

Sheet BT
A1: TRASLADO RG ERSeP Nº64/2025 y NOTA ERSeP DEL 13 DE JUNIO DE 2025
A2: CATEGORIA TARIFARIA | B2: UNIDADES | C2: A PARTIR DEL 1 DE JUNIO DE 2025
C3: MODIFICACION CT COOPERATIVA
C4: RG ERSEP 64/2025 | I4: NOTA ERSeP - NUEVO ESTACIONAL Y FAM EPEC 05/2025
I5: MODIFICACION CT MAYO 2025 COOPERATIVA (LUEGO DE APLICAR RG ERSeP Nº64/2025) | J5: TARIFAS PARA GENERACION DISTRIBUIDA
C6: GRUPO "A" - Anexo I | D6: GRUPO "B" - Anexo II | E6: GRUPO "C" - Anexo III | F6: GRUPO "D" - Anexo IV | G6: GRUPO "E" - Anexo V | H6: GRUPO "F" - Anexo VI | I6: ANEXO 1 | J6: ANEXO 4
C7: MODIFICACION POR ACTUALIZACION VAD COOPERATIVAS | I7: INCREMENTO AUTORIZADO POR NUEVO VAD EPEC | J7: VALORES A FACTURAR
A8: Cuadro N° 1:
A9: Cooperativas con Compra en Baja Tensión sin Facturación de Potencia
A10: Suministros en Baja Tension (220 y 380 V) sin Facturacion de Potencia
A11: Por cada kWh suministrado | B11: $/kWh (pesos por kWh) | I11: 3.74399 | J11: 75.90217
A13: Cuadro N° 2:
A14: Cooperativas con Compra en Baja Tension (220 y 380 V) con Facturación de Potencia
A15: Suministros en Baja Tension (220 y 380 V)
A16: Energia destinada a suministros Residenciales con demanda menor a 10 kW
A17: NIVEL 1-ALTOS INGRESOS, NIVEL 2 CONSUMO MAYOR A 350 KWH Y NIVEL 3 CONSUMO MAYOR A 250 KWH-VALOR A INCREMENTAR RESPECTO DE LA TARIFA RESIDENCIAL N1 | I17: VALOR A INCREMENTAR RESPECTO DE LA TARIFA RESIDENCIAL N1
A18: Cargos Fijos | B18: $ (pesos) | C18: 0.0249 | D18: =$C$18 -> 0.0249 | E18: =$C$18 -> 0.0249 | F18: =$C$18 -> 0.0249 | G18: =$C$18 -> 0.0249 | H18: =$C$18 -> 0.0249 | I18: 0 | J18: 0
A19: Para la totalidad de los kWh | B19: $/kWh (pesos por kWh) | C19: 0.0126 | D19: 0.0133 | E19: 0.0135 | F19: 0.0142 | G19: 0.0134 | H19: 0.0147 | I19: 2.45883 | J19: 75.90217
A20: NIVEL 2 - INGRESOS BAJOS - POR LOS PRIMEROS 350 KWH | I20: VALOR A DESCONTAR RESPECTO DE LA TARIFA RESIDENCIAL N1
A21: Cargos Fijos | B21: $ (pesos) | C21: 0 | D21: 0 | E21: 0 | F21: 0 | G21: 0 | H21: 0 | I21: 0 | J21: 0
A22: Por los primeros 350 kWh | B22: $/kWh (pesos por kWh) | C22: 0 | D22: 0 | E22: 0 | F22: 0 | G22: 0 | H22: 0 | I22: -58.23209 | J22: 26.23234
A23: NIVEL 3 - INGRESOS MEDIOS - POR LOS PRIMEROS 250 KWH | I23: VALOR A DESCONTAR RESPECTO DE LA TARIFA RESIDENCIAL N1
A24: Cargos Fijos | B24: $ (pesos) | C24: 0 | D24: 0 | E24: 0 | F24: 0 | G24: 0 | H24: 0 | I24: 0 | J24: 0
A25: Por los primeros 250 kWh según corresponda | B25: $/kWh (pesos por kWh) | C25: 0 | D25: 0 | E25: 0 | F25: 0 | G25: 0 | H25: 0 | I25: -45.08181 | J25: 37.44904
A26: Para Usuarios ELECTRODEPENDIENTES SEGÚN LEY NACIONAL Nº 27351 (diferencial aplicable respecto de la tarifa resultante para Usuarios Residenciales Nivel 2) | I26: VALOR A DESCONTAR RESPECTO DE LA TARIFA RESIDENCIAL N2
A27: Cargos Fijos | B27: $ (pesos) | C27: 0 | D27: 0 | E27: 0 | F27: 0 | G27: 0 | H27: 0 | I27: 0
A28: Para la totalidad de los kWh, cuando no se registre y/o facture potencia | B28: $/kWh (pesos por kWh) | C28: 0 | D28: 0 | E28: 0 | F28: 0 | G28: 0 | H28: 0 | I28: -28.08215
A29: Para Usuarios ELECTRODEPENDIENTES SEGÚN LEY PROVINCIAL Nº 10511 (corresponde aplicar gratuidad del servicio) | I29: TARIFA FINAL A APLICAR POR TODO EL CONSUMO
A30: Cargos Fijos | B30: $ (pesos) | C30: 0 | D30: 0 | E30: 0 | F30: 0 | G30: 0 | H30: 0 | I30: 0
A31: Para la totalidad de los kWh, cuando no se registre y/o facture potencia | B31: $/kWh (pesos por kWh) | C31: 0 | D31: 0 | E31: 0 | F31: 0 | G31: 0 | H31: 0 | I31: 0
A32: Suministros a Clubes de Barrio y de Pueblo (diferencial aplicable respecto de la categoría disponible en el Cuadro Tarifario de la Prestadora, solo en caso que el respectivo Club/Entidad sea informado por el MINISTERIO DE TURISMO Y DEPORTES o el área que éste disponga, de conformidad con la Resolución SE Nº 742/2022) - SIN FACTURACION DE POTENCIA
A33: Cargos Fijos | B33: $ (pesos) | C33: =C$18 -> 0.0249 | D33: =D$18 -> 0.0249 | E33: =E$18 -> 0.0249 | F33: =F$18 -> 0.0249 | G33: =G$18 -> 0.0249 | H33: =H$18 -> 0.0249 | I33: 0 | J33: 0
A34: Para la totalidad de los kWh, cuando no se registre y/o facture potencia | B34: $/kWh (pesos por kWh) | C34: 0.0131 | D34: 0.0138 | E34: 0.0137 | F34: 0.0148 | G34: 0.0137 | H34: 0.0149 | I34: -49.94633 | J34: 26.23044
A35: Suministros a entidades integrantes del Sistema Nacional de Bomberos Voluntarios (diferencial aplicable respecto de la categoría disponible en el Cuadro Tarifario de la Prestadora, según Res. SE 161/2023) - SIN FACTURACION DE POTENCIA
A36: Cargos Fijos | B36: $ (pesos) | C36: =C$18 -> 0.0249 | D36: =D$18 -> 0.0249 | E36: =E$18 -> 0.0249 | F36: =F$18 -> 0.0249 | G36: =G$18 -> 0.0249 | H36: =H$18 -> 0.0249 | I36: 0 | J36: 0
A37: Para la totalidad de los kWh, cuando no se registre y/o facture potencia | B37: $/kWh (pesos por kWh) | C37: =C34 -> 0.0131 | D37: =D34 -> 0.0138 | E37: =E34 -> 0.0137 | F37: =F34 -> 0.0148 | G37: =G34 -> 0.0137 | H37: =H34 -> 0.0149 | I37: -78.02658 | J37: 0
A38: Energia destinada a suministros identificados como Alumbrado Publico - SIN FACTURACION DE POTENCIA
A39: Cargos Fijos | B39: $ (pesos) | C39: =C$18 -> 0.0249 | D39: =D$18 -> 0.0249 | E39: =E$18 -> 0.0249 | F39: =F$18 -> 0.0249 | G39: =G$18 -> 0.0249 | H39: =H$18 -> 0.0249 | I39: 0 | J39: 0
A40: Para la totalidad de los kWh, cuando no se registre y/o facture potencia | B40: $/kWh (pesos por kWh) | C40: =C34 -> 0.0131 | D40: =D34 -> 0.0138 | E40: =E34 -> 0.0137 | F40: =F34 -> 0.0148 | G40: =G34 -> 0.0137 | H40: =H34 -> 0.0149 | I40: 2.40773 | J40: 75.60556
A41: Energia destinada a suministros Generales con demanda menor o igual a 10 kW. excepto usuarios Residenciales y Alumbrado Publico
...

Sheet MT
A1: TRASLADO RG ERSeP Nº64/2025 y NOTA ERSeP DEL 13 DE JUNIO DE 2025
A2: CATEGORIA TARIFARIA | B2: UNIDADES | C2: A PARTIR DEL 1 DE JUNIO DE 2025
C3: MODIFICACION CT COOPERATIVA
C4: RG ERSEP 64/2025 | I4: NOTA ERSeP - NUEVO ESTACIONAL Y FAM EPEC 05/2025
I5: MODIFICACION CT MAYO 2025 COOPERATIVA (LUEGO DE APLICAR RG ERSeP Nº64/2025) | J5: TARIFAS PARA GENERACION DISTRIBUIDA
C6: GRUPO "A" - Anexo I | D6: GRUPO "B" - Anexo II | E6: GRUPO "C" - Anexo III | F6: GRUPO "D" - Anexo IV | G6: GRUPO "E" - Anexo V | H6: GRUPO "F" - Anexo VI | I6: ANEXO 1 | J6: ANEXO 4
C7: MODIFICACION POR ACTUALIZACION VAD COOPERATIVAS | I7: INCREMENTO AUTORIZADO POR NUEVO VAD EPEC | J7: VALORES A FACTURAR
A8: Cuadro N° 3:
A9: Cooperativas con Compra en Media Tension (13200 y 33000 V) con Facturacion de Potencia
A10: SUMINISTROS EN BAJA TENSION (220 y 380 V)
A11: Energia destinada a suministros Residenciales con demanda menor a 10 kW
A12: NIVEL 1-ALTOS INGRESOS, NIVEL 2 CONSUMO MAYOR A 350 KWH Y NIVEL 3 CONSUMO MAYOR A 250 KWH-VALOR A INCREMENTAR RESPECTO DE LA TARIFA RESIDENCIAL N1 | I12: VALOR A INCREMENTAR RESPECTO DE LA TARIFA RESIDENCIAL N1
A13: Cargos Fijos | B13: $ (pesos) | C13: =BT!C18 -> 0.0249 | D13: =BT!D18 -> 0.0249 | E13: =BT!E18 -> 0.0249 | F13: =BT!F18 -> 0.0249 | G13: =BT!G18 -> 0.0249 | H13: =BT!H18 -> 0.0249 | I13: 0 | J13: =BT!J18 -> 0
A14: Para la totalidad de los kWh | B14: $/kWh (pesos por kWh) | C14: =BT!C19 -> 0.0126 | D14: =BT!D19 -> 0.0133 | E14: =BT!E19 -> 0.0135 | F14: =BT!F19 -> 0.0142 | G14: =BT!G19 -> 0.0134 | H14: =BT!H19 -> 0.0147 | I14: 2.21475 | J14: =BT!J19 -> 75.90217
A15: NIVEL 2 - INGRESOS BAJOS - POR LOS PRIMEROS 350 KWH | I15: VALOR A DESCONTAR RESPECTO DE LA TARIFA RESIDENCIAL N1
A16: Cargos Fijos | B16: $ (pesos) | C16: =BT!C21 -> 0 | D16: =BT!D21 -> 0 | E16: =BT!E21 -> 0 | F16: =BT!F21 -> 0 | G16: =BT!G21 -> 0 | H16: =BT!H21 -> 0 | I16: 0 | J16: =BT!J21 -> 0
A17: Por los primeros 350 kWh | B17: $/kWh (pesos por kWh) | C17: =BT!C22 -> 0 | D17: =BT!D22 -> 0 | E17: =BT!E22 -> 0 | F17: =BT!F22 -> 0 | G17: =BT!G22 -> 0 | H17: =BT!H22 -> 0 | I17: -58.66305 | J17: =BT!J22 -> 26.23234
A18: NIVEL 3 - INGRESOS MEDIOS - POR LOS PRIMEROS 250 KWH | I18: VALOR A DESCONTAR RESPECTO DE LA TARIFA RESIDENCIAL N1
A19: Cargos Fijos | B19: $ (pesos) | C19: 0 | D19: 0 | E19: 0 | F19: 0 | G19: 0 | H19: 0 | I19: 0 | J19: =BT!J24 -> 0
A20: Por los primeros 250 kWh según corresponda | B20: $/kWh (pesos por kWh) | C20: 0 | D20: 0 | E20: 0 | F20: 0 | G20: 0 | H20: 0 | I20: -45.41545 | J20: =BT!J25 -> 37.44904
A21: Para Usuarios ELECTRODEPENDIENTES SEGÚN LEY NACIONAL Nº 27351 (diferencial aplicable respecto de la tarifa resultante para Usuarios Residenciales Nivel 2) | I21: VALOR A DESCONTAR RESPECTO DE LA TARIFA RESIDENCIAL N2
A22: Cargos Fijos | B22: $ (pesos) | C22: 0 | D22: 0 | E22: 0 | F22: 0 | G22: 0 | H22: 0 | I22: 0
A23: Para la totalidad de los kWh, cuando no se registre y/o facture potencia | B23: $/kWh (pesos por kWh) | C23: 0 | D23: 0 | E23: 0 | F23: 0 | G23: 0 | H23: 0 | I23: -28.07825
A24: Para Usuarios ELECTRODEPENDIENTES SEGÚN LEY PROVINCIAL Nº 10511 (corresponde aplicar gratuidad del servicio) | I24: TARIFA FINAL A APLICAR POR TODO EL CONSUMO
A25: Cargos Fijos | B25: $ (pesos) | C25: 0 | D25: 0 | E25: 0 | F25: 0 | G25: 0 | H25: 0 | I25: 0
A26: Para la totalidad de los kWh, cuando no se registre y/o facture potencia | B26: $/kWh (pesos por kWh) | C26: =C23 -> 0 | D26: =D23 -> 0 | E26: =E23 -> 0 | F26: =F23 -> 0 | G26: =G23 -> 0 | H26: =H23 -> 0 | I26: 0
A27: Suministros a Clubes de Barrio y de Pueblo (diferencial aplicable respecto de la categoría disponible en el Cuadro Tarifario de la Prestadora, solo en caso que el respectivo Club/Entidad sea informado por el MINISTERIO DE TURISMO Y DEPORTES o el área que éste disponga, de conformidad con la Resolución SE Nº 742/2022) - SIN FACTURACION DE POTENCIA
A28: Cargos Fijos | B28: $ (pesos) | C28: =C$13 -> 0.0249 | D28: =D$13 -> 0.0249 | E28: =E$13 -> 0.0249 | F28: =F$13 -> 0.0249 | G28: =G$13 -> 0.0249 | H28: =H$13 -> 0.0249 | I28: 0 | J28: =BT!J33 -> 0
A29: Para la totalidad de los kWh, cuando no se registre y/o facture potencia | B29: $/kWh (pesos por kWh) | C29: =BT!C34 -> 0.0131 | D29: =BT!D34 -> 0.0138 | E29: =BT!E34 -> 0.0137 | F29: =BT!F34 -> 0.0148 | G29: =BT!G34 -> 0.0137 | H29: =BT!H34 -> 0.0149 | I29: -49.93941 | J29: =BT!J34 -> 26.23044
A30: Suministros a entidades integrantes del Sistema Nacional de Bomberos Voluntarios (diferencial aplicable respecto de la categoría disponible en el Cuadro Tarifario de la Prestadora, según Res. SE 161/2023) - SIN FACTURACION DE POTENCIA
A31: Cargos Fijos | B31: $ (pesos) | C31: =C$13 -> 0.0249 | D31: =D$13 -> 0.0249 | E31: =E$13 -> 0.0249 | F31: =F$13 -> 0.0249 | G31: =G$13 -> 0.0249 | H31: =H$13 -> 0.0249 | I31: 0 | J31: =BT!J36 -> 0
A32: Para la totalidad de los kWh, cuando no se registre y/o facture potencia | B32: $/kWh (pesos por kWh) | C32: =C29 -> 0.0131 | D32: =D29 -> 0.0138 | E32: =E29 -> 0.0137 | F32: =F29 -> 0.0148 | G32: =G29 -> 0.0137 | H32: =H29 -> 0.0149 | I32: -78.01575 | J32: =BT!J37 -> 0
A33: Energia destinada a suministros identificados como Alumbrado Publico - SIN FACTURACION DE POTENCIA
A34: Cargos Fijos | B34: $ (pesos) | C34: =C$13 -> 0.0249 | D34: =D$13 -> 0.0249 | E34: =E$13 -> 0.0249 | F34: =F$13 -> 0.0249 | G34: =G$13 -> 0.0249 | H34: =H$13 -> 0.0249 | I34: 0 | J34: =BT!J39 -> 0
A35: Para la totalidad de los kWh, cuando no se registre y/o facture potencia | B35: $/kWh (pesos por kWh) | C35: =C29 -> 0.0131 | D35: =D29 -> 0.0138 | E35: =E29 -> 0.0137 | F35: =F29 -> 0.0148 | G35: =G29 -> 0.0137 | H35: =H29 -> 0.0149 | I35: 2.17368 | J35: =BT!J40 -> 75.60556
A36: Energia destinada a suministros Generales con demanda menor o igual a 10 kW, excepto usuarios Residenciales y Alumbrado Publico
A37: Cargos Fijos | B37: $ (pesos) | C37: =C$13 -> 0.0249 | D37: =D$13 -> 0.0249 | E37: =E$13 -> 0.0249 | F37: =F$13 -> 0.0249 | G37: =G$13 -> 0.0249 | H37: =H$13 -> 0.0249 | I37: 0 | J37: =BT!J42 -> 0
A38: Por cada kWh hasta 800 kWh mensuales | B38: $/kWh (pesos por kWh) | C38: =C29 -> 0.0131 | D38: =D29 -> 0.0138 | E38: =E29 -> 0.0137 | F38: =F29 -> 0.0148 | G38: =G29 -> 0.0137 | H38: =H29 -> 0.0149 | I38: 2.36337 | J38: =BT!J43 -> 75.8961
A39: Por cada kWh excedente de 800 kWh mensuales | B39: $/kWh (pesos por kWh) | C39: =C29 -> 0.0131 | D39: =D29 -> 0.0138 | E39: =E29 -> 0.0137 | F39: =F29 -> 0.0148 | G39: =G29 -> 0.0137 | H39: =H29 -> 0.0149 | I39: =I38 -> 2.36337 | J39: =BT!J44 -> 75.8961
A40: Energia destinada a suministros con demanda mayor a 10 Kw y menor a 300 kW, excepto usuarios Residenciales y Alumbrado Publico - SIN FACTURACION DE POTENCIA
...

Sheet AT
A1: TRASLADO RG ERSeP Nº64/2025 y NOTA ERSeP DEL 13 DE JUNIO DE 2025
A2: CATEGORIA TARIFARIA | B2: UNIDADES | C2: A PARTIR DEL 1 DE JUNIO DE 2025
C3: MODIFICACION CT COOPERATIVA
C4: RG ERSEP 64/2025 | I4: NOTA ERSeP - NUEVO ESTACIONAL Y FAM EPEC 05/2025
I5: MODIFICACION CT MAYO 2025 COOPERATIVA (LUEGO DE APLICAR RG ERSeP Nº64/2025) | J5: TARIFAS PARA GENERACION DISTRIBUIDA
C6: GRUPO "A" - Anexo I | D6: GRUPO "B" - Anexo II | E6: GRUPO "C" - Anexo III | F6: GRUPO "D" - Anexo IV | G6: GRUPO "E" - Anexo V | H6: GRUPO "F" - Anexo VI | I6: ANEXO 1 | J6: ANEXO 4
C7: MODIFICACION POR ACTUALIZACION VAD COOPERATIVAS | I7: INCREMENTO AUTORIZADO POR NUEVO VAD EPEC | J7: VALORES A FACTURAR
A8: Cuadro N°4:
A9: Cooperativas con Compra en Alta Tension (66000 y 132000 V) con Facturacion de Potencia
A10: Suministros en Baja Tension (220 y 380 V)
A11: Energia destinada a suministros Residenciales con demanda menor a 10 kW
A12: NIVEL 1-ALTOS INGRESOS, NIVEL 2 CONSUMO MAYOR A 350 KWH Y NIVEL 3 CONSUMO MAYOR A 250 KWH-VALOR A INCREMENTAR RESPECTO DE LA TARIFA RESIDENCIAL N1 | I12: VALOR A INCREMENTAR RESPECTO DE LA TARIFA RESIDENCIAL N1
A13: Cargos Fijos | B13: $ (pesos) | C13: =BT!C18 -> 0.0249 | D13: =BT!D18 -> 0.0249 | E13: =BT!E18 -> 0.0249 | F13: =BT!F18 -> 0.0249 | G13: =BT!G18 -> 0.0249 | H13: =BT!H18 -> 0.0249 | I13: 0 | J13: =MT!J13 -> 0
A14: Para la totalidad de los kWh | B14: $/kWh (pesos por kWh) | C14: =BT!C19 -> 0.0126 | D14: =BT!D19 -> 0.0133 | E14: =BT!E19 -> 0.0135 | F14: =BT!F19 -> 0.0142 | G14: =BT!G19 -> 0.0134 | H14: =BT!H19 -> 0.0147 | I14: 1.83198 | J14: =MT!J14 -> 75.90217
A15: NIVEL 2 - INGRESOS BAJOS - POR LOS PRIMEROS 350 KWH | I15: VALOR A DESCONTAR RESPECTO DE LA TARIFA RESIDENCIAL N1
A16: Cargos Fijos | B16: $ (pesos) | C16: =BT!C21 -> 0 | D16: =BT!D21 -> 0 | E16: =BT!E21 -> 0 | F16: =BT!F21 -> 0 | G16: =BT!G21 -> 0 | H16: =BT!H21 -> 0 | I16: 0 | J16: =MT!J16 -> 0
A17: Por los primeros 350 kWh | B17: $/kWh (pesos por kWh) | C17: =BT!C22 -> 0 | D17: =BT!D22 -> 0 | E17: =BT!E22 -> 0 | F17: =BT!F22 -> 0 | G17: =BT!G22 -> 0 | H17: =BT!H22 -> 0 | I17: -59.67184 | J17: =MT!J17 -> 26.23234
A18: NIVEL 3 - INGRESOS MEDIOS - POR LOS PRIMEROS 250 KWH | I18: VALOR A DESCONTAR RESPECTO DE LA TARIFA RESIDENCIAL N1
A19: Cargos Fijos | B19: $ (pesos) | C19: 0 | D19: 0 | E19: 0 | F19: 0 | G19: 0 | H19: 0 | I19: 0 | J19: =MT!J19 -> 0
A20: Por los primeros 250 kWh según corresponda | B20: $/kWh (pesos por kWh) | C20: 0 | D20: 0 | E20: 0 | F20: 0 | G20: 0 | H20: 0 | I20: -46.19643 | J20: =MT!J20 -> 37.44904
A21: Para Usuarios ELECTRODEPENDIENTES SEGÚN LEY NACIONAL Nº 27351 (diferencial aplicable respecto de la tarifa resultante para Usuarios Residenciales Nivel 2) | I21: VALOR A DESCONTAR RESPECTO DE LA TARIFA RESIDENCIAL N2
A22: Cargos Fijos | B22: $ (pesos) | C22: 0 | D22: 0 | E22: 0 | F22: 0 | G22: 0 | H22: 0 | I22: 0
A23: Para la totalidad de los kWh, cuando no se registre y/o facture potencia | B23: $/kWh (pesos por kWh) | C23: 0 | D23: 0 | E23: 0 | F23: 0 | G23: 0 | H23: 0 | I23: -27.92494
A24: Para Usuarios ELECTRODEPENDIENTES SEGÚN LEY PROVINCIAL Nº 10511 (corresponde aplicar gratuidad del servicio) | I24: TARIFA FINAL A APLICAR POR TODO EL CONSUMO
A25: Cargos Fijos | B25: $ (pesos) | C25: 0 | D25: 0 | E25: 0 | F25: 0 | G25: 0 | H25: 0 | I25: 0
A26: Para la totalidad de los kWh, cuando no se registre y/o facture potencia | B26: $/kWh (pesos por kWh) | C26: 0 | D26: 0 | E26: 0 | F26: 0 | G26: 0 | H26: 0 | I26: 0
A27: Suministros a Clubes de Barrio y de Pueblo (diferencial aplicable respecto de la categoría disponible en el Cuadro Tarifario de la Prestadora, solo en caso que el respectivo Club/Entidad sea informado por el MINISTERIO DE TURISMO Y DEPORTES o el área que éste disponga, de conformidad con la Resolución SE Nº 742/2022) - SIN FACTURACION DE POTENCIA
A28: Cargos Fijos | B28: $ (pesos) | C28: =$C$13 -> 0.0249 | D28: =D$13 -> 0.0249 | E28: =E$13 -> 0.0249 | F28: =F$13 -> 0.0249 | G28: =G$13 -> 0.0249 | H28: =H$13 -> 0.0249 | I28: 0 | J28: =MT!J28 -> 0
A29: Para la totalidad de los kWh, cuando no se registre y/o facture potencia | B29: $/kWh (pesos por kWh) | C29: =BT!C34 -> 0.0131 | D29: =BT!D34 -> 0.0138 | E29: =BT!E34 -> 0.0137 | F29: =BT!F34 -> 0.0148 | G29: =BT!G34 -> 0.0137 | H29: =BT!H34 -> 0.0149 | I29: -49.66674 | J29: =MT!J29 -> 26.23044
A30: Suministros a entidades integrantes del Sistema Nacional de Bomberos Voluntarios (diferencial aplicable respecto de la categoría disponible en el Cuadro Tarifario de la Prestadora, según Res. SE 161/2023) - SIN FACTURACION DE POTENCIA
A31: Cargos Fijos | B31: $ (pesos) | C31: =$C$13 -> 0.0249 | D31: =D$13 -> 0.0249 | E31: =E$13 -> 0.0249 | F31: =F$13 -> 0.0249 | G31: =G$13 -> 0.0249 | H31: =H$13 -> 0.0249 | I31: 0 | J31: =MT!J31 -> 0
A32: Para la totalidad de los kWh, cuando no se registre y/o facture potencia | B32: $/kWh (pesos por kWh) | C32: =C29 -> 0.0131 | D32: =D29 -> 0.0138 | E32: =E29 -> 0.0137 | F32: =F29 -> 0.0148 | G32: =G29 -> 0.0137 | H32: =H29 -> 0.0149 | I32: -77.58978 | J32: =MT!J32 -> 0
A33: Energia destinada a suministros identificados como Alumbrado Publico - SIN FACTURACION DE POTENCIA
A34: Cargos Fijos | B34: $ (pesos) | C34: =$C$13 -> 0.0249 | D34: =D$13 -> 0.0249 | E34: =E$13 -> 0.0249 | F34: =F$13 -> 0.0249 | G34: =G$13 -> 0.0249 | H34: =H$13 -> 0.0249 | I34: 0 | J34: =MT!J34 -> 0
A35: Para la totalidad de los kWh, cuando no se registre y/o facture potencia | B35: $/kWh (pesos por kWh) | C35: =C29 -> 0.0131 | D35: =D29 -> 0.0138 | E35: =E29 -> 0.0137 | F35: =F29 -> 0.0148 | G35: =G29 -> 0.0137 | H35: =H29 -> 0.0149 | I35: 1.80636 | J35: =MT!J35 -> 75.60556
A36: Energia destinada a suministros Generales con demanda menor o igual a 10 kW, excepto usuarios Residenciales y Alumbrado Publico
A37: Cargos Fijos | B37: $ (pesos) | C37: =$C$13 -> 0.0249 | D37: =D$13 -> 0.0249 | E37: =E$13 -> 0.0249 | F37: =F$13 -> 0.0249 | G37: =G$13 -> 0.0249 | H37: =H$13 -> 0.0249 | I37: 0 | J37: =MT!J37 -> 0
A38: Por cada kWh hasta 800 kWh mensuales | B38: $/kWh (pesos por kWh) | C38: =C29 -> 0.0131 | D38: =D29 -> 0.0138 | E38: =E29 -> 0.0137 | F38: =F29 -> 0.0148 | G38: =G29 -> 0.0137 | H38: =H29 -> 0.0149 | I38: 1.918 | J38: =MT!J38 -> 75.8961
A39: Por cada kWh excedente de 800 kWh mensuales | B39: $/kWh (pesos por kWh) | C39: =C29 -> 0.0131 | D39: =D29 -> 0.0138 | E39: =E29 -> 0.0137 | F39: =F29 -> 0.0148 | G39: =G29 -> 0.0137 | H39: =H29 -> 0.0149 | I39: =I38 -> 1.918 | J39: =MT!J39 -> 75.8961
A40: Energia destinada a suministros con demanda mayor a 10 Kw y menor a 300 kW, excepto usuarios Residenciales y Alumbrado Publico - SIN FACTURACION DE POTENCIA
...
