Workbook

Sheet COEF
E4: ENERGIA COMPRADA | J4: ENERGIA FACTURADA | M4: PERDIDAS EST. | R4: COEFICIENTES
E5: TOTAL | F5: PICO | G5: RESTO | H5: VALLE | J5: PICO | K5: RESTO | L5: VALLE | M5: PICO | N5: RESTO | O5: VALLE | R5: PICO | S5: RESTO | T5: VALLE
D6: COMPRA TOTAL DE LA COOPERATIVA | E6: =SUM(F6:H6) -> 0 | F6: ='Compra -HOJA1'!G10 -> 0 | G6: ='Compra -HOJA1'!H10 -> 0 | H6: ='Compra -HOJA1'!I10 -> 0 | R6: =IF(E6=0,0,F6/$E6) -> 0 | S6: =IF(F6=0,0,G6/$E6) -> 0 | T6: =IF(G6=0,0,H6/$E6) -> 0
C8: LECTURAS POR BANDAS | D8: VENTA A OTRA COOPERATIVA | E8: =SUM(F8:H8) -> 0 | F8: ='Compra -HOJA1'!G14 -> 0 | G8: ='Compra -HOJA1'!H14 -> 0 | H8: ='Compra -HOJA1'!I14 -> 0 | R8: =IF(E8=0,0,F8/$E8) -> 0 | S8: =IF(F8=0,0,G8/$E8) -> 0 | T8: =IF(G8=0,0,H8/$E8) -> 0
D11: S9 CON LECTURAS POR BANDAS | E11: =SUM(F11:H11) -> 0 | F11: =+'Compra -HOJA1'!O29 -> 0 | G11: =+'Compra -HOJA1'!P29 -> 0 | H11: =+'Compra -HOJA1'!Q29 -> 0 | R11: =IF(E11=0,0,F11/$E11) -> 0 | S11: =IF(F11=0,0,G11/$E11) -> 0 | T11: =IF(G11=0,0,H11/$E11) -> 0
D13: S8 CON LECTURAS POR BANDAS | E13: =SUM(F13:H13) -> 0 | F13: =+'Compra -HOJA1'!O38 -> 0 | G13: =+'Compra -HOJA1'!P38 -> 0 | H13: =+'Compra -HOJA1'!Q38 -> 0 | R13: =IF(E13=0,0,F13/$E13) -> 0 | S13: =IF(F13=0,0,G13/$E13) -> 0 | T13: =IF(G13=0,0,H13/$E13) -> 0
D15: S5 ESTIMADO ALUMBRADO PUBLICO | E15: =SUM(F15:H15) -> 0 | F15: =+'Compra -HOJA1'!N67 -> 0 | G15: =+'Compra -HOJA1'!O67 -> 0 | H15: =+'Compra -HOJA1'!P67 -> 0 | J15: 0.33 | K15: 0.12 | L15: 0.55 | R15: =IF(E15=0,0,F15/$E15) -> 0 | S15: =IF(F15=0,0,G15/$E15) -> 0 | T15: =IF(G15=0,0,H15/$E15) -> 0
D16: TOTAL LECTURAS POR BANDAS | E16: =SUM(E8:E15) -> 0 | F16: =SUM(F8:F15) -> 0 | G16: =SUM(G8:G15) -> 0 | H16: =SUM(H8:H15) -> 0
D17: SALDO ENERGIA A PRORRATEAR COEF | E17: =+E6-E16 -> 0 | F17: =+F6-F16 -> 0 | G17: =+G6-G16 -> 0 | H17: =+H6-H16 -> 0 | R17: =IF(E17=0,0,F17/$E17) -> 0 | S17: =IF(F17=0,0,G17/$E17) -> 0 | T17: =IF(G17=0,0,H17/$E17) -> 0
F18: =+F17/$E17 -> #DIV/0! | G18: =+G17/$E17 -> #DIV/0! | H18: =+H17/$E17 -> #DIV/0!
J23: 0.24282127 | K23: 0.52270024 | L23: 0.23447849
F24: PICO | G24: RESTO | H24: VALLE
D25: CONTROL HOJA 1
D26: VENTA A COOPERATIVAS | E26: =SUM(F26:H26) -> 0 | F26: =+'Compra -HOJA1'!G14 -> 0 | G26: =+'Compra -HOJA1'!H14 -> 0 | H26: =+'Compra -HOJA1'!I14 -> 0 | J26: PICO | K26: RESTO | L26: VALLE
D27: S9 | E27: =SUM(F27:H27) -> 0 | F27: =+'Compra -HOJA1'!O29 -> 0 | G27: =+'Compra -HOJA1'!P29 -> 0 | H27: =+'Compra -HOJA1'!Q29 -> 0 | J27: =R17 -> 0 | K27: =S17 -> 0 | L27: =T17 -> 0 | M27: PERDIDAS EST.
D28: Gud MT | E28: =SUM(F28:H28) -> 0 | F28: =+'Compra -HOJA1'!O38 -> 0 | G28: =+'Compra -HOJA1'!P38 -> 0 | H28: =+'Compra -HOJA1'!Q38 -> 0 | J28: PICO | K28: RESTO | L28: VALLE | M28: PICO | N28: RESTO | O28: VALLE
J29: =J$27*E29 -> 0 | K29: =E29*K$27 -> 0 | L29: =E29*L$27 -> 0 | M29: =J29*#REF! -> #REF! | N29: =K29*G$26 -> 0 | O29: =L29*H$26 -> 0
J30: =J$27*E30 -> 0 | K30: =E30*K$27 -> 0 | L30: =E30*L$27 -> 0 | M30: =J30*#REF! -> #REF! | N30: =K30*G$26 -> 0 | O30: =L30*H$26 -> 0
D31: A.P. | E31: =SUM(F31:H31) -> 0 | F31: =+'Compra -HOJA1'!N67 -> 0 | G31: =+'Compra -HOJA1'!O67 -> 0 | H31: =+'Compra -HOJA1'!P67 -> 0 | J31: =J$27*E31 -> 0 | K31: =E31*K$27 -> 0 | L31: =E31*L$27 -> 0 | M31: =J31*#REF! -> #REF! | N31: =K31*G$26 -> 0 | O31: =L31*H$26 -> 0
D32: TOTAL | E32: =SUM(E26:E31) -> 0 | F32: =SUM(F26:F31) -> 0 | G32: =SUM(G26:G31) -> 0 | H32: =SUM(H26:H31) -> 0 | J32: =J$27*E32 -> 0 | K32: =E32*K$27 -> 0 | L32: =E32*L$27 -> 0 | M32: =J32*#REF! -> #REF! | N32: =K32*G$26 -> 0 | O32: =L32*H$26 -> 0
J33: =J$27*E33 -> 0 | K33: =E33*K$27 -> 0 | L33: =E33*L$27 -> 0 | M33: =J33*#REF! -> #REF! | N33: =K33*G$26 -> 0 | O33: =L33*H$26 -> 0
J34: =J$27*E34 -> 0 | K34: =E34*K$27 -> 0 | L34: =E34*L$27 -> 0 | M34: =J34*#REF! -> #REF! | N34: =K34*G$26 -> 0 | O34: =L34*H$26 -> 0
J35: =J$27*E35 -> 0 | K35: =E35*K$27 -> 0 | L35: =E35*L$27 -> 0 | M35: =J35*#REF! -> #REF! | N35: =K35*G$26 -> 0 | O35: =L35*H$26 -> 0
J38: =J$27*E38 -> 0 | K38: =E38*K$27 -> 0 | L38: =E38*L$27 -> 0 | M38: =J38*$E$50 -> 0 | N38: =K38*$E$50 -> 0 | O38: =L38*$E$50 -> 0
J39: =J$27*E39 -> 0 | K39: =E39*K$27 -> 0 | L39: =E39*L$27 -> 0 | M39: =J39*$E$50 -> 0 | N39: =K39*$E$50 -> 0 | O39: =L39*$E$50 -> 0
J41: =SUM(J29:J40) -> 0 | K41: =SUM(K29:K40) -> 0 | L41: =SUM(L29:L40) -> 0 | P41: =SUM(J41:O41) -> 0

Sheet HOJA DE ENTRADA DE DATOS
E2: 43556 | F2: NR1 | G2: -148500 | H2: =+'Compra -HOJA1'!I397 -> O.K.
D3: PICO | E3: 1040299 | F3: AP | I3: MT | J3: 0.0148
D4: RESTO | E4: 1829345 | I4: BT | J4: 0.0678
D5: VALLE | E5: 920117 | G5: =SUM(G2:G4) -> -148500
D6: TOTAL | E6: =SUM(E3:E5) -> 3789761 | F6: =+E58 -> 3662489 | G6: =+E6/D6-1 -> #VALUE!
E7: =+F7/E6 -> 0.03358312 | F7: =+E6-F6 -> 127272
E8: =+E2 -> 43556
E9: KWH | F9: USUARIOS | G9: %(KWH)
C12: USUARIOS CON MEDICION DE DEMANDA | D12: PICO | E12: =+E64 -> 0 | F12: =+F64 -> 0 | G12: =+E12/E$58 -> 0
D13: RESTO | E13: =+E65 -> 0 | F13: =+F65 -> 0 | G13: =+E13/E$58 -> 0
B14: TENSION | D14: VALLE | E14: =+E66 -> 0 | F14: =+F66 -> 0 | G14: =+E14/E$58 -> 0
B15: MT | D15: KW | E15: =+E67 -> 0 | F15: =+F67 -> 0 | G15: =+E15/E$58 -> 0
D16: COMERCIALES CON CONSUMOS MAYORES 9000 KWH | E16: =+E68 -> 269408 | F16: =+F68 -> 12 | G16: =+E16/E$58 -> 0.073558719 | H16: =+IF(F16=0,"S.D.",IF((E16/F16)>9000,"O.K.","VERIEICAR")) -> O.K.
D17: INDUSTRIALES CON CONSUMOS MAYORES A 9000 KWH CON SUBISIDIO | E17: =+E69 -> 0 | F17: =+F69 -> 0 | G17: =+E17/E$58 -> 0 | H17: =+IF(F17=0,"S.D.",IF((E17/F17)>9000,"O.K.","VERIEICAR")) -> S.D.
D18: RURALES CON CONSUMOS MAYORES A 9000 KWH | E18: =+E70 -> 0 | F18: =+F70 -> 0 | G18: =+E18/E$58 -> 0 | H18: =+IF(F18=0,"S.D.",IF((E18/F18)>9000,"O.K.","VERIEICAR")) -> S.D.
D19: OTROS USUARIOS CON CONSUMOS MAYORES A 9000 KWH | E19: =+E71 -> 0 | F19: =+F71 -> 0 | G19: =+E19/E$58 -> 0 | H19: =+IF(F19=0,"S.D.",IF((E19/F19)>9000,"O.K.","VERIEICAR")) -> S.D.
D20: RESIDENCIALES CON CONSUMOS MAYORES A 5000 KWH Y MENORES O IGUALES A 15000 KWH | E20: =+E72 -> 0 | F20: =+F72 -> 0 | G20: =+E20/E$58 -> 0 | H20: =+IF(F20=0,"S.D.",IF((E20/F20)>9000,"O.K.","VERIEICAR")) -> S.D.
D21: COMERCIALES CON CONSUMOS MAYORES A 3000 Kwh Y MENORES O IGUALES QUE 9000 KWH | E21: =+E73 -> 316673 | F21: =+F73 -> 70 | G21: =+E21/E$58 -> 0.086463877 | H21: =+IF(F21=0,"S.D.",IF(AND((E21/F21)>2999,(E21/F21)<=9000),"O.K.","VERIEICAR")) -> O.K.
D22: INDUSTRIALES CON CONSUMOS MAYORES A 3000 KWH Y MENORES O IGUALES QUE 9000 KWH | E22: =+E74 -> 0 | F22: =+F74 -> 0 | G22: =+E22/E$58 -> 0 | H22: =+IF(F22=0,"S.D.",IF(AND((E22/F22)>2999,(E22/F22)<=9000),"O.K.","VERIEICAR")) -> S.D.
D23: RURALES CON CONSUMOS MAYORES A 3000 KWH Y MENORES O IGUALES QUE 9000 KWH | E23: =+E75 -> 0 | F23: =+F75 -> 0 | G23: =+E23/E$58 -> 0 | H23: =+IF(F23=0,"S.D.",IF(AND((E23/F23)>2999,(E23/F23)<=9000),"O.K.","VERIEICAR")) -> S.D.
D24: OTROS USUARIOS CON CONSUMOS MAYORES A 3000 KWH Y MENORES O IGUALES QUE 9000 KWH | E24: =+E76 -> 0 | F24: =+F76 -> 0 | G24: =+E24/E$58 -> 0 | H24: =+IF(F24=0,"S.D.",IF(AND((E24/F24)>2999,(E24/F24)<=9000),"O.K.","VERIEICAR")) -> S.D.
D25: RESIDENCIALES CON CONSUMOS MAYORES A 5000 KWH Y MENORES O IGUALES A 15000 KWH | E25: =+E77 -> 0 | F25: =+F77 -> 0 | G25: =+E25/E$58 -> 0 | H25: =+IF(F25=0,"S.D.",IF(AND((E25/F25)>2999,(E25/F25)<=9000),"O.K.","VERIEICAR")) -> S.D.
D26: kWh FACTURADOS ALUMBRADO PUBLICO | E26: =+E78+G3 -> 400240 | F26: =+F78 -> 123 | G26: =+E26/E$58 -> 0.10928087 | H26: =+IF(C26=0,0,E26/F26) -> 0
A27: UR1 <=150 kWh/mes | B27: Consumo demanda Residencial | E27: =+E79 -> 171621 | F27: =+F79 -> 3029 | G27: =+E27/E$58 -> 0.046859117 | H27: =+IF(F27=0,"S.D.",IF((E27/F27)<151,"O.K.","VERIFICAR")) -> O.K.
B28: Plan Estímulo | C28: Consumo c/ Ahorro > 20% | E28: =+E80 -> 0 | F28: =+F80 -> 0 | G28: =+E28/E$58 -> 0 | H28: =+IF(F28=0,"S.D.",IF((E28/F28)<151,"O.K.","VERIFICAR")) -> S.D.
B29: Tarifa Social | C29: HOGARES POBRES O CARENCIADOS- Consumo <= 120 kWh/mes | E29: 35200 | F29: 650 | G29: =+E29/E$58 -> 0.0096109504 | H29: =+IF(F29=0,"S.D.",IF((E29/F29)<120,"O.K.","VERIFICAR")) -> O.K.
C30: HOGARES POBRES O CARENCIADOS > 120 kWh/mes y <= 150 kWh/mes | E30: 12500 | F30: 100 | H30: =+IF(F30=0,"S.D.",IF(AND((E30/F30)>120,(E30/F30)<=150),"O.K.","VERIFICAR")) -> O.K.
C31: HOGARES INDIGENTES: <120 kWh/mes | E31: 94 | F31: 2 | H31: =+IF(F31=0,"S.D.",IF((E31/F31)<120,"O.K.","VERIFICAR")) -> O.K.
C32: HOGARES INDIGENTES:- Consumo > 120 kWh/mes y <= 150 kWh/mes | E32: 280 | F32: 2 | H32: =+IF(F32=0,"S.D.",IF(AND((E32/F32)>120,(E32/F32)<=150),"O.K.","VERIFICAR")) -> O.K.
B33: Tarifa Electrodependientes | C33: TARIFA ELECTRODEPENDIENTE | E33: =+E85 -> 0 | F33: =+F85 -> 0 | G33: =+E33/E$58 -> 0 | H33: =+IF(F33=0,"S.D.",IF((E33/F33)<151,"O.K.","VERIFICAR")) -> S.D. | L33: =+F34+F35 -> 2289
A34: UR2 >150 y <= 500 kWh/mes | B34: Consumo demanda Residencial | E34: =+E86 -> 634333 | F34: =+F86 -> 2289 | G34: =+E34/E$58 -> 0.17319724 | H34: =+IF(F34=0,"S.D.",IF(AND((E34/F34)>150,(E34/F34)<=500),"O.K.","VERIFICAR")) -> O.K.
B35: Plan Estímulo | C35: Consumo c/ Ahorro > 20% | E35: =+E87 -> 0 | F35: =+F87 -> 0 | G35: =+E35/E$58 -> 0 | H35: =+IF(F35=0,"S.D.",IF(AND((E35/F35)>150,(E35/F35)<=500),"O.K.","VERIFICAR")) -> S.D.
B36: Tarifa Social | C36: HOGARES POBRES O CARENCIADOS - Consumo > 150 y < =300 kWh/mes | E36: =+E88 -> 207854 | F36: =+F88 -> 941 | G36: =+E36/E$58 -> 0.056752116 | H36: =+IF(F36=0,"S.D.",IF(AND((E36/F36)>150,(E36/F36)<=300),"O.K.","VERIFICAR")) -> O.K.
C37: HOGARES POBRES O CARENCIADOS - Consumo >300 y < =500 kWh/mes | E37: =+E89 -> 233182 | F37: =+F89 -> 603 | G37: =+E37/E$58 -> 0.063667631 | H37: =+IF(F37=0,"S.D.",IF(AND((E37/F37)>300,(E37/F37)<=500),"O.K.","VERIFICAR")) -> O.K.
C38: HOGARES INDIGENTES: - Consumo >150 y <= 300 kWh/mes | E38: 1500 | F38: 9 | G38: =+E38/E$58 -> 0.00040955754 | H38: =+IF(F38=0,"S.D.",IF(AND((E38/F38)>150,(E38/F38)<=300),"O.K.","VERIFICAR")) -> O.K.
C39: HOGARES INDIGENTES:- Consumo >300 y <= 500 kWh/mes | E39: 1900 | F39: 6 | G39: =+E39/E$58 -> 0.00051877289 | H39: =+IF(F39=0,"S.D.",IF(AND((E39/F39)>300,(E39/F39)<=500),"O.K.","VERIFICAR")) -> O.K.
B40: Tarifa Electrodependientes | C40: TARIFA ELECTRODEPENDIENTE | E40: =+E92 -> 316 | F40: =+F92 -> 1 | G40: =+E40/E$58 -> 8.6280123e-05 | H40: =+IF(F40=0,"S.D.",IF(AND((E40/F40)>150,(E40/F40)<=500),"O.K.","VERIFICAR")) -> O.K.
A41: UR3 >500 y <= 700 kWh/mes | B41: Consumo demanda Residencial | E41: =+E93 -> 167121 | F41: =+F93 -> 284 | G41: =+E41/E$58 -> 0.045630444 | H41: =IF(F41=0,"S.D.",+IF(AND((E41/F41)>500,(E41/F41)<=700),"O.K.","VERIFICAR")) -> O.K.
B42: Plan Estímulo | C42: Consumo c/ Ahorro > 20% | E42: =+E94 -> 0 | F42: =+F94 -> 0 | G42: =+E42/E$58 -> 0 | H42: =IF(F42=0,"S.D.",+IF(AND((E42/F42)>500,(E42/F42)<=700),"O.K.","VERIFICAR")) -> S.D.
B43: Tarifa Social | C43: HOGARES POBRES O CARENCIADOS - Consumo > 500 y <=700 kWh/mes | E43: =+E95 -> 113237 | F43: =+F95 -> 192 | G43: =+E43/E$58 -> 0.030918045 | H43: =IF(F43=0,"S.D.",+IF(AND((E43/F43)>500,(E43/F43)<=700),"O.K.","VERIFICAR")) -> O.K.
...

Sheet Compra -HOJA1
A1: PLANILLA DE TRABAJO INTERNA DTO. NAC. 332-2022 SEGMENTACION DE TARIFAS RESIDENCIALES-RES SE 90-2024 Y DTO PCIAL 43-2019 TARIFA SOCIAL -USO EXCLUSIVO ASOCIADAS FACE-FECESCOR HOJA Nº1- | AA1: SALDO ENERGIA COMPRADA (kWh)
B2: COOPERATIVA: | AG2: MT | AH2: 0.0148 | AI2: 0.0428 | BI2: A
B3: DIRECCION: | AG3: BT | AH3: 0.0678 | AI3: 0.0973 | BI3: B | BL3: MT | BM3: MT | BN3: 0.0148 | BO3: 0.0428
B4: DECLARACION JURADA CORRESPONDIENTE AL MES DE: | F4: 45536 | Y4: 37987 | Z4: 31 | BI4: C | BL4: AT | BM4: BT | BN4: 0.0678 | BO4: 0.0973
Y5: 38018 | Z5: 29 | BI5: D
F6: TENSION DE COMPRA | I6: MT | S6: COEFICIENTES COMPRA ENERGIA | Y6: 38047 | Z6: 31
S7: PICO | T7: RESTO | U7: VALLE | Y7: 38078 | Z7: 30
C8: LECTURA DEL MEDIDOR EN EL PUNTO DE COMPRA | F8: ENERGIA COMPRADA (kWh) | L8: PICO | M8: RESTO | N8: VALLE | Y8: 38108 | Z8: 31
F9: TOTAL | G9: PICO | H9: RESTO | I9: VALLE | L9: CONTROL FINAL | S9: FCP | T9: FCR | U9: FCV | Y9: 38139 | Z9: 30
B10: A | C10: ENERGIA COMPRADA POR LA COOPERATIVA | F10: =SUM(G10:I10) -> 0 | L10: =+I397 -> O.K. | M10: =+J397 -> O.K. | N10: =+K397 -> O.K. | O10: =+F397 -> 0 | S10: =(G10/SUM(G10:I10)) -> #DIV/0! | T10: =H10/(SUM(G10:I10)) -> #DIV/0! | U10: =I10/(SUM(G10:I10)) -> #DIV/0! | Y10: 38169 | Z10: 31
L11: COEFICIENTES | Y11: 38200 | Z11: 31
C12: VENTA DE ENERGIA A OTRO DISTRIBUIDOR | G12: ENERGIA VENDIDA (kWh) | L12: =+COEF!J27 -> 0 | M12: =+COEF!K27 -> 0 | N12: =+COEF!L27 -> 0 | Y12: 38231 | Z12: 30 | AA12: PICO | AB12: RESTO | AC12: VALLE
G13: PICO | H13: RESTO | I13: VALLE | Y13: 38261 | Z13: 31 | AA13: =(G10-G14-G24-#REF!-#REF!-#REF!-G27-#REF!-#REF!-#REF!-#REF!) -> #REF! | AB13: =(H10-H14-H24-#REF!-#REF!-#REF!-H27-#REF!-#REF!-#REF!-#REF!) -> #REF! | AC13: =(I10-I14-I24-#REF!-#REF!-#REF!-I27-#REF!-#REF!-#REF!-#REF!) -> #REF!
B14: B | C14: ENERGIA VENDIDA POR LA COOPERATIVA A OTRO DISTRIBUIDOR | F14: =SUM(G14:I14) -> 0 | Y14: 38292 | Z14: 30 | AA14: COEFICIENTES DE SALDO ENERGIA
Y15: 38322 | Z15: 31 | AA15: PICO | AB15: RESTO | AC15: VALLE
L17: PERDIDAS RECONOCIDAS
L18: MT | M18: =+IF(I$6="MT",AH2,AI2) -> 0.0148
L19: BT | M19: =+IF(I$6="MT",AH3,AI3) -> 0.0678
A20: USUARIOS >= 300 kW DE DEMANDA
C22: USUARIOS DE MAS DE 300 kW DE DEMANDA | G22: ENERGIA VENDIDA (kWh) | J22: SUMATORIA POT MAX REG. INDIVIDUAL KW | K22: CANTIDAD TOTAL DE USUARIOS | L22: PERDIDAS RECONOCIDAS | O22: ENERGIA TOTAL COMPRADA
G23: PICO | H23: RESTO | I23: VALLE | L23: PICO | M23: RESTO | N23: VALLE | O23: PICO | P23: RESTO | Q23: VALLE | R23: TOTAL
A24: Guc | B24: C | C24: LECTURA A USUARIOS EN MT | F24: =SUM(G24:I24) -> 0 | G24: =+'DDJJ EPEC S-II -GUDI'!H36 -> 0 | H24: =+'DDJJ EPEC S-II -GUDI'!I36 -> 0 | I24: =+'DDJJ EPEC S-II -GUDI'!J36 -> 0 | J24: =+'DDJJ EPEC S-II -GUDI'!K36 -> 0 | K24: =+'DDJJ EPEC S-II -GUDI'!L36 -> 0 | L24: =+'DDJJ EPEC S-II -GUDI'!M36 -> 0 | M24: =+'DDJJ EPEC S-II -GUDI'!N36 -> 0 | N24: =+'DDJJ EPEC S-II -GUDI'!O36 -> 0 | ... R24: =+'DDJJ EPEC S-II -GUDI'!S36 -> 0
E25: TOTAL FACTURADO MT | F25: =+F24 -> 0 | G25: =+G24 -> 0 | H25: =+H24 -> 0 | I25: =+I24 -> 0 | J25: =+J24 -> 0 | K25: =+K24 -> 0 | L25: =+L24 -> 0 | M25: =+M24 -> 0 | ... R25: =+R24 -> 0
B27: E | C27: LECTURA A USUARIOS EN BT | F27: =SUM(G27:I27) -> 0 | G27: =+'DDJJ EPEC S-II -GUDI'!H38 -> 0 | H27: =+'DDJJ EPEC S-II -GUDI'!I38 -> 0 | I27: =+'DDJJ EPEC S-II -GUDI'!J38 -> 0 | J27: =+'DDJJ EPEC S-II -GUDI'!K38 -> 0 | K27: =+'DDJJ EPEC S-II -GUDI'!L38 -> 0 | L27: =+'DDJJ EPEC S-II -GUDI'!M38 -> 0 | M27: =+'DDJJ EPEC S-II -GUDI'!N38 -> 0 | N27: =+'DDJJ EPEC S-II -GUDI'!O38 -> 0 | ... R27: =+'DDJJ EPEC S-II -GUDI'!S38 -> 0
E28: TOTAL FACTURADO EN BT | F28: =+F27 -> 0 | G28: =+G27 -> 0 | H28: =+H27 -> 0 | I28: =+I27 -> 0 | J28: =+J27 -> 0 | K28: =+K27 -> 0 | L28: =+L27 -> 0 | M28: =+M27 -> 0 | ... R28: =+R27 -> 0
C29: TOTAL FACTURADO Guc | F29: =+F28+F25 -> 0 | G29: =+G25+G28 -> 0 | H29: =+H25+H28 -> 0 | I29: =+I25+I28 -> 0 | J29: =+J25+J28 -> 0 | K29: =+K25+K28 -> 0 | L29: =+L25+L28 -> 0 | M29: =+M25+M28 -> 0 | N29: =+N25+N28 -> 0 | O29: =+O28+O25 -> 0 | P29: =+P28+P25 -> 0 | Q29: =+Q28+Q25 -> 0 | R29: =+R28+R25 -> 0
A32: USUARIOS CON DEMANDA MAYOR DE 10 Kw Y MENOR QUE 300 kW
C34: USUARIOS CON DEMANDA MAYOR DE 10 kW Y MENOR QUE 300 kW | G34: ENERGIA VENDIDA (kWh) | J34: SUMATORIA POT MAX REG. INDIVIDUAL KW | K34: CANTIDAD TOTAL DE USUARIOS | L34: PERDIDAS RECONOCIDAS | O34: ENERGIA TOTAL COMPRADA
G35: PICO | H35: RESTO | I35: VALLE | L35: PICO | M35: RESTO | N35: VALLE | O35: PICO | P35: RESTO | Q35: VALLE | R35: TOTAL
A36: Gud (>= 30 y <300 Kw) | B36: H | C36: USUARIOS CON MEDICION DE DEMANDA | D36: LECTURA A USUARIOS EN MT | F36: =SUM(G36:I36) -> 0 | L36: =ROUND(G36*$M$18,0) -> 0 | M36: =ROUND(H36*$M$18,0) -> 0 | N36: =ROUND(I36*$M$18,0) -> 0 | O36: =L36+G36 -> 0 | P36: =M36+H36 -> 0 | Q36: =N36+I36 -> 0 | R36: =SUM(O36:Q36) -> 0
B37: J | D37: LECTURA A USUARIOS EN BT | F37: =SUM(G37:I37) -> 0 | L37: =ROUND(G37*$M$19,0) -> 0 | M37: =ROUND(H37*$M$19,0) -> 0 | N37: =ROUND(I37*$M$19,0) -> 0 | O37: =L37+G37 -> 0 | P37: =M37+H37 -> 0 | Q37: =N37+I37 -> 0 | R37: =SUM(O37:Q37) -> 0
D38: TOTAL ENERGIA CON MEDICION CON BANDAS HORARIAS Gud | F38: =+SUM(F36:F37) -> 0 | G38: =+SUM(G36:G37) -> 0 | H38: =+SUM(H36:H37) -> 0 | I38: =+SUM(I36:I37) -> 0 | J38: =+SUM(J36:J37) -> 0 | K38: =+SUM(K36:K37) -> 0 | L38: =+SUM(L36:L37) -> 0 | M38: =+SUM(M36:M37) -> 0 | N38: =+SUM(N36:N37) -> 0 | O38: =SUM(O36:O37) -> 0 | P38: =SUM(P36:P37) -> 0 | Q38: =SUM(Q36:Q37) -> 0 | R38: =SUM(R36:R37) -> 0
B40: L | C40: USUARIOS SIN MEDICION DE DEMANDA CONSUMOS RESIDENCIALES MAYOR O IGUAL A 15000 Y COMERCIALES-RURALES-OTROS USUARIOS MAYOR O IGUAL A 9000 Kwh------ SIN MEDIDICON DE DEMANDA EN BAJA TENSION | D40: COMERCIALES CON CONSUMOS IGUALES O MAYORES 9000 KWH | G40: =IF(F40=0,0,ROUND($F40*COEF!$J$27,0)) -> 0 | H40: =IF(F40=0,0,ROUND($F40*COEF!$K$27,0)) -> 0 | I40: =IF(F40=0,0,ROUND($F40*COEF!$L$27,0)) -> 0 | J40: =IF(F40=0,0,IF((F40/K40)<9000,"ERROR",(F40/3000)*10)) -> 0 | L40: =ROUND(G40*$M$19,0) -> 0 | M40: =ROUND(H40*$M$19,0) -> 0 | N40: =ROUND(I40*$M$19,0) -> 0 | O40: =L40+G40 -> 0 | P40: =M40+H40 -> 0 | Q40: =N40+I40 -> 0 | R40: =SUM(O40:Q40) -> 0
B41: M | D41: INDUSTRIALES CON CONSUMOS IGUALES O MAYORES A 9000 KWH | G41: =IF(F41=0,0,ROUND($F41*COEF!$J$27,0)) -> 0 | H41: =IF(F41=0,0,ROUND($F41*COEF!$K$27,0)) -> 0 | I41: =IF(F41=0,0,ROUND($F41*COEF!$L$27,0)) -> 0 | J41: =IF(F41=0,0,IF((F41/K41)<9000,"ERROR",(F41/3000)*10)) -> 0 | L41: =ROUND(G41*$M$19,0) -> 0 | M41: =ROUND(H41*$M$19,0) -> 0 | N41: =ROUND(I41*$M$19,0) -> 0 | O41: =L41+G41 -> 0 | P41: =M41+H41 -> 0 | Q41: =N41+I41 -> 0 | R41: =SUM(O41:Q41) -> 0
B42: N | D42: RURALES CON CONSUMOS IGUALES O MAYORES A 9000 KWH | G42: =IF(F42=0,0,ROUND($F42*COEF!$J$27,0)) -> 0 | H42: =IF(F42=0,0,ROUND($F42*COEF!$K$27,0)) -> 0 | I42: =IF(F42=0,0,ROUND($F42*COEF!$L$27,0)) -> 0 | J42: =IF(F42=0,0,IF((F42/K42)<9000,"ERROR",(F42/3000)*10)) -> 0 | L42: =ROUND(G42*$M$19,0) -> 0 | M42: =ROUND(H42*$M$19,0) -> 0 | N42: =ROUND(I42*$M$19,0) -> 0 | O42: =L42+G42 -> 0 | P42: =M42+H42 -> 0 | Q42: =N42+I42 -> 0 | R42: =SUM(O42:Q42) -> 0
B43: N' | D43: OTROS USUARIOS CON CONSUMOS IGUALES O MAYORES A 9000 KWH | G43: =IF(F43=0,0,ROUND($F43*COEF!$J$27,0)) -> 0 | H43: =IF(F43=0,0,ROUND($F43*COEF!$K$27,0)) -> 0 | I43: =IF(F43=0,0,ROUND($F43*COEF!$L$27,0)) -> 0 | J43: =IF(F43=0,0,IF((F43/K43)<9000,"ERROR",(F43/3000)*10)) -> 0 | L43: =ROUND(G43*$M$19,0) -> 0 | M43: =ROUND(H43*$M$19,0) -> 0 | N43: =ROUND(I43*$M$19,0) -> 0 | O43: =L43+G43 -> 0 | P43: =M43+H43 -> 0 | Q43: =N43+I43 -> 0 | R43: =SUM(O43:Q43) -> 0
B44: O | D44: RESIDENCIALES CON CONSUMOS MAYORES A 5000 KWH Y MENORES O IGUALES A 15000 KWH | G44: =IF(F44=0,0,ROUND($F44*COEF!$J$27,0)) -> 0 | H44: =IF(F44=0,0,ROUND($F44*COEF!$K$27,0)) -> 0 | I44: =IF(F44=0,0,ROUND($F44*COEF!$L$27,0)) -> 0 | J44: =IF(F44=0,0,IF((F44/K44)<9000,"ERROR",(F44/3000)*10)) -> 0 | L44: =ROUND(G44*$M$19,0) -> 0 | M44: =ROUND(H44*$M$19,0) -> 0 | N44: =ROUND(I44*$M$19,0) -> 0 | O44: =L44+G44 -> 0 | P44: =M44+H44 -> 0 | Q44: =N44+I44 -> 0 | R44: =SUM(O44:Q44) -> 0
B45: P | D45: TOTAL ENERGIA CON MEDICION SIN BANDAS HORARIAS Gud | F45: =SUM(F40:F44) -> 0 | G45: =SUM(G40:G44) -> 0 | H45: =SUM(H40:H44) -> 0 | I45: =SUM(I40:I44) -> 0 | J45: =SUM(J40:J44) -> 0 | K45: =SUM(K40:K44) -> 0 | L45: =SUM(L40:L44) -> 0 | M45: =SUM(M40:M44) -> 0 | ... R45: =SUM(R40:R44) -> 0
D46: TOTAL ENERGIA Gud | F46: =+F45+F38 -> 0 | G46: =+G45+G38 -> 0 | H46: =+H45+H38 -> 0 | I46: =+I45+I38 -> 0 | J46: =+J45+J38 -> 0 | K46: =+K45+K38 -> 0 | L46: =+L45+L38 -> 0 | M46: =+M45+M38 -> 0 | ... R46: =+R45+R38 -> 0 | T46: =+SUM(L46:N46) -> 0
A48: U30 (=> 10 y < 30 Kw) | B48: L1 | C48: USUARIOS SIN MEDICION DE DEMANDA CONSUMOS RESIDENCIALES MAYOR A 5000 Y MENOR A 15000 Y COMERCIALES-RURALES-OTROS USUARIOS IGUALES O MAYOR A 3000 kWh y MENOR A 9000 kWh | D48: COMERCIALES CON CONSUMOS MAYORES A 3000 Kwh Y MENORES QUE 9000 KWH | G48: =IF(F48=0,0,ROUND($F48*COEF!$J$27,0)) -> 0 | H48: =IF(F48=0,0,ROUND($F48*COEF!$K$27,0)) -> 0 | I48: =IF(F48=0,0,ROUND($F48*COEF!$L$27,0)) -> 0 | J48: =IF(F48=0,0,IF((F48/K48)>=9000,"ERROR",IF((F48/K48)<=3000,"ERROR",(F48/3000)*10))) -> 0 | L48: =ROUND(G48*$M$19,0) -> 0 | M48: =ROUND(H48*$M$19,0) -> 0 | N48: =ROUND(I48*$M$19,0) -> 0 | O48: =L48+G48 -> 0 | P48: =M48+H48 -> 0 | Q48: =N48+I48 -> 0 | R48: =SUM(O48:Q48) -> 0
...

Sheet GUDI  -HOJA2
A1: PLANILLA DE TRABAJO INTERNA -USO EXCLUSIVO ASOCIADAS FACE-FECESCOR HOJA Nº 2- PROVISORIA
I2: MT
I3: BT
A4: USUARIOS DE DEMANDA IGUAL O MAYOR A 300 KW DE DEMANDA (NO OFICIALES) | B4: USUARIOS DE DEMANDA IGUAL O MAYOR A 300 KW DE DEMANDA (NO OFICIALES)
A7: Jurisdiccion | B7: GUDI DESIGNACION | C7: Ident Suministro: | D7: Nombre Empresa | E7: Direccion | F7: CUIT | G7: Actividad | H7: Categoria | I7: Nivel de Tensión kV | J7: Demandas (kW) | P7: Energia Facturada kWh | T7: PERDIDAS kWh | AF7: KWH FACTURADOS kWh | AJ7: PERDIDAS kWh | AO7: PERDIDAS kWh
J8: DP REGISTRADA | K8: DP CONTRATADA | L8: DFP REGISTRADA | M8: DFP CONTRATADA | N8: Pot Máxima Kw registrada | O8: Pot Máxima Kw contratada | P8: Pico | Q8: Resto | R8: Valle | S8: Total | T8: COEF PERDIDAS | U8: Pico | V8: Resto | W8: Valle | X8: Total | AF8: Pico | AG8: Resto | AH8: Valle | AI8: Total | AJ8: Pico | AK8: Resto | AL8: Valle | AM8: Total | AO8: Pico | AP8: Resto | AQ8: Valle | AR8: Total
A9: ='CAMMESA-SECCION I'!$C$7 -> 0 | N9: =+IF(J9>L9,J9,L9) -> 0 | O9: =+IF(K9>M9,K9,M9) -> 0 | S9: =SUM(P9:R9) -> 0 | T9: =+IF(I9="MT",'Compra -HOJA1'!M$18,IF(I9="BT",'Compra -HOJA1'!M$19,0)) -> 0 | U9: =+$T9*P9 -> 0 | V9: =+$T9*Q9 -> 0 | W9: =+$T9*R9 -> 0 | X9: =SUM(U9:W9) -> 0 | AF9: =+ROUND(P9,0) -> 0 | AG9: =+ROUND(Q9,0) -> 0 | AH9: =+ROUND(R9,0) -> 0 | AI9: =SUM(AF9:AH9) -> 0 | AJ9: =+ROUND(U9,0) -> 0 | AK9: =+AM9-AJ9-AL9 -> 0 | AL9: =+ROUND(W9,0) -> 0 | AM9: =+ROUND(X9,0) -> 0 | AO9: =+INT(U9) -> 0 | AP9: =+AR9-AO9-AQ9 -> 0 | AQ9: =+INT(W9) -> 0 | AR9: =+INT(X9) -> 0
A10: ='CAMMESA-SECCION I'!$C$7 -> 0 | N10: =+IF(J10>L10,J10,L10) -> 0 | O10: =+IF(K10>M10,K10,M10) -> 0 | S10: =SUM(P10:R10) -> 0 | T10: =+IF(I10="MT",'Compra -HOJA1'!M$18,IF(I10="BT",'Compra -HOJA1'!M$19,0)) -> 0 | U10: =+$T10*P10 -> 0 | V10: =+$T10*Q10 -> 0 | W10: =+$T10*R10 -> 0 | X10: =SUM(U10:W10) -> 0 | AF10: =+ROUND(P10,0) -> 0 | AG10: =+ROUND(Q10,0) -> 0 | AH10: =+ROUND(R10,0) -> 0 | AI10: =SUM(AF10:AH10) -> 0 | AJ10: =+ROUND(U10,0) -> 0 | AK10: =+AM10-AJ10-AL10 -> 0 | AL10: =+ROUND(W10,0) -> 0 | AM10: =+ROUND(X10,0) -> 0 | AO10: =+INT(U10) -> 0 | AP10: =+AR10-AO10-AQ10 -> 0 | AQ10: =+INT(W10) -> 0 | AR10: =+INT(X10) -> 0
A11: ='CAMMESA-SECCION I'!$C$7 -> 0 | N11: =+IF(J11>L11,J11,L11) -> 0 | O11: =+IF(K11>M11,K11,M11) -> 0 | S11: =SUM(P11:R11) -> 0 | T11: =+IF(I11="MT",'Compra -HOJA1'!M$18,IF(I11="BT",'Compra -HOJA1'!M$19,0)) -> 0 | U11: =+$T11*P11 -> 0 | V11: =+$T11*Q11 -> 0 | W11: =+$T11*R11 -> 0 | X11: =SUM(U11:W11) -> 0 | AF11: =+ROUND(P11,0) -> 0 | AG11: =+ROUND(Q11,0) -> 0 | AH11: =+ROUND(R11,0) -> 0 | AI11: =SUM(AF11:AH11) -> 0 | AJ11: =+ROUND(U11,0) -> 0 | AK11: =+AM11-AJ11-AL11 -> 0 | AL11: =+ROUND(W11,0) -> 0 | AM11: =+ROUND(X11,0) -> 0 | AO11: =+INT(U11) -> 0 | AP11: =+AR11-AO11-AQ11 -> 0 | AQ11: =+INT(W11) -> 0 | AR11: =+INT(X11) -> 0
A12: ='CAMMESA-SECCION I'!$C$7 -> 0 | N12: =+IF(J12>L12,J12,L12) -> 0 | O12: =+IF(K12>M12,K12,M12) -> 0 | S12: =SUM(P12:R12) -> 0 | T12: =+IF(I12="MT",'Compra -HOJA1'!M$18,IF(I12="BT",'Compra -HOJA1'!M$19,0)) -> 0 | U12: =+$T12*P12 -> 0 | V12: =+$T12*Q12 -> 0 | W12: =+$T12*R12 -> 0 | X12: =SUM(U12:W12) -> 0 | AF12: =+ROUND(P12,0) -> 0 | AG12: =+ROUND(Q12,0) -> 0 | AH12: =+ROUND(R12,0) -> 0 | AI12: =SUM(AF12:AH12) -> 0 | AJ12: =+ROUND(U12,0) -> 0 | AK12: =+AM12-AJ12-AL12 -> 0 | AL12: =+ROUND(W12,0) -> 0 | AM12: =+ROUND(X12,0) -> 0 | AO12: =+INT(U12) -> 0 | AP12: =+AR12-AO12-AQ12 -> 0 | AQ12: =+INT(W12) -> 0 | AR12: =+INT(X12) -> 0
A13: ='CAMMESA-SECCION I'!$C$7 -> 0 | N13: =+IF(J13>L13,J13,L13) -> 0 | O13: =+IF(K13>M13,K13,M13) -> 0 | S13: =SUM(P13:R13) -> 0 | T13: =+IF(I13="MT",'Compra -HOJA1'!M$18,IF(I13="BT",'Compra -HOJA1'!M$19,0)) -> 0 | U13: =+$T13*P13 -> 0 | V13: =+$T13*Q13 -> 0 | W13: =+$T13*R13 -> 0 | X13: =SUM(U13:W13) -> 0 | AF13: =+ROUND(P13,0) -> 0 | AG13: =+ROUND(Q13,0) -> 0 | AH13: =+ROUND(R13,0) -> 0 | AI13: =SUM(AF13:AH13) -> 0 | AJ13: =+ROUND(U13,0) -> 0 | AK13: =+AM13-AJ13-AL13 -> 0 | AL13: =+ROUND(W13,0) -> 0 | AM13: =+ROUND(X13,0) -> 0 | AO13: =+INT(U13) -> 0 | AP13: =+AR13-AO13-AQ13 -> 0 | AQ13: =+INT(W13) -> 0 | AR13: =+INT(X13) -> 0
A14: ='CAMMESA-SECCION I'!$C$7 -> 0 | N14: =+IF(J14>L14,J14,L14) -> 0 | O14: =+IF(K14>M14,K14,M14) -> 0 | S14: =SUM(P14:R14) -> 0 | T14: =+IF(I14="MT",'Compra -HOJA1'!M$18,IF(I14="BT",'Compra -HOJA1'!M$19,0)) -> 0 | U14: =+$T14*P14 -> 0 | V14: =+$T14*Q14 -> 0 | W14: =+$T14*R14 -> 0 | X14: =SUM(U14:W14) -> 0 | AF14: =+ROUND(P14,0) -> 0 | AG14: =+ROUND(Q14,0) -> 0 | AH14: =+ROUND(R14,0) -> 0 | AI14: =SUM(AF14:AH14) -> 0 | AJ14: =+ROUND(U14,0) -> 0 | AK14: =+AM14-AJ14-AL14 -> 0 | AL14: =+ROUND(W14,0) -> 0 | AM14: =+ROUND(X14,0) -> 0 | AO14: =+INT(U14) -> 0 | AP14: =+AR14-AO14-AQ14 -> 0 | AQ14: =+INT(W14) -> 0 | AR14: =+INT(X14) -> 0
A15: ='CAMMESA-SECCION I'!$C$7 -> 0 | N15: =+IF(J15>L15,J15,L15) -> 0 | O15: =+IF(K15>M15,K15,M15) -> 0 | S15: =SUM(P15:R15) -> 0 | T15: =+IF(I15="MT",'Compra -HOJA1'!M$18,IF(I15="BT",'Compra -HOJA1'!M$19,0)) -> 0 | U15: =+$T15*P15 -> 0 | V15: =+$T15*Q15 -> 0 | W15: =+$T15*R15 -> 0 | X15: =SUM(U15:W15) -> 0 | AF15: =+ROUND(P15,0) -> 0 | AG15: =+ROUND(Q15,0) -> 0 | AH15: =+ROUND(R15,0) -> 0 | AI15: =SUM(AF15:AH15) -> 0 | AJ15: =+ROUND(U15,0) -> 0 | AK15: =+AM15-AJ15-AL15 -> 0 | AL15: =+ROUND(W15,0) -> 0 | AM15: =+ROUND(X15,0) -> 0 | AO15: =+INT(U15) -> 0 | AP15: =+AR15-AO15-AQ15 -> 0 | AQ15: =+INT(W15) -> 0 | AR15: =+INT(X15) -> 0
A16: ='CAMMESA-SECCION I'!$C$7 -> 0 | N16: =+IF(J16>L16,J16,L16) -> 0 | O16: =+IF(K16>M16,K16,M16) -> 0 | S16: =SUM(P16:R16) -> 0 | T16: =+IF(I16="MT",'Compra -HOJA1'!M$18,IF(I16="BT",'Compra -HOJA1'!M$19,0)) -> 0 | U16: =+$T16*P16 -> 0 | V16: =+$T16*Q16 -> 0 | W16: =+$T16*R16 -> 0 | X16: =SUM(U16:W16) -> 0 | AF16: =+ROUND(P16,0) -> 0 | AG16: =+ROUND(Q16,0) -> 0 | AH16: =+ROUND(R16,0) -> 0 | AI16: =SUM(AF16:AH16) -> 0 | AJ16: =+ROUND(U16,0) -> 0 | AK16: =+AM16-AJ16-AL16 -> 0 | AL16: =+ROUND(W16,0) -> 0 | AM16: =+ROUND(X16,0) -> 0 | AO16: =+INT(U16) -> 0 | AP16: =+AR16-AO16-AQ16 -> 0 | AQ16: =+INT(W16) -> 0 | AR16: =+INT(X16) -> 0
A17: ='CAMMESA-SECCION I'!$C$7 -> 0 | N17: =+IF(J17>L17,J17,L17) -> 0 | O17: =+IF(K17>M17,K17,M17) -> 0 | S17: =SUM(P17:R17) -> 0 | T17: =+IF(I17="MT",'Compra -HOJA1'!M$18,IF(I17="BT",'Compra -HOJA1'!M$19,0)) -> 0 | U17: =+$T17*P17 -> 0 | V17: =+$T17*Q17 -> 0 | W17: =+$T17*R17 -> 0 | X17: =SUM(U17:W17) -> 0 | AF17: =+ROUND(P17,0) -> 0 | AG17: =+ROUND(Q17,0) -> 0 | AH17: =+ROUND(R17,0) -> 0 | AI17: =SUM(AF17:AH17) -> 0 | AJ17: =+ROUND(U17,0) -> 0 | AK17: =+AM17-AJ17-AL17 -> 0 | AL17: =+ROUND(W17,0) -> 0 | AM17: =+ROUND(X17,0) -> 0 | AO17: =+INT(U17) -> 0 | AP17: =+AR17-AO17-AQ17 -> 0 | AQ17: =+INT(W17) -> 0 | AR17: =+INT(X17) -> 0
A18: ='CAMMESA-SECCION I'!$C$7 -> 0 | N18: =+IF(J18>L18,J18,L18) -> 0 | O18: =+IF(K18>M18,K18,M18) -> 0 | S18: =SUM(P18:R18) -> 0 | T18: =+IF(I18="MT",'Compra -HOJA1'!M$18,IF(I18="BT",'Compra -HOJA1'!M$19,0)) -> 0 | U18: =+$T18*P18 -> 0 | V18: =+$T18*Q18 -> 0 | W18: =+$T18*R18 -> 0 | X18: =SUM(U18:W18) -> 0 | AF18: =+ROUND(P18,0) -> 0 | AG18: =+ROUND(Q18,0) -> 0 | AH18: =+ROUND(R18,0) -> 0 | AI18: =SUM(AF18:AH18) -> 0 | AJ18: =+ROUND(U18,0) -> 0 | AK18: =+AM18-AJ18-AL18 -> 0 | AL18: =+ROUND(W18,0) -> 0 | AM18: =+ROUND(X18,0) -> 0 | AO18: =+INT(U18) -> 0 | AP18: =+AR18-AO18-AQ18 -> 0 | AQ18: =+INT(W18) -> 0 | AR18: =+INT(X18) -> 0

Sheet SUMIN -HOJA3
B1: PLANILLA DE TRABAJO INTERNA -USO EXCLUSIVO ASOCIADAS FACE-FECESCOR HOJA Nº 3- PROVISORIA | AF1: 6000 | AG1: Electrodependientes | AH1: Residencial | AI1: =+CONCATENATE(AG1,"-",AH1) -> Electrodependientes-Residencial | AJ1: =IF(ISNUMBER(SEARCH("No Residencial", AI1)), "No Residencial", IF(ISNUMBER(SEARCH("Residencial", AI1)), "Residencial", "")) -> Residencial
AF2: 6000 | AG2: Bomberos Voluntarios | AH2: Residencial | AI2: =+CONCATENATE(AG2,"-",AH2) -> Bomberos Voluntarios-Residencial | AJ2: =IF(ISNUMBER(SEARCH("No Residencial", AI2)), "No Residencial", IF(ISNUMBER(SEARCH("Residencial", AI2)), "Residencial", "")) -> Residencial
AF3: 6500 | AG3: Clubes de Barrio y Pueblo | AH3: Residencial | AI3: =+CONCATENATE(AG3,"-",AH3) -> Clubes de Barrio y Pueblo-Residencial | AJ3: =IF(ISNUMBER(SEARCH("No Residencial", AI3)), "No Residencial", IF(ISNUMBER(SEARCH("Residencial", AI3)), "Residencial", "")) -> Residencial
AF4: 6500 | AG4: Clubes de Barrio y Pueblo | AH4: No Residencial | AI4: =+CONCATENATE(AG4,"-",AH4) -> Clubes de Barrio y Pueblo-No Residencial | AJ4: =IF(ISNUMBER(SEARCH("No Residencial", AI4)), "No Residencial", IF(ISNUMBER(SEARCH("Residencial", AI4)), "Residencial", "")) -> No Residencial
AF5: 6500 | AG5: Entidades de Bien Público | AH5: Residencial | AI5: =+CONCATENATE(AG5,"-",AH5) -> Entidades de Bien Público-Residencial | AJ5: =IF(ISNUMBER(SEARCH("No Residencial", AI5)), "No Residencial", IF(ISNUMBER(SEARCH("Residencial", AI5)), "Residencial", "")) -> Residencial
AF6: 6500 | AG6: Entidades de Bien Público | AH6: No Residencial | AI6: =+CONCATENATE(AG6,"-",AH6) -> Entidades de Bien Público-No Residencial | AJ6: =IF(ISNUMBER(SEARCH("No Residencial", AI6)), "No Residencial", IF(ISNUMBER(SEARCH("Residencial", AI6)), "Residencial", "")) -> No Residencial
AF7: N2 | AG7: Medidores comunitarios de complejos habitacionales | AH7: Residencial | AI7: =+CONCATENATE(AG7,"-",AH7) -> Medidores comunitarios de complejos habitacionales-Residencial | AJ7: =IF(ISNUMBER(SEARCH("No Residencial", AI7)), "No Residencial", IF(ISNUMBER(SEARCH("Residencial", AI7)), "Residencial", "")) -> Residencial
AF8: N2 | AG8: Asentamientos residenciales | AH8: Residencial | AI8: =+CONCATENATE(AG8,"-",AH8) -> Asentamientos residenciales-Residencial | AJ8: =IF(ISNUMBER(SEARCH("No Residencial", AI8)), "No Residencial", IF(ISNUMBER(SEARCH("Residencial", AI8)), "Residencial", "")) -> Residencial
B10: "GESTION DE PUNTOS DE SUMINISTRO "
B11: USUARIOS: Electrodependientes - Bomberos voluntarios - Clubes de barrio y pueblo - Medidores comunitarios de complejos habitacionales
G13: Descripción | H13: Categoria de Usuario
G14: Electrodependientes | H14: 6000
G15: Bomberos Voluntarios | H15: 6000
G16: Clubes de Barrio y Pueblo | H16: 6500
G17: Entidades de Bien Público | H17: 6500
G18: Medidores comunitarios de complejos habitacionales | H18: N2
G19: Asentamientos residenciales | H19: N2
M21: =+COEF!J27 -> 0 | N21: =+COEF!L27 -> 0 | O21: =+COEF!K27 -> 0 | Q21: =+'Compra -HOJA1'!I395 -> 0 | R21: =+'Compra -HOJA1'!K395 -> 0 | S21: =+'Compra -HOJA1'!J395 -> 0 | Z21: Energia Facturada (kWh) | AC21: Perdidas en la red (kWh)
A22: CODIGO-SUMINISTRO | B22: SUMINISTRO | C22: RAZON SOCIAL | D22: DIRECCION | E22: LOCALIDAD | F22: PROVINCIA | G22: TIPO DE USUARIO Y DE CONSUMO | H22: CODIGO | I22: TIPO CONSUMO | J22: KWH | K22: SEGMENTO | L22: CODIGO-SEGMENTO | M22: PICO | N22: VALLE | O22: RESTO | P22: TOTAL | Q22: PICO | R22: VALLE | S22: RESTO | T22: TOTAL | W22: CODIGO | X22: Segmento | Z22: Pico | AA22: Valle | AB22: Resto | AC22: Pico | AD22: Valle | AE22: Resto | AF22: FACTURADO
H23: =IF(ISNUMBER(SEARCH("Electrodependientes-Residencial", G23)), "6000", IF(ISNUMBER(SEARCH("Bomberos Voluntarios-Residencial", G23)), "6000", IF(ISNUMBER(SEARCH("Clubes de Barrio y Pueblo-Residencial", G23)), "6500", IF(ISNUMBER(SEARCH("Clubes de Barrio y Pueblo-No Residencial", G23)), "6500", IF(ISNUMBER(SEARCH("Entidades de Bien Público-Residencial", G23)), "6500", IF(ISNUMBER(SEARCH("Entidades de Bien Público-No Residencial", G23)), "6500", IF(ISNUMBER(SEARCH("Medidores comunitarios de complejos habitacionales-Residencial", G23)), "N2", IF(ISNUMBER(SEARCH("Asentamientos residenciales-Residencial", G23)), "N2", "")))))))) | I23: =IF(ISNUMBER(SEARCH("No Residencial", G23)), "No Residencial", IF(ISNUMBER(SEARCH("Residencial", G23)), "Residencial", "")) | K23: =IF(I23="Residencial", IF(J23<=150, "UR1", IF(AND(J23>150, J23<=500), "UR2", IF(AND(J23>500, J23<=700), "UR3", IF(AND(J23>700, J23<=1400), "UR4", IF(J23>1400, "UR5", ""))))), IF(I23="No Residencial", IF(J23<2000, "NR1", IF(AND(J23>1999, J23<3000), "NR2", IF(AND(J23>=3000, J23<=8999), "U30", IF(J23>8999, "Gud", "")))), "")) | L23: =+CONCATENATE(H23,"-",K23) -> - | M23: =+ROUND($J23*M$21,0) -> 0 | N23: =+ROUND($J23*N$21,0) -> 0 | O23: =+J23-M23-N23 -> 0 | P23: =SUM(M23:O23) -> 0 | Q23: =+ROUND(M23*Q$21,0) -> 0 | R23: =+ROUND(N23*R$21,0) -> 0 | S23: =+T23-Q23-R23 -> 0 | T23: =+ROUND(P23*Q$21,0) -> 0 | U23: =SUM(Q23:S23) -> 0 | W23: =+L23 -> - | X23: =+K23 | Z23: =+ROUND(M23,0) -> 0 | AA23: =+ROUND(N23,0) -> 0 | AB23: =+AF23-Z23-AA23 -> 0 | AC23: =+ROUND(Q23,0) -> 0 | AD23: =+ROUND(R23,0) -> 0 | AE23: =+ROUND(S23,0) -> 0 | AF23: =+ROUND(J23,0) -> 0
H24: =IF(ISNUMBER(SEARCH("Electrodependientes-Residencial", G24)), "6000", IF(ISNUMBER(SEARCH("Bomberos Voluntarios-Residencial", G24)), "6000", IF(ISNUMBER(SEARCH("Clubes de Barrio y Pueblo-Residencial", G24)), "6500", IF(ISNUMBER(SEARCH("Clubes de Barrio y Pueblo-No Residencial", G24)), "6500", IF(ISNUMBER(SEARCH("Entidades de Bien Público-Residencial", G24)), "6500", IF(ISNUMBER(SEARCH("Entidades de Bien Público-No Residencial", G24)), "6500", IF(ISNUMBER(SEARCH("Medidores comunitarios de complejos habitacionales-Residencial", G24)), "N2", IF(ISNUMBER(SEARCH("Asentamientos residenciales-Residencial", G24)), "N2", "")))))))) | I24: =IF(ISNUMBER(SEARCH("No Residencial", G24)), "No Residencial", IF(ISNUMBER(SEARCH("Residencial", G24)), "Residencial", "")) | K24: =IF(I24="Residencial", IF(J24<=150, "UR1", IF(AND(J24>150, J24<=500), "UR2", IF(AND(J24>500, J24<=700), "UR3", IF(AND(J24>700, J24<=1400), "UR4", IF(J24>1400, "UR5", ""))))), IF(I24="No Residencial", IF(J24<2000, "NR1", IF(AND(J24>1999, J24<3000), "NR2", IF(AND(J24>=3000, J24<=8999), "U30", IF(J24>8999, "Gud", "")))), "")) | L24: =+CONCATENATE(H24,"-",K24) -> - | M24: =+ROUND($J24*M$21,0) -> 0 | N24: =+ROUND($J24*N$21,0) -> 0 | O24: =+J24-M24-N24 -> 0 | P24: =SUM(M24:O24) -> 0 | Q24: =+ROUND(M24*Q$21,0) -> 0 | R24: =+ROUND(N24*R$21,0) -> 0 | S24: =+T24-Q24-R24 -> 0 | T24: =+ROUND(P24*Q$21,0) -> 0 | U24: =SUM(Q24:S24) -> 0 | W24: =+L24 -> - | X24: =+K24 | Z24: =+ROUND(M24,0) -> 0 | AA24: =+ROUND(N24,0) -> 0 | AB24: =+AF24-Z24-AA24 -> 0 | AC24: =+ROUND(Q24,0) -> 0 | AD24: =+ROUND(R24,0) -> 0 | AE24: =+ROUND(S24,0) -> 0 | AF24: =+ROUND(J24,0) -> 0
H25: =IF(ISNUMBER(SEARCH("Electrodependientes-Residencial", G25)), "6000", IF(ISNUMBER(SEARCH("Bomberos Voluntarios-Residencial", G25)), "6000", IF(ISNUMBER(SEARCH("Clubes de Barrio y Pueblo-Residencial", G25)), "6500", IF(ISNUMBER(SEARCH("Clubes de Barrio y Pueblo-No Residencial", G25)), "6500", IF(ISNUMBER(SEARCH("Entidades de Bien Público-Residencial", G25)), "6500", IF(ISNUMBER(SEARCH("Entidades de Bien Público-No Residencial", G25)), "6500", IF(ISNUMBER(SEARCH("Medidores comunitarios de complejos habitacionales-Residencial", G25)), "N2", IF(ISNUMBER(SEARCH("Asentamientos residenciales-Residencial", G25)), "N2", "")))))))) | I25: =IF(ISNUMBER(SEARCH("No Residencial", G25)), "No Residencial", IF(ISNUMBER(SEARCH("Residencial", G25)), "Residencial", "")) | K25: =IF(I25="Residencial", IF(J25<=150, "UR1", IF(AND(J25>150, J25<=500), "UR2", IF(AND(J25>500, J25<=700), "UR3", IF(AND(J25>700, J25<=1400), "UR4", IF(J25>1400, "UR5", ""))))), IF(I25="No Residencial", IF(J25<2000, "NR1", IF(AND(J25>1999, J25<3000), "NR2", IF(AND(J25>=3000, J25<=8999), "U30", IF(J25>8999, "Gud", "")))), "")) | L25: =+CONCATENATE(H25,"-",K25) -> - | M25: =+ROUND($J25*M$21,0) -> 0 | N25: =+ROUND($J25*N$21,0) -> 0 | O25: =+J25-M25-N25 -> 0 | P25: =SUM(M25:O25) -> 0 | Q25: =+ROUND(M25*Q$21,0) -> 0 | R25: =+ROUND(N25*R$21,0) -> 0 | S25: =+T25-Q25-R25 -> 0 | T25: =+ROUND(P25*Q$21,0) -> 0 | U25: =SUM(Q25:S25) -> 0 | W25: =+L25 -> - | X25: =+K25 | Z25: =+ROUND(M25,0) -> 0 | AA25: =+ROUND(N25,0) -> 0 | AB25: =+AF25-Z25-AA25 -> 0 | AC25: =+ROUND(Q25,0) -> 0 | AD25: =+ROUND(R25,0) -> 0 | AE25: =+ROUND(S25,0) -> 0 | AF25: =+ROUND(J25,0) -> 0
H26: =IF(ISNUMBER(SEARCH("Electrodependientes-Residencial", G26)), "6000", IF(ISNUMBER(SEARCH("Bomberos Voluntarios-Residencial", G26)), "6000", IF(ISNUMBER(SEARCH("Clubes de Barrio y Pueblo-Residencial", G26)), "6500", IF(ISNUMBER(SEARCH("Clubes de Barrio y Pueblo-No Residencial", G26)), "6500", IF(ISNUMBER(SEARCH("Entidades de Bien Público-Residencial", G26)), "6500", IF(ISNUMBER(SEARCH("Entidades de Bien Público-No Residencial", G26)), "6500", IF(ISNUMBER(SEARCH("Medidores comunitarios de complejos habitacionales-Residencial", G26)), "N2", IF(ISNUMBER(SEARCH("Asentamientos residenciales-Residencial", G26)), "N2", "")))))))) | I26: =IF(ISNUMBER(SEARCH("No Residencial", G26)), "No Residencial", IF(ISNUMBER(SEARCH("Residencial", G26)), "Residencial", "")) | K26: =IF(I26="Residencial", IF(J26<=150, "UR1", IF(AND(J26>150, J26<=500), "UR2", IF(AND(J26>500, J26<=700), "UR3", IF(AND(J26>700, J26<=1400), "UR4", IF(J26>1400, "UR5", ""))))), IF(I26="No Residencial", IF(J26<2000, "NR1", IF(AND(J26>1999, J26<3000), "NR2", IF(AND(J26>=3000, J26<=8999), "U30", IF(J26>8999, "Gud", "")))), "")) | L26: =+CONCATENATE(H26,"-",K26) -> - | M26: =+ROUND($J26*M$21,0) -> 0 | N26: =+ROUND($J26*N$21,0) -> 0 | O26: =+J26-M26-N26 -> 0 | P26: =SUM(M26:O26) -> 0 | Q26: =+ROUND(M26*Q$21,0) -> 0 | R26: =+ROUND(N26*R$21,0) -> 0 | S26: =+T26-Q26-R26 -> 0 | T26: =+ROUND(P26*Q$21,0) -> 0 | U26: =SUM(Q26:S26) -> 0 | W26: =+L26 -> - | X26: =+K26 | Z26: =+ROUND(M26,0) -> 0 | AA26: =+ROUND(N26,0) -> 0 | AB26: =+AF26-Z26-AA26 -> 0 | AC26: =+ROUND(Q26,0) -> 0 | AD26: =+ROUND(R26,0) -> 0 | AE26: =+ROUND(S26,0) -> 0 | AF26: =+ROUND(J26,0) -> 0
H27: =IF(ISNUMBER(SEARCH("Electrodependientes-Residencial", G27)), "6000", IF(ISNUMBER(SEARCH("Bomberos Voluntarios-Residencial", G27)), "6000", IF(ISNUMBER(SEARCH("Clubes de Barrio y Pueblo-Residencial", G27)), "6500", IF(ISNUMBER(SEARCH("Clubes de Barrio y Pueblo-No Residencial", G27)), "6500", IF(ISNUMBER(SEARCH("Entidades de Bien Público-Residencial", G27)), "6500", IF(ISNUMBER(SEARCH("Entidades de Bien Público-No Residencial", G27)), "6500", IF(ISNUMBER(SEARCH("Medidores comunitarios de complejos habitacionales-Residencial", G27)), "N2", IF(ISNUMBER(SEARCH("Asentamientos residenciales-Residencial", G27)), "N2", "")))))))) | I27: =IF(ISNUMBER(SEARCH("No Residencial", G27)), "No Residencial", IF(ISNUMBER(SEARCH("Residencial", G27)), "Residencial", "")) | K27: =IF(I27="Residencial", IF(J27<=150, "UR1", IF(AND(J27>150, J27<=500), "UR2", IF(AND(J27>500, J27<=700), "UR3", IF(AND(J27>700, J27<=1400), "UR4", IF(J27>1400, "UR5", ""))))), IF(I27="No Residencial", IF(J27<2000, "NR1", IF(AND(J27>1999, J27<3000), "NR2", IF(AND(J27>=3000, J27<=8999), "U30", IF(J27>8999, "Gud", "")))), "")) | L27: =+CONCATENATE(H27,"-",K27) -> - | M27: =+ROUND($J27*M$21,0) -> 0 | N27: =+ROUND($J27*N$21,0) -> 0 | O27: =+J27-M27-N27 -> 0 | P27: =SUM(M27:O27) -> 0 | Q27: =+ROUND(M27*Q$21,0) -> 0 | R27: =+ROUND(N27*R$21,0) -> 0 | S27: =+T27-Q27-R27 -> 0 | T27: =+ROUND(P27*Q$21,0) -> 0 | U27: =SUM(Q27:S27) -> 0 | W27: =+L27 -> - | X27: =+K27 | Z27: =+ROUND(M27,0) -> 0 | AA27: =+ROUND(N27,0) -> 0 | AB27: =+AF27-Z27-AA27 -> 0 | AC27: =+ROUND(Q27,0) -> 0 | AD27: =+ROUND(R27,0) -> 0 | AE27: =+ROUND(S27,0) -> 0 | AF27: =+ROUND(J27,0) -> 0
H28: =IF(ISNUMBER(SEARCH("Electrodependientes-Residencial", G28)), "6000", IF(ISNUMBER(SEARCH("Bomberos Voluntarios-Residencial", G28)), "6000", IF(ISNUMBER(SEARCH("Clubes de Barrio y Pueblo-Residencial", G28)), "6500", IF(ISNUMBER(SEARCH("Clubes de Barrio y Pueblo-No Residencial", G28)), "6500", IF(ISNUMBER(SEARCH("Entidades de Bien Público-Residencial", G28)), "6500", IF(ISNUMBER(SEARCH("Entidades de Bien Público-No Residencial", G28)), "6500", IF(ISNUMBER(SEARCH("Medidores comunitarios de complejos habitacionales-Residencial", G28)), "N2", IF(ISNUMBER(SEARCH("Asentamientos residenciales-Residencial", G28)), "N2", "")))))))) | I28: =IF(ISNUMBER(SEARCH("No Residencial", G28)), "No Residencial", IF(ISNUMBER(SEARCH("Residencial", G28)), "Residencial", "")) | K28: =IF(I28="Residencial", IF(J28<=150, "UR1", IF(AND(J28>150, J28<=500), "UR2", IF(AND(J28>500, J28<=700), "UR3", IF(AND(J28>700, J28<=1400), "UR4", IF(J28>1400, "UR5", ""))))), IF(I28="No Residencial", IF(J28<2000, "NR1", IF(AND(J28>1999, J28<3000), "NR2", IF(AND(J28>=3000, J28<=8999), "U30", IF(J28>8999, "Gud", "")))), "")) | L28: =+CONCATENATE(H28,"-",K28) -> - | M28: =+ROUND($J28*M$21,0) -> 0 | N28: =+ROUND($J28*N$21,0) -> 0 | O28: =+J28-M28-N28 -> 0 | P28: =SUM(M28:O28) -> 0 | Q28: =+ROUND(M28*Q$21,0) -> 0 | R28: =+ROUND(N28*R$21,0) -> 0 | S28: =+T28-Q28-R28 -> 0 | T28: =+ROUND(P28*Q$21,0) -> 0 | U28: =SUM(Q28:S28) -> 0 | W28: =+L28 -> - | X28: =+K28 | Z28: =+ROUND(M28,0) -> 0 | AA28: =+ROUND(N28,0) -> 0 | AB28: =+AF28-Z28-AA28 -> 0 | AC28: =+ROUND(Q28,0) -> 0 | AD28: =+ROUND(R28,0) -> 0 | AE28: =+ROUND(S28,0) -> 0 | AF28: =+ROUND(J28,0) -> 0
H29: =IF(ISNUMBER(SEARCH("Electrodependientes-Residencial", G29)), "6000", IF(ISNUMBER(SEARCH("Bomberos Voluntarios-Residencial", G29)), "6000", IF(ISNUMBER(SEARCH("Clubes de Barrio y Pueblo-Residencial", G29)), "6500", IF(ISNUMBER(SEARCH("Clubes de Barrio y Pueblo-No Residencial", G29)), "6500", IF(ISNUMBER(SEARCH("Entidades de Bien Público-Residencial", G29)), "6500", IF(ISNUMBER(SEARCH("Entidades de Bien Público-No Residencial", G29)), "6500", IF(ISNUMBER(SEARCH("Medidores comunitarios de complejos habitacionales-Residencial", G29)), "N2", IF(ISNUMBER(SEARCH("Asentamientos residenciales-Residencial", G29)), "N2", "")))))))) | I29: =IF(ISNUMBER(SEARCH("No Residencial", G29)), "No Residencial", IF(ISNUMBER(SEARCH("Residencial", G29)), "Residencial", "")) | K29: =IF(I29="Residencial", IF(J29<=150, "UR1", IF(AND(J29>150, J29<=500), "UR2", IF(AND(J29>500, J29<=700), "UR3", IF(AND(J29>700, J29<=1400), "UR4", IF(J29>1400, "UR5", ""))))), IF(I29="No Residencial", IF(J29<2000, "NR1", IF(AND(J29>1999, J29<3000), "NR2", IF(AND(J29>=3000, J29<=8999), "U30", IF(J29>8999, "Gud", "")))), "")) | L29: =+CONCATENATE(H29,"-",K29) -> - | M29: =+ROUND($J29*M$21,0) -> 0 | N29: =+ROUND($J29*N$21,0) -> 0 | O29: =+J29-M29-N29 -> 0 | P29: =SUM(M29:O29) -> 0 | Q29: =+ROUND(M29*Q$21,0) -> 0 | R29: =+ROUND(N29*R$21,0) -> 0 | S29: =+T29-Q29-R29 -> 0 | T29: =+ROUND(P29*Q$21,0) -> 0 | U29: =SUM(Q29:S29) -> 0 | W29: =+L29 -> - | X29: =+K29 | Z29: =+ROUND(M29,0) -> 0 | AA29: =+ROUND(N29,0) -> 0 | AB29: =+AF29-Z29-AA29 -> 0 | AC29: =+ROUND(Q29,0) -> 0 | AD29: =+ROUND(R29,0) -> 0 | AE29: =+ROUND(S29,0) -> 0 | AF29: =+ROUND(J29,0) -> 0
H30: =IF(ISNUMBER(SEARCH("Electrodependientes-Residencial", G30)), "6000", IF(ISNUMBER(SEARCH("Bomberos Voluntarios-Residencial", G30)), "6000", IF(ISNUMBER(SEARCH("Clubes de Barrio y Pueblo-Residencial", G30)), "6500", IF(ISNUMBER(SEARCH("Clubes de Barrio y Pueblo-No Residencial", G30)), "6500", IF(ISNUMBER(SEARCH("Entidades de Bien Público-Residencial", G30)), "6500", IF(ISNUMBER(SEARCH("Entidades de Bien Público-No Residencial", G30)), "6500", IF(ISNUMBER(SEARCH("Medidores comunitarios de complejos habitacionales-Residencial", G30)), "N2", IF(ISNUMBER(SEARCH("Asentamientos residenciales-Residencial", G30)), "N2", "")))))))) | I30: =IF(ISNUMBER(SEARCH("No Residencial", G30)), "No Residencial", IF(ISNUMBER(SEARCH("Residencial", G30)), "Residencial", "")) | K30: =IF(I30="Residencial", IF(J30<=150, "UR1", IF(AND(J30>150, J30<=500), "UR2", IF(AND(J30>500, J30<=700), "UR3", IF(AND(J30>700, J30<=1400), "UR4", IF(J30>1400, "UR5", ""))))), IF(I30="No Residencial", IF(J30<2000, "NR1", IF(AND(J30>1999, J30<3000), "NR2", IF(AND(J30>=3000, J30<=8999), "U30", IF(J30>8999, "Gud", "")))), "")) | L30: =+CONCATENATE(H30,"-",K30) -> - | M30: =+ROUND($J30*M$21,0) -> 0 | N30: =+ROUND($J30*N$21,0) -> 0 | O30: =+J30-M30-N30 -> 0 | P30: =SUM(M30:O30) -> 0 | Q30: =+ROUND(M30*Q$21,0) -> 0 | R30: =+ROUND(N30*R$21,0) -> 0 | S30: =+T30-Q30-R30 -> 0 | T30: =+ROUND(P30*Q$21,0) -> 0 | U30: =SUM(Q30:S30) -> 0 | W30: =+L30 -> - | X30: =+K30 | Z30: =+ROUND(M30,0) -> 0 | AA30: =+ROUND(N30,0) -> 0 | AB30: =+AF30-Z30-AA30 -> 0 | AC30: =+ROUND(Q30,0) -> 0 | AD30: =+ROUND(R30,0) -> 0 | AE30: =+ROUND(S30,0) -> 0 | AF30: =+ROUND(J30,0) -> 0
H31: =IF(ISNUMBER(SEARCH("Electrodependientes-Residencial", G31)), "6000", IF(ISNUMBER(SEARCH("Bomberos Voluntarios-Residencial", G31)), "6000", IF(ISNUMBER(SEARCH("Clubes de Barrio y Pueblo-Residencial", G31)), "6500", IF(ISNUMBER(SEARCH("Clubes de Barrio y Pueblo-No Residencial", G31)), "6500", IF(ISNUMBER(SEARCH("Entidades de Bien Público-Residencial", G31)), "6500", IF(ISNUMBER(SEARCH("Entidades de Bien Público-No Residencial", G31)), "6500", IF(ISNUMBER(SEARCH("Medidores comunitarios de complejos habitacionales-Residencial", G31)), "N2", IF(ISNUMBER(SEARCH("Asentamientos residenciales-Residencial", G31)), "N2", "")))))))) | I31: =IF(ISNUMBER(SEARCH("No Residencial", G31)), "No Residencial", IF(ISNUMBER(SEARCH("Residencial", G31)), "Residencial", "")) | K31: =IF(I31="Residencial", IF(J31<=150, "UR1", IF(AND(J31>150, J31<=500), "UR2", IF(AND(J31>500, J31<=700), "UR3", IF(AND(J31>700, J31<=1400), "UR4", IF(J31>1400, "UR5", ""))))), IF(I31="No Residencial", IF(J31<2000, "NR1", IF(AND(J31>1999, J31<3000), "NR2", IF(AND(J31>=3000, J31<=8999), "U30", IF(J31>8999, "Gud", "")))), "")) | L31: =+CONCATENATE(H31,"-",K31) -> - | M31: =+ROUND($J31*M$21,0) -> 0 | N31: =+ROUND($J31*N$21,0) -> 0 | O31: =+J31-M31-N31 -> 0 | P31: =SUM(M31:O31) -> 0 | Q31: =+ROUND(M31*Q$21,0) -> 0 | R31: =+ROUND(N31*R$21,0) -> 0 | S31: =+T31-Q31-R31 -> 0 | T31: =+ROUND(P31*Q$21,0) -> 0 | U31: =SUM(Q31:S31) -> 0 | W31: =+L31 -> - | X31: =+K31 | Z31: =+ROUND(M31,0) -> 0 | AA31: =+ROUND(N31,0) -> 0 | AB31: =+AF31-Z31-AA31 -> 0 | AC31: =+ROUND(Q31,0) -> 0 | AD31: =+ROUND(R31,0) -> 0 | AE31: =+ROUND(S31,0) -> 0 | AF31: =+ROUND(J31,0) -> 0
H32: =IF(ISNUMBER(SEARCH("Electrodependientes-Residencial", G32)), "6000", IF(ISNUMBER(SEARCH("Bomberos Voluntarios-Residencial", G32)), "6000", IF(ISNUMBER(SEARCH("Clubes de Barrio y Pueblo-Residencial", G32)), "6500", IF(ISNUMBER(SEARCH("Clubes de Barrio y Pueblo-No Residencial", G32)), "6500", IF(ISNUMBER(SEARCH("Entidades de Bien Público-Residencial", G32)), "6500", IF(ISNUMBER(SEARCH("Entidades de Bien Público-No Residencial", G32)), "6500", IF(ISNUMBER(SEARCH("Medidores comunitarios de complejos habitacionales-Residencial", G32)), "N2", IF(ISNUMBER(SEARCH("Asentamientos residenciales-Residencial", G32)), "N2", "")))))))) | I32: =IF(ISNUMBER(SEARCH("No Residencial", G32)), "No Residencial", IF(ISNUMBER(SEARCH("Residencial", G32)), "Residencial", "")) | K32: =IF(I32="Residencial", IF(J32<=150, "UR1", IF(AND(J32>150, J32<=500), "UR2", IF(AND(J32>500, J32<=700), "UR3", IF(AND(J32>700, J32<=1400), "UR4", IF(J32>1400, "UR5", ""))))), IF(I32="No Residencial", IF(J32<2000, "NR1", IF(AND(J32>1999, J32<3000), "NR2", IF(AND(J32>=3000, J32<=8999), "U30", IF(J32>8999, "Gud", "")))), "")) | L32: =+CONCATENATE(H32,"-",K32) -> - | M32: =+ROUND($J32*M$21,0) -> 0 | N32: =+ROUND($J32*N$21,0) -> 0 | O32: =+J32-M32-N32 -> 0 | P32: =SUM(M32:O32) -> 0 | Q32: =+ROUND(M32*Q$21,0) -> 0 | R32: =+ROUND(N32*R$21,0) -> 0 | S32: =+T32-Q32-R32 -> 0 | T32: =+ROUND(P32*Q$21,0) -> 0 | U32: =SUM(Q32:S32) -> 0 | W32: =+L32 -> - | X32: =+K32 | Z32: =+ROUND(M32,0) -> 0 | AA32: =+ROUND(N32,0) -> 0 | AB32: =+AF32-Z32-AA32 -> 0 | AC32: =+ROUND(Q32,0) -> 0 | AD32: =+ROUND(R32,0) -> 0 | AE32: =+ROUND(S32,0) -> 0 | AF32: =+ROUND(J32,0) -> 0
H33: =IF(ISNUMBER(SEARCH("Electrodependientes-Residencial", G33)), "6000", IF(ISNUMBER(SEARCH("Bomberos Voluntarios-Residencial", G33)), "6000", IF(ISNUMBER(SEARCH("Clubes de Barrio y Pueblo-Residencial", G33)), "6500", IF(ISNUMBER(SEARCH("Clubes de Barrio y Pueblo-No Residencial", G33)), "6500", IF(ISNUMBER(SEARCH("Entidades de Bien Público-Residencial", G33)), "6500", IF(ISNUMBER(SEARCH("Entidades de Bien Público-No Residencial", G33)), "6500", IF(ISNUMBER(SEARCH("Medidores comunitarios de complejos habitacionales-Residencial", G33)), "N2", IF(ISNUMBER(SEARCH("Asentamientos residenciales-Residencial", G33)), "N2", "")))))))) | I33: =IF(ISNUMBER(SEARCH("No Residencial", G33)), "No Residencial", IF(ISNUMBER(SEARCH("Residencial", G33)), "Residencial", "")) | K33: =IF(I33="Residencial", IF(J33<=150, "UR1", IF(AND(J33>150, J33<=500), "UR2", IF(AND(J33>500, J33<=700), "UR3", IF(AND(J33>700, J33<=1400), "UR4", IF(J33>1400, "UR5", ""))))), IF(I33="No Residencial", IF(J33<2000, "NR1", IF(AND(J33>1999, J33<3000), "NR2", IF(AND(J33>=3000, J33<=8999), "U30", IF(J33>8999, "Gud", "")))), "")) | L33: =+CONCATENATE(H33,"-",K33) -> - | M33: =+ROUND($J33*M$21,0) -> 0 | N33: =+ROUND($J33*N$21,0) -> 0 | O33: =+J33-M33-N33 -> 0 | P33: =SUM(M33:O33) -> 0 | Q33: =+ROUND(M33*Q$21,0) -> 0 | R33: =+ROUND(N33*R$21,0) -> 0 | S33: =+T33-Q33-R33 -> 0 | T33: =+ROUND(P33*Q$21,0) -> 0 | U33: =SUM(Q33:S33) -> 0 | W33: =+L33 -> - | X33: =+K33 | Z33: =+ROUND(M33,0) -> 0 | AA33: =+ROUND(N33,0) -> 0 | AB33: =+AF33-Z33-AA33 -> 0 | AC33: =+ROUND(Q33,0) -> 0 | AD33: =+ROUND(R33,0) -> 0 | AE33: =+ROUND(S33,0) -> 0 | AF33: =+ROUND(J33,0) -> 0
H34: =IF(ISNUMBER(SEARCH("Electrodependientes-Residencial", G34)), "6000", IF(ISNUMBER(SEARCH("Bomberos Voluntarios-Residencial", G34)), "6000", IF(ISNUMBER(SEARCH("Clubes de Barrio y Pueblo-Residencial", G34)), "6500", IF(ISNUMBER(SEARCH("Clubes de Barrio y Pueblo-No Residencial", G34)), "6500", IF(ISNUMBER(SEARCH("Entidades de Bien Público-Residencial", G34)), "6500", IF(ISNUMBER(SEARCH("Entidades de Bien Público-No Residencial", G34)), "6500", IF(ISNUMBER(SEARCH("Medidores comunitarios de complejos habitacionales-Residencial", G34)), "N2", IF(ISNUMBER(SEARCH("Asentamientos residenciales-Residencial", G34)), "N2", "")))))))) | I34: =IF(ISNUMBER(SEARCH("No Residencial", G34)), "No Residencial", IF(ISNUMBER(SEARCH("Residencial", G34)), "Residencial", "")) | K34: =IF(I34="Residencial", IF(J34<=150, "UR1", IF(AND(J34>150, J34<=500), "UR2", IF(AND(J34>500, J34<=700), "UR3", IF(AND(J34>700, J34<=1400), "UR4", IF(J34>1400, "UR5", ""))))), IF(I34="No Residencial", IF(J34<2000, "NR1", IF(AND(J34>1999, J34<3000), "NR2", IF(AND(J34>=3000, J34<=8999), "U30", IF(J34>8999, "Gud", "")))), "")) | L34: =+CONCATENATE(H34,"-",K34) -> - | M34: =+ROUND($J34*M$21,0) -> 0 | N34: =+ROUND($J34*N$21,0) -> 0 | O34: =+J34-M34-N34 -> 0 | P34: =SUM(M34:O34) -> 0 | Q34: =+ROUND(M34*Q$21,0) -> 0 | R34: =+ROUND(N34*R$21,0) -> 0 | S34: =+T34-Q34-R34 -> 0 | T34: =+ROUND(P34*Q$21,0) -> 0 | U34: =SUM(Q34:S34) -> 0 | W34: =+L34 -> - | X34: =+K34 | Z34: =+ROUND(M34,0) -> 0 | AA34: =+ROUND(N34,0) -> 0 | AB34: =+AF34-Z34-AA34 -> 0 | AC34: =+ROUND(Q34,0) -> 0 | AD34: =+ROUND(R34,0) -> 0 | AE34: =+ROUND(S34,0) -> 0 | AF34: =+ROUND(J34,0) -> 0
... H132: =IF(ISNUMBER(SEARCH("Electrodependientes-Residencial", G132)), "6000", IF(ISNUMBER(SEARCH("Bomberos Voluntarios-Residencial", G132)), "6000", IF(ISNUMBER(SEARCH("Clubes de Barrio y Pueblo-Residencial", G132)), "6500", IF(ISNUMBER(SEARCH("Clubes de Barrio y Pueblo-No Residencial", G132)), "6500", IF(ISNUMBER(SEARCH("Entidades de Bien Público-Residencial", G132)), "6500", IF(ISNUMBER(SEARCH("Entidades de Bien Público-No Residencial", G132)), "6500", IF(ISNUMBER(SEARCH("Medidores comunitarios de complejos habitacionales-Residencial", G132)), "N2", IF(ISNUMBER(SEARCH("Asentamientos residenciales-Residencial", G132)), "N2", "")))))))) | I132: =IF(ISNUMBER(SEARCH("No Residencial", G132)), "No Residencial", IF(ISNUMBER(SEARCH("Residencial", G132)), "Residencial", "")) | K132: =IF(I132="Residencial", IF(J132<=150, "UR1", IF(AND(J132>150, J132<=500), "UR2", IF(AND(J132>500, J132<=700), "UR3", IF(AND(J132>700, J132<=1400), "UR4", IF(J132>1400, "UR5", ""))))), IF(I132="No Residencial", IF(J132<2000, "NR1", IF(AND(J132>1999, J132<3000), "NR2", IF(AND(J132>=3000, J132<=8999), "U30", IF(J132>8999, "Gud", "")))), "")) | L132: =+CONCATENATE(H132,"-",K132) -> - | M132: =+ROUND($J132*M$21,0) -> 0 | N132: =+ROUND($J132*N$21,0) -> 0 | O132: =+J132-M132-N132 -> 0 | P132: =SUM(M132:O132) -> 0 | Q132: =+ROUND(M132*Q$21,0) -> 0 | R132: =+ROUND(N132*R$21,0) -> 0 | S132: =+T132-Q132-R132 -> 0 | T132: =+ROUND(P132*Q$21,0) -> 0 | U132: =SUM(Q132:S132) -> 0 | W132: =+L132 -> - | X132: =+K132 | Z132: =+ROUND(M132,0) -> 0 | AA132: =+ROUND(N132,0) -> 0 | AB132: =+AF132-Z132-AA132 -> 0 | AC132: =+ROUND(Q132,0) -> 0 | AD132: =+ROUND(R132,0) -> 0 | AE132: =+ROUND(S132,0) -> 0 | AF132: =+ROUND(J132,0) -> 0
Z133: =SUM(Z23:Z132) -> 0 | AA133: =SUM(AA23:AA132) -> 0 | AB133: =SUM(AB23:AB132) -> 0 | AC133: =SUM(AC23:AC132) -> 0 | AD133: =SUM(AD23:AD132) -> 0 | AE133: =SUM(AE23:AE132) -> 0 | AF133: =SUM(AF23:AF132) -> 0
Z135: Energia Facturada (kWh) | AC135: Perdidas en la red (kWh) | AF135: TOTAL COMPRA
Z136: Pico | AA136: Valle | AB136: Resto | AC136: Pico | AD136: Valle | AE136: Resto | AF136: Pico | AG136: Valle | AH136: Resto
U137: kwh | V137: CANT | W137: TIPO | X137: KWH | Y137: USUARIOS
P138: UR1 | Q138: Residencial | R138: =+CONCATENATE(Q138," (",P138,")") -> Residencial (UR1) | U138: =+SUMIF($K$23:$P$128,W138,P$23:P$128) -> 0 | V138: =+COUNTIF(X$23:X$132,W138) -> 0 | W138: UR1 | X138: =SUM(Z138:AB138) -> 0 | Y138: =+V138 -> 0 | Z138: =+SUMIF($X$23:$AE$132,$W138,Z$23:Z$132) -> 0 | AA138: =+SUMIF($X$23:$AE$132,$W138,AA$23:AA$132) -> 0 | AB138: =+SUMIF($X$23:$AE$132,$W138,AB$23:AB$132) -> 0 | AC138: =+SUMIF($X$23:$AE$132,$W138,AC$23:AC$132) -> 0 | AD138: =+SUMIF($X$23:$AE$132,$W138,AD$23:AD$132) -> 0 | AE138: =+SUMIF($X$23:$AE$132,$W138,AE$23:AE$132) -> 0 | AF138: =+Z138+AC138 -> 0 | AG138: =+AA138+AD138 -> 0 | AH138: =+AB138+AE138 -> 0
P139: UR2 | Q139: Residencial | R139: =+CONCATENATE(Q139," (",P139,")") -> Residencial (UR2) | U139: =+SUMIF($K$23:$P$128,W139,P$23:P$128) -> 0 | V139: =+COUNTIF(X$23:X$132,W139) -> 0 | W139: UR2 | X139: =SUM(Z139:AB139) -> 0 | Y139: =+V139 -> 0 | Z139: =+SUMIF($X$23:$AE$132,$W139,Z$23:Z$132) -> 0 | AA139: =+SUMIF($X$23:$AE$132,$W139,AA$23:AA$132) -> 0 | AB139: =+SUMIF($X$23:$AE$132,$W139,AB$23:AB$132) -> 0 | AC139: =+SUMIF($X$23:$AE$132,$W139,AC$23:AC$132) -> 0 | AD139: =+SUMIF($X$23:$AE$132,$W139,AD$23:AD$132) -> 0 | AE139: =+SUMIF($X$23:$AE$132,$W139,AE$23:AE$132) -> 0 | AF139: =+Z139+AC139 -> 0 | AG139: =+AA139+AD139 -> 0 | AH139: =+AB139+AE139 -> 0
P140: UR3 | Q140: Residencial | R140: =+CONCATENATE(Q140," (",P140,")") -> Residencial (UR3) | U140: =+SUMIF($K$23:$P$128,W140,P$23:P$128) -> 0 | V140: =+COUNTIF(X$23:X$132,W140) -> 0 | W140: UR3 | X140: =SUM(Z140:AB140) -> 0 | Y140: =+V140 -> 0 | Z140: =+SUMIF($X$23:$AE$132,$W140,Z$23:Z$132) -> 0 | AA140: =+SUMIF($X$23:$AE$132,$W140,AA$23:AA$132) -> 0 | AB140: =+SUMIF($X$23:$AE$132,$W140,AB$23:AB$132) -> 0 | AC140: =+SUMIF($X$23:$AE$132,$W140,AC$23:AC$132) -> 0 | AD140: =+SUMIF($X$23:$AE$132,$W140,AD$23:AD$132) -> 0 | AE140: =+SUMIF($X$23:$AE$132,$W140,AE$23:AE$132) -> 0 | AF140: =+Z140+AC140 -> 0 | AG140: =+AA140+AD140 -> 0 | AH140: =+AB140+AE140 -> 0
P141: UR4 | Q141: Residencial | R141: =+CONCATENATE(Q141," (",P141,")") -> Residencial (UR4) | U141: =+SUMIF($K$23:$P$128,W141,P$23:P$128) -> 0 | V141: =+COUNTIF(X$23:X$132,W141) -> 0 | W141: UR4 | X141: =SUM(Z141:AB141) -> 0 | Y141: =+V141 -> 0 | Z141: =+SUMIF($X$23:$AE$132,$W141,Z$23:Z$132) -> 0 | AA141: =+SUMIF($X$23:$AE$132,$W141,AA$23:AA$132) -> 0 | AB141: =+SUMIF($X$23:$AE$132,$W141,AB$23:AB$132) -> 0 | AC141: =+SUMIF($X$23:$AE$132,$W141,AC$23:AC$132) -> 0 | AD141: =+SUMIF($X$23:$AE$132,$W141,AD$23:AD$132) -> 0 | AE141: =+SUMIF($X$23:$AE$132,$W141,AE$23:AE$132) -> 0 | AF141: =+Z141+AC141 -> 0 | AG141: =+AA141+AD141 -> 0 | AH141: =+AB141+AE141 -> 0
...

Sheet DDJJ EPEC S-II
A1: PLANILLA DE TRABAJO INTERNA DTO. NAC. 332-2022 SEGMENTACION DE TARIFAS RESIDENCIALES -RES SE 90-2024 Y DTO PCIAL 43-2019 TARIFA SOCIAL -USO EXCLUSIVO ASOCIADAS FACE-FECESCOR HOJA Nº1- JUNIO 2024
A2: SECCION II-LOS DATOS INGRESADOS SE CORRESPONDEN CON LA LECTURA DE EPEC
D3: TARIFA SOCIAL PROVINCIAL | F3: USUARIOS | G3: KWH | V3: RESIDENCIAL CON UR1
B4: CANTIDAD USUARIOS CARENCIADOS | F4: =+'DTO 641-SET 25'!D12 -> 0 | G4: =+'DTO 641-SET 25'!D9 -> 0 | I4: DIF POR REDONDEO | L4: ASIGNACION DIF | V4: NO RESIDENCIAL NR1
B5: CANTIDAD DE USUARIOS INDIGENTES | F5: =+'DTO 641-SET 25'!D25 -> 0 | G5: =+'DTO 641-SET 25'!D22 -> 0 | I5: Pico | J5: Valle | K5: Resto | L5: RESIDENCIAL CON UR1
B6: MONTO TOTAL DEL SUBSIDIO | I6: =+G590 -> 0 | J6: =+H590 -> 0 | K6: =+I590 -> 0
B7: MONTO CARENCIADOS
B8: MONTO INDIGENTES | L8: CONTROL FINAL
B9: FONDO SOLIDARIO IIBB | L9: Pico | M9: Valle | N9: Resto
A10: Cooperativa: | D10: ='Compra -HOJA1'!D2 -> 0 | L10: =+F309 -> OK | M10: =+G309 -> OK | N10: =+H309 -> OK
A11: Período: | D11: ='Compra -HOJA1'!F4 -> 45536
D12: SECCION II
A13: RESIDENCIALES-Demanda Total a Facturar por bandas en kWh
A15: UR1 <=300 kWh bimestre | E15: CANTIDAD TOTAL DE USUARIOS | F15: Energia Facturada (kWh) | I15: Perdidas en la Red (kWh) | L15: TOTAL KWH COMPRADOS (FACT +PERD) | P15: CONTROL
F16: Pico | G16: Valle | H16: Resto | I16: Pico | J16: Valle | K16: Resto | L16: Pico | M16: Valle | N16: Resto | P16: KWH CALC/US | Q16: KWH | R16: USUARIO | S16: CONTROL | T16: CONTROL ASIG PERD
A17: UR1 <=150 kWh/mes | B17: 5030 | C17: Nivel 1-Ingresos altos | E17: =+E318 -> 0 | F17: =+F318 -> 0 | G17: =+G318 -> 0 | H17: =+H318 -> 0 | I17: =+I318+IF(L5="RESIDENCIAL CON UR1",I6,0) -> 0 | J17: =+J318+IF(L5="RESIDENCIAL CON UR1",J6,0) -> 0 | K17: =+K318+IF(L5="RESIDENCIAL CON UR1",K6,0) -> 0 | L17: =+F17+I17 -> 0 | M17: =+G17+J17 -> 0 | N17: =+H17+K17 -> 0 | P17: =+IF(E17=0,0,Q17/R17) -> 0 | Q17: =+SUM(F17:H17) -> 0 | R17: =+E17 -> 0 | S17: =+IF(R17=0,"S.D.",IF((Q17/R17)<151,"O.K.","VERIFICAR")) -> S.D. | T17: =+IF(I17<0,"VERIFICAR ASIG PER",IF(J17<0,"VERIFICAR ASIG PER",IF(K17<0,"VERIFICAR ASIG PER"," ")))
B18: 5570 | C18: TSP- (N1) | D18: N1 HOGARES POBRES O CARENCIADOS- Consumo <= 120 kWh/mes | E18: =+E319 -> 0 | F18: =+F319 -> 0 | G18: =+G319 -> 0 | H18: =+H319 -> 0 | I18: =+I319 -> 0 | J18: =+J319 -> 0 | K18: =+K319 -> 0 | L18: =+F18+I18 -> 0 | M18: =+G18+J18 -> 0 | N18: =+H18+K18 -> 0 | P18: =+IF(E18=0,0,Q18/R18) -> 0 | Q18: =+SUM(F18:H18) -> 0 | R18: =+E18 -> 0 | S18: =+IF(R18=0,"S.D.",IF((Q18/R18)<=120,"O.K.","VERIFICAR")) -> S.D.
B19: 5571 | C19: TSP- (N1) | D19: N1 HOGARES POBRES O CARENCIADOS > 120 kWh/mes y <= 150 kWh/mes | E19: =+E320 -> 0 | F19: =+F320 -> 0 | G19: =+G320 -> 0 | H19: =+H320 -> 0 | I19: =+I320 -> 0 | J19: =+J320 -> 0 | K19: =+K320 -> 0 | L19: =+F19+I19 -> 0 | M19: =+G19+J19 -> 0 | N19: =+H19+K19 -> 0 | P19: =+IF(E19=0,0,Q19/R19) -> 0 | Q19: =+SUM(F19:H19) -> 0 | R19: =+E19 -> 0 | S19: =+IF(R19=0,"S.D.",IF(AND((Q19/R19)>120,(Q19/R19)<=150),"O.K.","VERIFICAR")) -> S.D.
B20: 5580 | C20: TSP- (N1) | D20: N1 HOGARES INDIGENTES: <=120 kWh/mes | E20: =+E321 -> 0 | F20: =+F321 -> 0 | G20: =+G321 -> 0 | H20: =+H321 -> 0 | I20: =+I321 -> 0 | J20: =+J321 -> 0 | K20: =+K321 -> 0 | L20: =+F20+I20 -> 0 | M20: =+G20+J20 -> 0 | N20: =+H20+K20 -> 0 | P20: =+IF(E20=0,0,Q20/R20) -> 0 | Q20: =+SUM(F20:H20) -> 0 | R20: =+E20 -> 0 | S20: =+IF(R20=0,"S.D.",IF((Q20/R20)<=120,"O.K.","VERIFICAR")) -> S.D. | U20: =+D20 -> N1 HOGARES INDIGENTES: <=120 kWh/mes
B21: 5581 | C21: TSP- (N1) | D21: N1 HOGARES INDIGENTES:- Consumo > 120 kWh/mes y <= 150 kWh/mes | E21: =+E322 -> 0 | F21: =+F322 -> 0 | G21: =+G322 -> 0 | H21: =+H322 -> 0 | I21: =+I322 -> 0 | J21: =+J322 -> 0 | K21: =+K322 -> 0 | L21: =+F21+I21 -> 0 | M21: =+G21+J21 -> 0 | N21: =+H21+K21 -> 0 | P21: =+IF(E21=0,0,Q21/R21) -> 0 | Q21: =+SUM(F21:H21) -> 0 | R21: =+E21 -> 0 | S21: =+IF(R21=0,"S.D.",IF(AND((Q21/R21)>120,(Q21/R21)<=150),"O.K.","VERIFICAR")) -> S.D. | U21: =+D21 -> N1 HOGARES INDIGENTES:- Consumo > 120 kWh/mes y <= 150 kWh/mes
