Workbook

Sheet BT
A1: TRASLADO RG ERSeP Nº04/2025 (LETRA D) y NOTA ERSeP DEL 18 DE NOVIEMBRE DE 2025
A2: CATEGORIA TARIFARIA | B2: UNIDADES | C2: A PARTIR DEL 1 DE NOVIEMBRE DE 2025
C3: MODIFICACION CT COOPERATIVA
C4: RG ERSEP 04/2025 (LETRA D) | I4: NOTA ERSeP - NUEVO ESTACIONAL Y FAM EPEC 10/2025
I5: MODIFICACION CT OCTUBRE 2025 COOPERATIVA (LUEGO DE APLICAR RG ERSeP Nº04/2025-LETRA D) | J5: TARIFAS PARA GENERACION DISTRIBUIDA
C6: GRUPO "A" - Anexo I | D6: GRUPO "B" - Anexo II | E6: GRUPO "C" - Anexo III | F6: GRUPO "D" - Anexo IV | G6: GRUPO "E" - Anexo V | H6: GRUPO "F" - Anexo VI | I6: ANEXO 1 | J6: ANEXO 4
C7: MODIFICACION POR ACTUALIZACION VAD COOPERATIVAS | I7: INCREMENTO AUTORIZADO POR NUEVO VAD EPEC | J7: VALORES A FACTURAR
A8: Cuadro N° 1:
A9: Cooperativas con Compra en Baja Tensión sin Facturación de Potencia
A10: Suministros en Baja Tension (220 y 380 V) sin Facturacion de Potencia
A11: Por cada kWh suministrado | B11: $/kWh (pesos por kWh) | I11: -1.52509 | J11: 74.97428
A13: Cuadro N° 2:
A14: Cooperativas con Compra en Baja Tension (220 y 380 V) con Facturación de Potencia
A15: Suministros en Baja Tension (220 y 380 V)
A16: Energia destinada a suministros Residenciales con demanda menor a 10 kW
A17: NIVEL 1-ALTOS INGRESOS, NIVEL 2 CONSUMO MAYOR A 350 KWH Y NIVEL 3 CONSUMO MAYOR A 250 KWH-VALOR A INCREMENTAR RESPECTO DE LA TARIFA RESIDENCIAL N1 | I17: VALOR A INCREMENTAR RESPECTO DE LA TARIFA RESIDENCIAL N1
A18: Cargos Fijos | B18: $ (pesos) | C18: 0.0187 | D18: =$C$18 -> 0.0187 | E18: =$C$18 -> 0.0187 | F18: =$C$18 -> 0.0187 | G18: =$C$18 -> 0.0187 | H18: =$C$18 -> 0.0187 | I18: 0 | J18: 0
A19: Para la totalidad de los kWh (usuarios N1), Para el Excedente de 250 kWh/mes (usuarios N3). Para el excedente de 350 kWh/mes (usuarios N2) | B19: $/kWh (pesos por kWh) | C19: 0.0098 | D19: 0.0102 | E19: 0.0105 | F19: 0.0109 | G19: 0.0104 | H19: 0.0111 | I19: 4.09454 | J19: =J11 -> 74.97428
A20: NIVEL 2 - INGRESOS BAJOS - VALOR A DETRAER O DESCONTAR DE LA TARIFA RESIDENCIAL N1 - POR LOS PRIMEROS 350 KWH | I20: VALOR A DESCONTAR RESPECTO DE LA TARIFA RESIDENCIAL N1
A21: Cargos Fijos | B21: $ (pesos) | C21: 0 | D21: 0 | E21: 0 | F21: 0 | G21: 0 | H21: 0 | I21: 0 | J21: 0
A22: Por los primeros 350 kWh | B22: $/kWh (pesos por kWh) | C22: 0 | D22: 0 | E22: 0 | F22: 0 | G22: 0 | H22: 0 | I22: -57.68785 | J22: 29.00454
A23: NIVEL 3 - INGRESOS MEDIOS - VALOR A DETRAER O DESCONTAR DE LA TARIFA RESIDENCIAL N1 - POR LOS PRIMEROS 250 KWH | I23: VALOR A DESCONTAR RESPECTO DE LA TARIFA RESIDENCIAL N1
A24: Cargos Fijos | B24: $ (pesos) | C24: 0 | D24: 0 | E24: 0 | F24: 0 | G24: 0 | H24: 0 | I24: 0 | J24: 0
A25: Por los primeros 250 | B25: $/kWh (pesos por kWh) | C25: 0 | D25: 0 | E25: 0 | F25: 0 | G25: 0 | H25: 0 | I25: -44.42395 | J25: 39.57415
A26: Para Usuarios ELECTRODEPENDIENTES SEGÚN LEY NACIONAL Nº 27351 (diferencial aplicable respecto de la tarifa resultante para Usuarios Residenciales Nivel 2) | I26: VALOR A DESCONTAR RESPECTO DE LA TARIFA RESIDENCIAL N2
A27: Cargos Fijos | B27: $ (pesos) | C27: 0 | D27: 0 | E27: 0 | F27: 0 | G27: 0 | H27: 0 | I27: 0
A28: Para la totalidad de los kWh, cuando no se registre y/o facture potencia | B28: $/kWh (pesos por kWh) | C28: 0 | D28: 0 | E28: 0 | F28: 0 | G28: 0 | H28: 0 | I28: -31.10143
A29: Para Usuarios ELECTRODEPENDIENTES SEGÚN LEY PROVINCIAL Nº 10511 (corresponde aplicar gratuidad del servicio) | I29: TARIFA FINAL A APLICAR POR TODO EL CONSUMO
A30: Cargos Fijos | B30: $ (pesos) | C30: 0 | D30: 0 | E30: 0 | F30: 0 | G30: 0 | H30: 0 | I30: 0
A31: Para la totalidad de los kWh, cuando no se registre y/o facture potencia | B31: $/kWh (pesos por kWh) | C31: 0 | D31: 0 | E31: 0 | F31: 0 | G31: 0 | H31: 0 | I31: 0
A32: Suministros a Clubes de Barrio y de Pueblo (diferencial aplicable respecto de la categoría disponible en el Cuadro Tarifario de la Prestadora, solo en caso que el respectivo Club/Entidad sea informado por el MINISTERIO DE TURISMO Y DEPORTES o el área que éste disponga, de conformidad con la Resolución SE Nº 742/2022) - SIN FACTURACION DE POTENCIA
A33: Cargos Fijos | B33: $ (pesos) | C33: =C$18 -> 0.0187 | D33: =D$18 -> 0.0187 | E33: =E$18 -> 0.0187 | F33: =F$18 -> 0.0187 | G33: =G$18 -> 0.0187 | H33: =H$18 -> 0.0187 | I33: 0 | J33: 0
A34: Para la totalidad de los kWh, cuando no se registre y/o facture potencia | B34: $/kWh (pesos por kWh) | C34: 0.01 | D34: 0.0105 | E34: 0.0106 | F34: 0.0113 | G34: 0.0104 | H34: 0.0112 | I34: -38.44011 | J34: 29.0025
A35: Suministros a entidades integrantes del Sistema Nacional de Bomberos Voluntarios (diferencial aplicable respecto de la categoría disponible en el Cuadro Tarifario de la Prestadora, según Res. SE 161/2023) - SIN FACTURACION DE POTENCIA
A36: Cargos Fijos | B36: $ (pesos) | C36: =C$18 -> 0.0187 | D36: =D$18 -> 0.0187 | E36: =E$18 -> 0.0187 | F36: =F$18 -> 0.0187 | G36: =G$18 -> 0.0187 | H36: =H$18 -> 0.0187 | I36: 0 | J36: 0
A37: Para la totalidad de los kWh, cuando no se registre y/o facture potencia | B37: $/kWh (pesos por kWh) | C37: =C34 -> 0.01 | D37: =D34 -> 0.0105 | E37: =E34 -> 0.0106 | F37: =F34 -> 0.0113 | G37: =G34 -> 0.0104 | H37: =H34 -> 0.0112 | I37: -69.53948 | J37: 0
A38: Energia destinada a suministros identificados como Alumbrado Publico - SIN FACTURACION DE POTENCIA
A39: Cargos Fijos | B39: $ (pesos) | C39: =C$18 -> 0.0187 | D39: =D$18 -> 0.0187 | E39: =E$18 -> 0.0187 | F39: =F$18 -> 0.0187 | G39: =G$18 -> 0.0187 | H39: =H$18 -> 0.0187 | I39: 0 | J39: 0
A40: Para la totalidad de los kWh, cuando no se registre y/o facture potencia | B40: $/kWh (pesos por kWh) | C40: =C34 -> 0.01 | D40: =D34 -> 0.0105 | E40: =E34 -> 0.0106 | F40: =F34 -> 0.0113 | G40: =G34 -> 0.0104 | H40: =H34 -> 0.0112 | I40: -3.81888 | J40: 67.07957
A41: Energia destinada a suministros Generales con demanda menor o igual a 10 kW. excepto usuarios Residenciales y Alumbrado Publico
...

Sheet MT
A1: TRASLADO RG ERSeP Nº04/2025 (LETRA D) y NOTA ERSeP DEL 18 DE NOVIEMBRE DE 2025
A2: CATEGORIA TARIFARIA | B2: UNIDADES | C2: A PARTIR DEL 1 DE NOVIEMBRE DE 2025
C3: MODIFICACION CT COOPERATIVA
C4: RG ERSEP 04/2025 (LETRA D) | I4: NOTA ERSeP - NUEVO ESTACIONAL Y FAM EPEC 10/2025
I5: MODIFICACION CT OCTUBRE 2025 COOPERATIVA (LUEGO DE APLICAR RG ERSeP Nº04/2025-LETRA D) | J5: TARIFAS PARA GENERACION DISTRIBUIDA
C6: GRUPO "A" - Anexo I | D6: GRUPO "B" - Anexo II | E6: GRUPO "C" - Anexo III | F6: GRUPO "D" - Anexo IV | G6: GRUPO "E" - Anexo V | H6: GRUPO "F" - Anexo VI | I6: ANEXO 1 | J6: ANEXO 4
C7: MODIFICACION POR ACTUALIZACION VAD COOPERATIVAS | I7: INCREMENTO AUTORIZADO POR NUEVO VAD EPEC | J7: VALORES A FACTURAR
A8: Cuadro N° 3:
A9: Cooperativas con Compra en Media Tension (13200 y 33000 V) con Facturacion de Potencia
A10: SUMINISTROS EN BAJA TENSION (220 y 380 V)
A11: Energia destinada a suministros Residenciales con demanda menor a 10 kW
A12: NIVEL 1-ALTOS INGRESOS, NIVEL 2 CONSUMO MAYOR A 350 KWH Y NIVEL 3 CONSUMO MAYOR A 250 KWH-VALOR A INCREMENTAR RESPECTO DE LA TARIFA RESIDENCIAL N1 | I12: VALOR A INCREMENTAR RESPECTO DE LA TARIFA RESIDENCIAL N1
A13: Cargos Fijos | B13: $ (pesos) | C13: =BT!C18 -> 0.0187 | D13: =BT!D18 -> 0.0187 | E13: =BT!E18 -> 0.0187 | F13: =BT!F18 -> 0.0187 | G13: =BT!G18 -> 0.0187 | H13: =BT!H18 -> 0.0187 | I13: 0 | J13: =BT!J18 -> 0
A14: Para la totalidad de los kWh (usuarios N1), Para el Excedente de 250 kWh/mes (usuarios N3). Para el excedente de 350 kWh/mes (usuarios N2) | B14: $/kWh (pesos por kWh) | C14: =BT!C19 -> 0.0098 | D14: =BT!D19 -> 0.0102 | E14: =BT!E19 -> 0.0105 | F14: =BT!F19 -> 0.0109 | G14: =BT!G19 -> 0.0104 | H14: =BT!H19 -> 0.0111 | I14: 3.99655 | J14: =BT!J19 -> 74.97428
A15: NIVEL 2 - INGRESOS BAJOS - VALOR A DETRAER O DESCONTAR DE LA TARIFA RESIDENCIAL N1 - POR LOS PRIMEROS 350 KWH | I15: VALOR A DESCONTAR RESPECTO DE LA TARIFA RESIDENCIAL N1
A16: Cargos Fijos | B16: $ (pesos) | C16: =BT!C21 -> 0 | D16: =BT!D21 -> 0 | E16: =BT!E21 -> 0 | F16: =BT!F21 -> 0 | G16: =BT!G21 -> 0 | H16: =BT!H21 -> 0 | I16: 0 | J16: =BT!J21 -> 0
A17: Por los primeros 350 kWh | B17: $/kWh (pesos por kWh) | C17: =BT!C22 -> 0 | D17: =BT!D22 -> 0 | E17: =BT!E22 -> 0 | F17: =BT!F22 -> 0 | G17: =BT!G22 -> 0 | H17: =BT!H22 -> 0 | I17: -58.28728 | J17: =BT!J22 -> 29.00454
A18: NIVEL 3 - INGRESOS MEDIOS - VALOR A DETRAER O DESCONTAR DE LA TARIFA RESIDENCIAL N1 - POR LOS PRIMEROS 250 KWH | I18: VALOR A DESCONTAR RESPECTO DE LA TARIFA RESIDENCIAL N1
A19: Cargos Fijos | B19: $ (pesos) | C19: 0 | D19: 0 | E19: 0 | F19: 0 | G19: 0 | H19: 0 | I19: 0 | J19: =BT!J24 -> 0
A20: Por los primeros 250 | B20: $/kWh (pesos por kWh) | C20: 0 | D20: 0 | E20: 0 | F20: 0 | G20: 0 | H20: 0 | I20: -44.88556 | J20: =BT!J25 -> 39.57415
A21: Para Usuarios ELECTRODEPENDIENTES SEGÚN LEY NACIONAL Nº 27351 (diferencial aplicable respecto de la tarifa resultante para Usuarios Residenciales Nivel 2) | I21: VALOR A DESCONTAR RESPECTO DE LA TARIFA RESIDENCIAL N2
A22: Cargos Fijos | B22: $ (pesos) | C22: 0 | D22: 0 | E22: 0 | F22: 0 | G22: 0 | H22: 0 | I22: 0
A23: Para la totalidad de los kWh, cuando no se registre y/o facture potencia | B23: $/kWh (pesos por kWh) | C23: 0 | D23: 0 | E23: 0 | F23: 0 | G23: 0 | H23: 0 | I23: -31.09711
A24: Para Usuarios ELECTRODEPENDIENTES SEGÚN LEY PROVINCIAL Nº 10511 (corresponde aplicar gratuidad del servicio) | I24: TARIFA FINAL A APLICAR POR TODO EL CONSUMO
A25: Cargos Fijos | B25: $ (pesos) | C25: 0 | D25: 0 | E25: 0 | F25: 0 | G25: 0 | H25: 0 | I25: 0
A26: Para la totalidad de los kWh, cuando no se registre y/o facture potencia | B26: $/kWh (pesos por kWh) | C26: =C23 -> 0 | D26: =D23 -> 0 | E26: =E23 -> 0 | F26: =F23 -> 0 | G26: =G23 -> 0 | H26: =H23 -> 0 | I26: 0
A27: Suministros a Clubes de Barrio y de Pueblo (diferencial aplicable respecto de la categoría disponible en el Cuadro Tarifario de la Prestadora, solo en caso que el respectivo Club/Entidad sea informado por el MINISTERIO DE TURISMO Y DEPORTES o el área que éste disponga, de conformidad con la Resolución SE Nº 742/2022) - SIN FACTURACION DE POTENCIA
A28: Cargos Fijos | B28: $ (pesos) | C28: =C$13 -> 0.0187 | D28: =D$13 -> 0.0187 | E28: =E$13 -> 0.0187 | F28: =F$13 -> 0.0187 | G28: =G$13 -> 0.0187 | H28: =H$13 -> 0.0187 | I28: 0 | J28: =BT!J33 -> 0
A29: Para la totalidad de los kWh, cuando no se registre y/o facture potencia | B29: $/kWh (pesos por kWh) | C29: =BT!C34 -> 0.01 | D29: =BT!D34 -> 0.0105 | E29: =BT!E34 -> 0.0106 | F29: =BT!F34 -> 0.0113 | G29: =BT!G34 -> 0.0104 | H29: =BT!H34 -> 0.0112 | I29: -38.43477 | J29: =BT!J34 -> 29.0025
A30: Suministros a entidades integrantes del Sistema Nacional de Bomberos Voluntarios (diferencial aplicable respecto de la categoría disponible en el Cuadro Tarifario de la Prestadora, según Res. SE 161/2023) - SIN FACTURACION DE POTENCIA
A31: Cargos Fijos | B31: $ (pesos) | C31: =C$13 -> 0.0187 | D31: =D$13 -> 0.0187 | E31: =E$13 -> 0.0187 | F31: =F$13 -> 0.0187 | G31: =G$13 -> 0.0187 | H31: =H$13 -> 0.0187 | I31: 0 | J31: =BT!J36 -> 0
A32: Para la totalidad de los kWh, cuando no se registre y/o facture potencia | B32: $/kWh (pesos por kWh) | C32: =C29 -> 0.01 | D32: =D29 -> 0.0105 | E32: =E29 -> 0.0106 | F32: =F29 -> 0.0113 | G32: =G29 -> 0.0104 | H32: =H29 -> 0.0112 | I32: -69.52982 | J32: =BT!J37 -> 0
A33: Energia destinada a suministros identificados como Alumbrado Publico - SIN FACTURACION DE POTENCIA
A34: Cargos Fijos | B34: $ (pesos) | C34: =C$13 -> 0.0187 | D34: =D$13 -> 0.0187 | E34: =E$13 -> 0.0187 | F34: =F$13 -> 0.0187 | G34: =G$13 -> 0.0187 | H34: =H$13 -> 0.0187 | I34: 0 | J34: =BT!J39 -> 0
A35: Para la totalidad de los kWh, cuando no se registre y/o facture potencia | B35: $/kWh (pesos por kWh) | C35: =C29 -> 0.01 | D35: =D29 -> 0.0105 | E35: =E29 -> 0.0106 | F35: =F29 -> 0.0113 | G35: =G29 -> 0.0104 | H35: =H29 -> 0.0112 | I35: -3.91177 | J35: =BT!J40 -> 67.07957
A36: Energia destinada a suministros Generales con demanda menor o igual a 10 kW, excepto usuarios Residenciales y Alumbrado Publico
A37: Cargos Fijos | B37: $ (pesos) | C37: =C$13 -> 0.0187 | D37: =D$13 -> 0.0187 | E37: =E$13 -> 0.0187 | F37: =F$13 -> 0.0187 | G37: =G$13 -> 0.0187 | H37: =H$13 -> 0.0187 | I37: 0 | J37: =BT!J42 -> 0
A38: Por cada kWh hasta 800 kWh mensuales | B38: $/kWh (pesos por kWh) | C38: =C29 -> 0.01 | D38: =D29 -> 0.0105 | E38: =E29 -> 0.0106 | F38: =F29 -> 0.0113 | G38: =G29 -> 0.0104 | H38: =H29 -> 0.0112 | I38: -2.68632 | J38: =BT!J43 -> 67.22659
A39: Por cada kWh excedente de 800 kWh mensuales | B39: $/kWh (pesos por kWh) | C39: =C29 -> 0.01 | D39: =D29 -> 0.0105 | E39: =E29 -> 0.0106 | F39: =F29 -> 0.0113 | G39: =G29 -> 0.0104 | H39: =H29 -> 0.0112 | I39: =I38 -> -2.68632 | J39: =BT!J44 -> 67.22659
A40: Energia destinada a suministros con demanda mayor a 10 Kw y menor a 300 kW, excepto usuarios Residenciales y Alumbrado Publico - SIN FACTURACION DE POTENCIA
...

Sheet AT
A1: TRASLADO RG ERSeP Nº04/2025 (LETRA D) y NOTA ERSeP DEL 18 DE NOVIEMBRE DE 2025
A2: CATEGORIA TARIFARIA | B2: UNIDADES | C2: A PARTIR DEL 1 DE NOVIEMBRE DE 2025
C3: MODIFICACION CT COOPERATIVA
C4: RG ERSEP 04/2025 (LETRA D) | D4: NOTA ERSeP - NUEVO ESTACIONAL Y FAM EPEC 10/2025
D5: MODIFICACION CT OCTUBRE 2025 COOPERATIVA (LUEGO DE APLICAR RG ERSeP Nº04/2025-LETRA D) | E5: TARIFAS PARA GENERACION DISTRIBUIDA
C6: GRUPO "A-AT" - Anexo VII | D6: ANEXO 1 | E6: ANEXO 4
C7: MODIFICACION POR ACTUALIZACION VAD COOPERATIVAS | D7: INCREMENTO AUTORIZADO POR NUEVO VAD EPEC | E7: VALORES A FACTURAR
A8: Cuadro N°4:
A9: Cooperativas con Compra en Alta Tension (66000 y 132000 V) con Facturacion de Potencia
A10: Suministros en Baja Tension (220 y 380 V)
A11: Energia destinada a suministros Residenciales con demanda menor a 10 kW
A12: NIVEL 1-ALTOS INGRESOS, NIVEL 2 CONSUMO MAYOR A 350 KWH Y NIVEL 3 CONSUMO MAYOR A 250 KWH-VALOR A INCREMENTAR RESPECTO DE LA TARIFA RESIDENCIAL N1 | D12: VALOR A INCREMENTAR RESPECTO DE LA TARIFA RESIDENCIAL N1
A13: Cargos Fijos | B13: $ (pesos) | C13: =BT!C18 -> 0.0187 | D13: 0 | E13: =MT!J13 -> 0
A14: Para la totalidad de los kWh (usuarios N1), Para el Excedente de 250 kWh/mes (usuarios N3). Para el excedente de 350 kWh/mes (usuarios N2) | B14: $/kWh (pesos por kWh) | C14: 0.0103 | D14: 4.22695 | E14: =MT!J14 -> 74.97428
A15: NIVEL 2 - INGRESOS BAJOS - VALOR A DETRAER O DESCONTAR DE LA TARIFA RESIDENCIAL N1 - POR LOS PRIMEROS 350 KWH | D15: VALOR A DESCONTAR RESPECTO DE LA TARIFA RESIDENCIAL N1
A16: Cargos Fijos | B16: $ (pesos) | C16: 0 | D16: 0 | E16: =MT!J16 -> 0
A17: Por los primeros 350 kWh | B17: $/kWh (pesos por kWh) | C17: 0 | D17: -59.80796 | E17: =MT!J17 -> 29.00454
A18: NIVEL 3 - INGRESOS MEDIOS - VALOR A DETRAER O DESCONTAR DE LA TARIFA RESIDENCIAL N1 - POR LOS PRIMEROS 250 KWH | D18: VALOR A DESCONTAR RESPECTO DE LA TARIFA RESIDENCIAL N1
A19: Cargos Fijos | B19: $ (pesos) | C19: 0 | D19: 0 | E19: =MT!J19 -> 0
A20: Por los primeros 250 | B20: $/kWh (pesos por kWh) | C20: 0 | D20: -46.0566 | E20: =MT!J20 -> 39.57415
A21: Para Usuarios ELECTRODEPENDIENTES SEGÚN LEY NACIONAL Nº 27351 (diferencial aplicable respecto de la tarifa resultante para Usuarios Residenciales Nivel 2) | D21: VALOR A DESCONTAR RESPECTO DE LA TARIFA RESIDENCIAL N2
A22: Cargos Fijos | B22: $ (pesos) | C22: 0 | D22: 0
A23: Para la totalidad de los kWh, cuando no se registre y/o facture potencia | B23: $/kWh (pesos por kWh) | C23: 0 | D23: -30.92732
A24: Para Usuarios ELECTRODEPENDIENTES SEGÚN LEY PROVINCIAL Nº 10511 (corresponde aplicar gratuidad del servicio) | D24: TARIFA FINAL A APLICAR POR TODO EL CONSUMO
A25: Cargos Fijos | B25: $ (pesos) | C25: 0 | D25: 0
A26: Para la totalidad de los kWh, cuando no se registre y/o facture potencia | B26: $/kWh (pesos por kWh) | C26: 0 | D26: 0
A27: Suministros a Clubes de Barrio y de Pueblo (diferencial aplicable respecto de la categoría disponible en el Cuadro Tarifario de la Prestadora, solo en caso que el respectivo Club/Entidad sea informado por el MINISTERIO DE TURISMO Y DEPORTES o el área que éste disponga, de conformidad con la Resolución SE Nº 742/2022) - SIN FACTURACION DE POTENCIA
A28: Cargos Fijos | B28: $ (pesos) | C28: =C$13 -> 0.0187 | D28: 0 | E28: =MT!J28 -> 0
A29: Para la totalidad de los kWh, cuando no se registre y/o facture potencia | B29: $/kWh (pesos por kWh) | C29: 0.0108 | D29: -38.22492 | E29: =MT!J29 -> 29.0025
A30: Suministros a entidades integrantes del Sistema Nacional de Bomberos Voluntarios (diferencial aplicable respecto de la categoría disponible en el Cuadro Tarifario de la Prestadora, según Res. SE 161/2023) - SIN FACTURACION DE POTENCIA
A31: Cargos Fijos | B31: $ (pesos) | C31: =C$13 -> 0.0187 | D31: 0 | E31: =MT!J31 -> 0
A32: Para la totalidad de los kWh, cuando no se registre y/o facture potencia | B32: $/kWh (pesos por kWh) | C32: =C29 -> 0.0108 | D32: -69.1502 | E32: =MT!J32 -> 0
A33: Energia destinada a suministros identificados como Alumbrado Publico - SIN FACTURACION DE POTENCIA
A34: Cargos Fijos | B34: $ (pesos) | C34: =C$13 -> 0.0187 | D34: 0 | E34: =MT!J34 -> 0
A35: Para la totalidad de los kWh, cuando no se registre y/o facture potencia | B35: $/kWh (pesos por kWh) | C35: =C29 -> 0.0108 | D35: -3.64855 | E35: =MT!J35 -> 67.07957
A36: Energia destinada a suministros Generales con demanda menor o igual a 10 kW, excepto usuarios Residenciales y Alumbrado Publico
A37: Cargos Fijos | B37: $ (pesos) | C37: =C$13 -> 0.0187 | D37: 0 | E37: =MT!J37 -> 0
A38: Por cada kWh hasta 800 kWh mensuales | B38: $/kWh (pesos por kWh) | C38: =C29 -> 0.0108 | D38: -2.37739 | E38: =MT!J38 -> 67.22659
A39: Por cada kWh excedente de 800 kWh mensuales | B39: $/kWh (pesos por kWh) | C39: =C29 -> 0.0108 | D39: =D38 -> -2.37739 | E39: =MT!J39 -> 67.22659
A40: Energia destinada a suministros con demanda mayor a 10 Kw y menor a 300 kW, excepto usuarios Residenciales y Alumbrado Publico - SIN FACTURACION DE POTENCIA
...

Sheet RG 04-2025 (LETRA D)
A1: RG 04-2025 (LETRA D)-NOVIEMBRE
C2: A | D2: B | E2: C | F2: D | G2: E | H2: F | I2: A-AT
A4: SMD | B4: TASAS | C4: 0.0187 | D4: 0.0187 | E4: 0.0187 | F4: 0.0187 | G4: 0.0187 | H4: 0.0187 | I4: 0.0187
B5: CARGO FIJO | C5: 0.0187 | D5: 0.0187 | E5: 0.0187 | F5: 0.0187 | G5: 0.0187 | H5: 0.0187 | I5: 0.0187
B6: RESIDENCIAL | C6: 0.0098 | D6: 0.0102 | E6: 0.0105 | F6: 0.0109 | G6: 0.0104 | H6: 0.0111 | I6: 0.0103
B7: ALUMBRADO PUBLICO | C7: 0.01 | D7: 0.0105 | E7: 0.0106 | F7: 0.0113 | G7: 0.0104 | H7: 0.0112 | I7: 0.0108
B8: NO RESIDENCIAL <=800 KWH | C8: 0.01 | D8: 0.0105 | E8: 0.0106 | F8: 0.0113 | G8: 0.0104 | H8: 0.0112 | I8: 0.0108
B9: NO RESIDENCIAL >800 KWH | C9: 0.01 | D9: 0.0105 | E9: 0.0106 | F9: 0.0113 | G9: 0.0104 | H9: 0.0112 | I9: 0.0108
A10: BT CMD | B10: DP-BT | C10: 0.0148 | E10: 0.0168 | G10: 0.0166 | I10: 0.0157
B11: DFP-BT | C11: 0.0181 | E11: 0.0208 | G11: 0.0205 | I11: 0.0195
B12: EPI-BT | C12: 0 | E12: 0 | G12: 0 | I12: 0
B13: EVA-BT | C13: 0 | E13: 0 | G13: 0 | I13: 0
B14: ERE-BT | C14: 0 | E14: 0 | G14: 0 | I14: 0
B15: DP-GUDI BT | C15: 0.0136 | E15: 0.0155 | G15: 0.0153 | I15: 0.0145
B16: DFP-GUDI BT | C16: 0.0181 | E16: 0.0208 | G16: 0.0205 | I16: 0.0195
B17: EPI-GUDI BT | C17: 0 | E17: 0 | G17: 0 | I17: 0
B18: EVA-GUDI BT | C18: 0 | E18: 0 | G18: 0 | I18: 0
B19: ERE-GUDI BT | C19: 0 | E19: 0 | G19: 0 | I19: 0
A20: MT CMD | B20: DP-MT | C20: 0.008 | E20: 0.0091 | G20: 0.009 | I20: 0.0088
B21: DFP-MT | C21: 0.0098 | E21: 0.0113 | G21: 0.0111 | I21: 0.0109
B22: EPI-MT | C22: 0 | E22: 0 | G22: 0 | I22: 0
B23: EVA-MT | C23: 0 | E23: 0 | G23: 0 | I23: 0
B24: ERE-MT | C24: 0 | E24: 0 | G24: 0 | I24: 0
B25: DP-GUDI MT | C25: 0.0074 | E25: 0.0084 | G25: 0.0083 | I25: 0.0078
B26: DFP-GUDI MT | C26: 0.0098 | E26: 0.0113 | G26: 0.0111 | I26: 0.0105
B27: EPI-GUDI MT | C27: 0 | E27: 0 | G27: 0 | I27: 0
B28: EVA-GUDI MT | C28: 0 | E28: 0 | G28: 0 | I28: 0
B29: ERE-GUDI MT | C29: 0 | E29: 0 | G29: 0 | I29: 0
A30: AT-CMD | B30: DP-AT | I30: 0.0056
B31: DFP-AT | I31: 0.0069
B32: EPI-AT | I32: 0
B33: EVA-AT | I33: 0
B34: ERE-AT | I34: 0
B35: DP-GUDI AT | I35: 0.0051
B36: DFP-GUDI AT | I36: 0.0069
B37: EPI-GUDI AT | I37: 0
B38: EVA-GUDI AT | I38: 0
B39: ERE-GUDI AT | I39: 0
