Workbook

Sheet BT
A1: TRASLADO RG ERSeP Nº04/2025 (LETRA D) y NOTA ERSeP DEL 18 DE NOVIEMBRE DE 2025
A2: CATEGORIA TARIFARIA | B2: UNIDADES | C2: A PARTIR DEL 1 DE NOVIEMBRE DE 2025
C3: MODIFICACION CT COOPERATIVA
C4: RG ERSEP 04/2025 (LETRA D) | I4: NOTA ERSeP - NUEVO ESTACIONAL Y FAM EPEC 10/2025
I5: MODIFICACION CT OCTUBRE 2025 COOPERATIVA (LUEGO DE APLICAR RG ERSeP Nº04/2025-LETRA D) | J5: TARIFAS PARA GENERACION DISTRIBUIDA
C6: GRUPO "A" - Anexo I | D6: GRUPO "B" - Anexo II | E6: GRUPO "C" - Anexo III | F6: GRUPO "D" - Anexo IV | G6: GRUPO "E" - Anexo V | H6: GRUPO "F" - Anexo VI | I6: ANEXO 1 | J6: ANEXO 4
C7: MODIFICACION POR ACTUALIZACION VAD COOPERATIVAS | I7: INCREMENTO AUTORIZADO POR NUEVO VAD EPEC | J7: VALORES A FACTURAR
A8: Cuadro N° 1:
A9: Cooperativas con Compra en Baja Tensión sin Facturación de Potencia
A10: Suministros en Baja Tension (220 y 380 V) sin Facturacion de Potencia
A11: Por cada kWh suministrado | B11: $/kWh (pesos por kWh) | I11: -1.52509 | J11: 74.97428
A13: Cuadro N° 2:
A14: Cooperativas con Compra en Baja Tension (220 y 380 V) con Facturación de Potencia
A15: Suministros en Baja Tension (220 y 380 V)
A16: Energia destinada a suministros Residenciales con demanda menor a 10 kW
A17: NIVEL 1-ALTOS INGRESOS, NIVEL 2 CONSUMO MAYOR A 350 KWH Y NIVEL 3 CONSUMO MAYOR A 250 KWH-VALOR A INCREMENTAR RESPECTO DE LA TARIFA RESIDENCIAL N1 | I17: VALOR A INCREMENTAR RESPECTO DE LA TARIFA RESIDENCIAL N1
A18: Cargos Fijos | B18: $ (pesos) | C18: 0.0187 | D18: =$C$18 -> 0.0187 | E18: =$C$18 -> 0.0187 | F18: =$C$18 -> 0.0187 | G18: =$C$18 -> 0.0187 | H18: =$C$18 -> 0.0187 | I18: 0 | J18: 0
A19: Para la totalidad de los kWh (usuarios N1), Para el Excedente de 250 kWh/mes (usuarios N3). Para el excedente de 350 kWh/mes (usuarios N2) | B19: $/kWh (pesos por kWh) | C19: 0.0098 | D19: 0.0102 | E19: 0.0105 | F19: 0.0109 | G19: 0.0104 | H19: 0.0111 | I19: 4.09454 | J19: =J11 -> 74.97428
A20: NIVEL 2 - INGRESOS BAJOS - VALOR A DETRAER O DESCONTAR DE LA TARIFA RESIDENCIAL N1 - POR LOS PRIMEROS 350 KWH | I20: VALOR A DESCONTAR RESPECTO DE LA TARIFA RESIDENCIAL N1
A21: Cargos Fijos | B21: $ (pesos) | C21: 0 | D21: 0 | E21: 0 | F21: 0 | G21: 0 | H21: 0 | I21: 0 | J21: 0
A22: Por los primeros 350 kWh | B22: $/kWh (pesos por kWh) | C22: 0 | D22: 0 | E22: 0 | F22: 0 | G22: 0 | H22: 0 | I22: -57.68785 | J22: 29.00454
A23: NIVEL 3 - INGRESOS MEDIOS - VALOR A DETRAER O DESCONTAR DE LA TARIFA RESIDENCIAL N1 - POR LOS PRIMEROS 250 KWH | I23: VALOR A DESCONTAR RESPECTO DE LA TARIFA RESIDENCIAL N1
A24: Cargos Fijos | B24: $ (pesos) | C24: 0 | D24: 0 | E24: 0 | F24: 0 | G24: 0 | H24: 0 | I24: 0 | J24: 0
A25: Por los primeros 250 | B25: $/kWh (pesos por kWh) | C25: 0 | D25: 0 | E25: 0 | F25: 0 | G25: 0 | H25: 0 | I25: -44.42395 | J25: 39.57415
A26: Para Usuarios ELECTRODEPENDIENTES SEGÚN LEY NACIONAL Nº 27351 (diferencial aplicable respecto de la tarifa resultante para Usuarios Residenciales Nivel 2) | I26: VALOR A DESCONTAR RESPECTO DE LA TARIFA RESIDENCIAL N2
A27: Cargos Fijos | B27: $ (pesos) | C27: 0 | D27: 0 | E27: 0 | F27: 0 | G27: 0 | H27: 0 | I27: 0
A28: Para la totalidad de los kWh, cuando no se registre y/o facture potencia | B28: $/kWh (pesos por kWh) | C28: 0 | D28: 0 | E28: 0 | F28: 0 | G28: 0 | H28: 0 | I28: -31.10143
A29: Para Usuarios ELECTRODEPENDIENTES SEGÚN LEY PROVINCIAL Nº 10511 (corresponde aplicar gratuidad del servicio) | I29: TARIFA FINAL A APLICAR POR TODO EL CONSUMO
A30: Cargos Fijos | B30: $ (pesos) | C30: 0 | D30: 0 | E30: 0 | F30: 0 | G30: 0 | H30: 0 | I30: 0
A31: Para la totalidad de los kWh, cuando no se registre y/o facture potencia | B31: $/kWh (pesos por kWh) | C31: 0 | D31: 0 | E31: 0 | F31: 0 | G31: 0 | H31: 0 | I31: 0
A32: Suministros a Clubes de Barrio y de Pueblo (diferencial aplicable respecto de la categoría disponible en el Cuadro Tarifario de la Prestadora, solo en caso que el respectivo Club/Entidad sea informado por el MINISTERIO DE TURISMO Y DEPORTES o el área que éste disponga, de conformidad con la Resolución SE Nº 742/2022) - SIN FACTURACION DE POTENCIA
A33: Cargos Fijos | B33: $ (pesos) | C33: =C$18 -> 0.0187 | D33: =D$18 -> 0.0187 | E33: =E$18 -> 0.0187 | F33: =F$18 -> 0.0187 | G33: =G$18 -> 0.0187 | H33: =H$18 -> 0.0187 | I33: 0 | J33: 0
A34: Para la totalidad de los kWh, cuando no se registre y/o facture potencia | B34: $/kWh (pesos por kWh) | C34: 0.01 | D34: 0.0105 | E34: 0.0106 | F34: 0.0113 | G34: 0.0104 | H34: 0.0112 | I34: -38.44011 | J34: 29.0025
A35: Suministros a entidades integrantes del Sistema Nacional de Bomberos Voluntarios (diferencial aplicable respecto de la categoría disponible en el Cuadro Tarifario de la Prestadora, según Res. SE 161/2023) - SIN FACTURACION DE POTENCIA
A36: Cargos Fijos | B36: $ (pesos) | C36: =C$18 -> 0.0187 | D36: =D$18 -> 0.0187 | E36: =E$18 -> 0.0187 | F36: =F$18 -> 0.0187 | G36: =G$18 -> 0.0187 | H36: =H$18 -> 0.0187 | I36: 0 | J36: 0
A37: Para la totalidad de los kWh, cuando no se registre y/o facture potencia | B37: $/kWh (pesos por kWh) | C37: =C34 -> 0.01 | D37: =D34 -> 0.0105 | E37: =E34 -> 0.0106 | F37: =F34 -> 0.0113 | G37: =G34 -> 0.0104 | H37: =H34 -> 0.0112 | I37: -69.53948 | J37: 0
A38: Energia destinada a suministros identificados como Alumbrado Publico - SIN FACTURACION DE POTENCIA
A39: Cargos Fijos | B39: $ (pesos) | C39: =C$18 -> 0.0187 | D39: =D$18 -> 0.0187 | E39: =E$18 -> 0.0187 | F39: =F$18 -> 0.0187 | G39: =G$18 -> 0.0187 | H39: =H$18 -> 0.0187 | I39: 0 | J39: 0
A40: Para la totalidad de los kWh, cuando no se registre y/o facture potencia | B40: $/kWh (pesos por kWh) | C40: =C34 -> 0.01 | D40: =D34 -> 0.0105 | E40: =E34 -> 0.0106 | F40: =F34 -> 0.0113 | G40: =G34 -> 0.0104 | H40: =H34 -> 0.0112 | I40: -3.81888 | J40: 67.07957
A41: Energia destinada a suministros Generales con demanda menor o igual a 10 kW. excepto usuarios Residenciales y Alumbrado Publico
A42: Cargos Fijos | B42: $ (pesos) | C42: =C$18 -> 0.0187 | D42: =D$18 -> 0.0187 | E42: =E$18 -> 0.0187 | F42: =F$18 -> 0.0187 | G42: =G$18 -> 0.0187 | H42: =H$18 -> 0.0187 | I42: 0 | J42: 0
A43: Por cada kWh hasta 800 kWh mensuales | B43: $/kWh (pesos por kWh) | C43: =C34 -> 0.01 | D43: =D34 -> 0.0105 | E43: =E34 -> 0.0106 | F43: =F34 -> 0.0113 | G43: =G34 -> 0.0104 | H43: =H34 -> 0.0112 | I43: -2.57302 | J43: 67.22659
A44: Por cada kWh excedente de 800 kWh mensuales | B44: $/kWh (pesos por kWh) | C44: =C34 -> 0.01 | D44: =D34 -> 0.0105 | E44: =E34 -> 0.0106 | F44: =F34 -> 0.0113 | G44: =G34 -> 0.0104 | H44: =H34 -> 0.0112 | I44: =I43 -> -2.57302 | J44: =J43 -> 67.22659
A45: Energia destinada a suministros con demanda mayor a 10 Kw y menor a 300 kW. excepto usuarios Residenciales y Alumbrado Publico - SIN FACTURACION DE POTENCIA
A46: Cargos Fijos | B46: $ (pesos) | C46: =C$18 -> 0.0187 | D46: =D$18 -> 0.0187 | E46: =E$18 -> 0.0187 | F46: =F$18 -> 0.0187 | G46: =G$18 -> 0.0187 | H46: =H$18 -> 0.0187 | I46: 0 | J46: 0
A47: Para la totalidad de los kWh | B47: $/kWh (pesos por kWh) | C47: =C34 -> 0.01 | D47: =D34 -> 0.0105 | E47: =E34 -> 0.0106 | F47: =F34 -> 0.0113 | G47: =G34 -> 0.0104 | H47: =H34 -> 0.0112 | I47: =I43 -> -2.57302 | J47: =J43 -> 67.22659
A48: Suministros a Clubes de Barrio y de Pueblo (diferencial aplicable respecto de la categoría disponible en el Cuadro Tarifario de la Prestadora, solo en caso que el respectivo Club/Entidad sea informado por el MINISTERIO DE TURISMO Y DEPORTES o el área que éste disponga, de conformidad con la Resolución SE Nº 742/2022) - CON FACTURACION DE POTENCIA
A49: Por cada kW-mes suministrado en Horario de Pico | B49: $/kW-mes (pesos por kW-mes) | C49: 0.0148 | D49: 0 | E49: 0.0168 | F49: 0 | G49: 0.0166 | H49: 0 | I49: 0 | J49: 0
A50: Por cada kW-mes suministrado en Horario Fuera de Pico | B50: $/kW-mes (pesos por kW-mes) | C50: 0.0181 | D50: 0 | E50: 0.0208 | F50: 0 | G50: 0.0205 | H50: 0 | I50: 0 | J50: 0
A51: Por cada kWh suministrado en Horario de Pico | B51: $/kWh (pesos por kWh) | C51: 0 | D51: 0 | E51: 0 | F51: 0 | G51: 0 | H51: 0 | I51: -39.51641 | J51: 29.43583
A52: Por cada kWh suministrado en Horario de Valle | B52: $/kWh (pesos por kWh) | C52: =C51 -> 0 | D52: 0 | E52: =E51 -> 0 | F52: 0 | G52: =G51 -> 0 | H52: 0 | I52: -37.79831 | J52: 28.57243
A53: Por cada kWh suministrado en Horario de Resto | B53: $/kWh (pesos por kWh) | C53: =C51 -> 0 | D53: 0 | E53: =E51 -> 0 | F53: 0 | G53: =G51 -> 0 | H53: 0 | I53: -38.15959 | J53: 28.95315
A54: Suministros a entidades integrantes del Sistema Nacional de Bomberos Voluntarios (diferencial aplicable respecto de la categoría disponible en el Cuadro Tarifario de la Prestadora, según Res. SE 161/2023) - CON FACTURACION DE POTENCIA
A55: Por cada kW-mes suministrado en Horario de Pico | B55: $/kW-mes (pesos por kW-mes) | C55: =C49 -> 0.0148 | D55: =D49 -> 0 | E55: =E49 -> 0.0168 | F55: =F49 -> 0 | G55: =G49 -> 0.0166 | H55: =H49 -> 0 | I55: 0 | J55: 0
A56: Por cada kW-mes suministrado en Horario Fuera de Pico | B56: $/kW-mes (pesos por kW-mes) | C56: =C50 -> 0.0181 | D56: =D50 -> 0 | E56: =E50 -> 0.0208 | F56: =F50 -> 0 | G56: =G50 -> 0.0205 | H56: =H50 -> 0 | I56: 0 | J56: 0
A57: Por cada kWh suministrado en Horario de Pico | B57: $/kWh (pesos por kWh) | C57: =C51 -> 0 | D57: =D51 -> 0 | E57: =E51 -> 0 | F57: =F51 -> 0 | G57: =G51 -> 0 | H57: =H51 -> 0 | I57: -71.05156 | J57: 0
A58: Por cada kWh suministrado en Horario de Valle | B58: $/kWh (pesos por kWh) | C58: =C52 -> 0 | D58: =D52 -> 0 | E58: =E52 -> 0 | F58: =F52 -> 0 | G58: =G52 -> 0 | H58: =H52 -> 0 | I58: -68.46519 | J58: 0
A59: Por cada kWh suministrado en Horario de Resto | B59: $/kWh (pesos por kWh) | C59: =C53 -> 0 | D59: =D53 -> 0 | E59: =E53 -> 0 | F59: =F53 -> 0 | G59: =G53 -> 0 | H59: =H53 -> 0 | I59: -69.20933 | J59: 0
A60: Energia destinada a suministros identificados como Alumbrado Publico - CON FACTURACION DE POTENCIA
A61: Por cada kW-mes suministrado en Horario de Pico | B61: $/kW-mes (pesos por kW-mes) | C61: =C49 -> 0.0148 | D61: =D49 -> 0 | E61: =E49 -> 0.0168 | F61: =F49 -> 0 | G61: =G49 -> 0.0166 | H61: =H49 -> 0 | I61: 2151.8398 | J61: 0
A62: Por cada kW-mes suministrado en Horario Fuera de Pico | B62: $/kW-mes (pesos por kW-mes) | C62: =C50 -> 0.0181 | D62: =D50 -> 0 | E62: =E50 -> 0.0208 | F62: =F50 -> 0 | G62: =G50 -> 0.0205 | H62: =H50 -> 0 | I62: 226.44244 | J62: 0
A63: Por cada kWh suministrado en Horario de Pico | B63: $/kWh (pesos por kWh) | C63: =C51 -> 0 | D63: =D51 -> 0 | E63: =E51 -> 0 | F63: =F51 -> 0 | G63: =G51 -> 0 | H63: =H51 -> 0 | I63: -10.2071 | J63: 68.73017
A64: Por cada kWh suministrado en Horario de Valle | B64: $/kWh (pesos por kWh) | C64: =C52 -> 0 | D64: =D52 -> 0 | E64: =E52 -> 0 | F64: =F52 -> 0 | G64: =G52 -> 0 | H64: =H52 -> 0 | I64: -10.15833 | J64: 66.15833
A65: Por cada kWh suministrado en Horario de Resto | B65: $/kWh (pesos por kWh) | C65: =C53 -> 0 | D65: =D53 -> 0 | E65: =E53 -> 0 | F65: =F53 -> 0 | G65: =G53 -> 0 | H65: =H53 -> 0 | I65: -10.57691 | J65: 66.8983
A66: Energia destinada a suministros con demanda mayor a 10 Kw y menor a 300 kW. excepto usuarios Residenciales y Alumbrado Publico - CON FACTURACION DE POTENCIA
A67: Por cada kW-mes suministrado en Horario de Pico | B67: $/kW-mes (pesos por kW-mes) | C67: =C61 -> 0.0148 | D67: =D61 -> 0 | E67: =E61 -> 0.0168 | F67: =F61 -> 0 | G67: =G61 -> 0.0166 | H67: =H61 -> 0 | I67: =I61 -> 2151.8398 | J67: 0
A68: Por cada kW-mes suministrado en Horario Fuera de Pico | B68: $/kW-mes (pesos por kW-mes) | C68: =C62 -> 0.0181 | D68: =D62 -> 0 | E68: =E62 -> 0.0208 | F68: =F62 -> 0 | G68: =G62 -> 0.0205 | H68: =H62 -> 0 | I68: =I62 -> 226.44244 | J68: 0
A69: Por cada kWh suministrado en Horario de Pico | B69: $/kWh (pesos por kWh) | C69: =C63 -> 0 | D69: =D63 -> 0 | E69: =E63 -> 0 | F69: =F63 -> 0 | G69: =G63 -> 0 | H69: =H63 -> 0 | I69: =I63 -> -10.2071 | J69: =J63 -> 68.73017
A70: Por cada kWh suministrado en Horario de Valle | B70: $/kWh (pesos por kWh) | C70: =C64 -> 0 | D70: =D64 -> 0 | E70: =E64 -> 0 | F70: =F64 -> 0 | G70: =G64 -> 0 | H70: =H64 -> 0 | I70: =I64 -> -10.15833 | J70: =J64 -> 66.15833
A71: Por cada kWh suministrado en Horario de Resto | B71: $/kWh (pesos por kWh) | C71: =C65 -> 0 | D71: =D65 -> 0 | E71: =E65 -> 0 | F71: =F65 -> 0 | G71: =G65 -> 0 | H71: =H65 -> 0 | I71: =I65 -> -10.57691 | J71: =J65 -> 66.8983

Sheet MT
A1: TRASLADO RG ERSeP Nº04/2025 (LETRA D) y NOTA ERSeP DEL 18 DE NOVIEMBRE DE 2025
A2: CATEGORIA TARIFARIA | B2: UNIDADES | C2: A PARTIR DEL 1 DE NOVIEMBRE DE 2025
C3: MODIFICACION CT COOPERATIVA
C4: RG ERSEP 04/2025 (LETRA D) | I4: NOTA ERSeP - NUEVO ESTACIONAL Y FAM EPEC 10/2025
I5: MODIFICACION CT OCTUBRE 2025 COOPERATIVA (LUEGO DE APLICAR RG ERSeP Nº04/2025-LETRA D) | J5: TARIFAS PARA GENERACION DISTRIBUIDA
C6: GRUPO "A" - Anexo I | D6: GRUPO "B" - Anexo II | E6: GRUPO "C" - Anexo III | F6: GRUPO "D" - Anexo IV | G6: GRUPO "E" - Anexo V | H6: GRUPO "F" - Anexo VI | I6: ANEXO 1 | J6: ANEXO 4
C7: MODIFICACION POR ACTUALIZACION VAD COOPERATIVAS | I7: INCREMENTO AUTORIZADO POR NUEVO VAD EPEC | J7: VALORES A FACTURAR
A8: Cuadro N° 3:
A9: Cooperativas con Compra en Media Tension (13200 y 33000 V) con Facturacion de Potencia
A10: SUMINISTROS EN BAJA TENSION (220 y 380 V)
A11: Energia destinada a suministros Residenciales con demanda menor a 10 kW
A12: NIVEL 1-ALTOS INGRESOS, NIVEL 2 CONSUMO MAYOR A 350 KWH Y NIVEL 3 CONSUMO MAYOR A 250 KWH-VALOR A INCREMENTAR RESPECTO DE LA TARIFA RESIDENCIAL N1 | I12: VALOR A INCREMENTAR RESPECTO DE LA TARIFA RESIDENCIAL N1
A13: Cargos Fijos | B13: $ (pesos) | C13: =BT!C18 -> 0.0187 | D13: =BT!D18 -> 0.0187 | E13: =BT!E18 -> 0.0187 | F13: =BT!F18 -> 0.0187 | G13: =BT!G18 -> 0.0187 | H13: =BT!H18 -> 0.0187 | I13: 0 | J13: =BT!J18 -> 0
A14: Para la totalidad de los kWh (usuarios N1), Para el Excedente de 250 kWh/mes (usuarios N3). Para el excedente de 350 kWh/mes (usuarios N2) | B14: $/kWh (pesos por kWh) | C14: =BT!C19 -> 0.0098 | D14: =BT!D19 -> 0.0102 | E14: =BT!E19 -> 0.0105 | F14: =BT!F19 -> 0.0109 | G14: =BT!G19 -> 0.0104 | H14: =BT!H19 -> 0.0111 | I14: 3.99655 | J14: =BT!J19 -> 74.97428
A15: NIVEL 2 - INGRESOS BAJOS - VALOR A DETRAER O DESCONTAR DE LA TARIFA RESIDENCIAL N1 - POR LOS PRIMEROS 350 KWH | I15: VALOR A DESCONTAR RESPECTO DE LA TARIFA RESIDENCIAL N1
A16: Cargos Fijos | B16: $ (pesos) | C16: =BT!C21 -> 0 | D16: =BT!D21 -> 0 | E16: =BT!E21 -> 0 | F16: =BT!F21 -> 0 | G16: =BT!G21 -> 0 | H16: =BT!H21 -> 0 | I16: 0 | J16: =BT!J21 -> 0
A17: Por los primeros 350 kWh | B17: $/kWh (pesos por kWh) | C17: =BT!C22 -> 0 | D17: =BT!D22 -> 0 | E17: =BT!E22 -> 0 | F17: =BT!F22 -> 0 | G17: =BT!G22 -> 0 | H17: =BT!H22 -> 0 | I17: -58.28728 | J17: =BT!J22 -> 29.00454
A18: NIVEL 3 - INGRESOS MEDIOS - VALOR A DETRAER O DESCONTAR DE LA TARIFA RESIDENCIAL N1 - POR LOS PRIMEROS 250 KWH | I18: VALOR A DESCONTAR RESPECTO DE LA TARIFA RESIDENCIAL N1
A19: Cargos Fijos | B19: $ (pesos) | C19: 0 | D19: 0 | E19: 0 | F19: 0 | G19: 0 | H19: 0 | I19: 0 | J19: =BT!J24 -> 0
A20: Por los primeros 250 | B20: $/kWh (pesos por kWh) | C20: 0 | D20: 0 | E20: 0 | F20: 0 | G20: 0 | H20: 0 | I20: -44.88556 | J20: =BT!J25 -> 39.57415
A21: Para Usuarios ELECTRODEPENDIENTES SEGÚN LEY NACIONAL Nº 27351 (diferencial aplicable respecto de la tarifa resultante para Usuarios Residenciales Nivel 2) | I21: VALOR A DESCONTAR RESPECTO DE LA TARIFA RESIDENCIAL N2
A22: Cargos Fijos | B22: $ (pesos) | C22: 0 | D22: 0 | E22: 0 | F22: 0 | G22: 0 | H22: 0 | I22: 0
A23: Para la totalidad de los kWh, cuando no se registre y/o facture potencia | B23: $/kWh (pesos por kWh) | C23: 0 | D23: 0 | E23: 0 | F23: 0 | G23: 0 | H23: 0 | I23: -31.09711
A24: Para Usuarios ELECTRODEPENDIENTES SEGÚN LEY PROVINCIAL Nº 10511 (corresponde aplicar gratuidad del servicio) | I24: TARIFA FINAL A APLICAR POR TODO EL CONSUMO
A25: Cargos Fijos | B25: $ (pesos) | C25: 0 | D25: 0 | E25: 0 | F25: 0 | G25: 0 | H25: 0 | I25: 0
A26: Para la totalidad de los kWh, cuando no se registre y/o facture potencia | B26: $/kWh (pesos por kWh) | C26: =C23 -> 0 | D26: =D23 -> 0 | E26: =E23 -> 0 | F26: =F23 -> 0 | G26: =G23 -> 0 | H26: =H23 -> 0 | I26: 0
A27: Suministros a Clubes de Barrio y de Pueblo (diferencial aplicable respecto de la categoría disponible en el Cuadro Tarifario de la Prestadora, solo en caso que el respectivo Club/Entidad sea informado por el MINISTERIO DE TURISMO Y DEPORTES o el área que éste disponga, de conformidad con la Resolución SE Nº 742/2022) - SIN FACTURACION DE POTENCIA
A28: Cargos Fijos | B28: $ (pesos) | C28: =C$13 -> 0.0187 | D28: =D$13 -> 0.0187 | E28: =E$13 -> 0.0187 | F28: =F$13 -> 0.0187 | G28: =G$13 -> 0.0187 | H28: =H$13 -> 0.0187 | I28: 0 | J28: =BT!J33 -> 0
A29: Para la totalidad de los kWh, cuando no se registre y/o facture potencia | B29: $/kWh (pesos por kWh) | C29: =BT!C34 -> 0.01 | D29: =BT!D34 -> 0.0105 | E29: =BT!E34 -> 0.0106 | F29: =BT!F34 -> 0.0113 | G29: =BT!G34 -> 0.0104 | H29: =BT!H34 -> 0.0112 | I29: -38.43477 | J29: =BT!J34 -> 29.0025
A30: Suministros a entidades integrantes del Sistema Nacional de Bomberos Voluntarios (diferencial aplicable respecto de la categoría disponible en el Cuadro Tarifario de la Prestadora, según Res. SE 161/2023) - SIN FACTURACION DE POTENCIA
A31: Cargos Fijos | B31: $ (pesos) | C31: =C$13 -> 0.0187 | D31: =D$13 -> 0.0187 | E31: =E$13 -> 0.0187 | F31: =F$13 -> 0.0187 | G31: =G$13 -> 0.0187 | H31: =H$13 -> 0.0187 | I31: 0 | J31: =BT!J36 -> 0
A32: Para la totalidad de los kWh, cuando no se registre y/o facture potencia | B32: $/kWh (pesos por kWh) | C32: =C29 -> 0.01 | D32: =D29 -> 0.0105 | E32: =E29 -> 0.0106 | F32: =F29 -> 0.0113 | G32: =G29 -> 0.0104 | H32: =H29 -> 0.0112 | I32: -69.52982 | J32: =BT!J37 -> 0
A33: Energia destinada a suministros identificados como Alumbrado Publico - SIN FACTURACION DE POTENCIA
A34: Cargos Fijos | B34: $ (pesos) | C34: =C$13 -> 0.0187 | D34: =D$13 -> 0.0187 | E34: =E$13 -> 0.0187 | F34: =F$13 -> 0.0187 | G34: =G$13 -> 0.0187 | H34: =H$13 -> 0.0187 | I34: 0 | J34: =BT!J39 -> 0
A35: Para la totalidad de los kWh, cuando no se registre y/o facture potencia | B35: $/kWh (pesos por kWh) | C35: =C29 -> 0.01 | D35: =D29 -> 0.0105 | E35: =E29 -> 0.0106 | F35: =F29 -> 0.0113 | G35: =G29 -> 0.0104 | H35: =H29 -> 0.0112 | I35: -3.91177 | J35: =BT!J40 -> 67.07957
A36: Energia destinada a suministros Generales con demanda menor o igual a 10 kW, excepto usuarios Residenciales y Alumbrado Publico
A37: Cargos Fijos | B37: $ (pesos) | C37: =C$13 -> 0.0187 | D37: =D$13 -> 0.0187 | E37: =E$13 -> 0.0187 | F37: =F$13 -> 0.0187 | G37: =G$13 -> 0.0187 | H37: =H$13 -> 0.0187 | I37: 0 | J37: =BT!J42 -> 0
A38: Por cada kWh hasta 800 kWh mensuales | B38: $/kWh (pesos por kWh) | C38: =C29 -> 0.01 | D38: =D29 -> 0.0105 | E38: =E29 -> 0.0106 | F38: =F29 -> 0.0113 | G38: =G29 -> 0.0104 | H38: =H29 -> 0.0112 | I38: -2.68632 | J38: =BT!J43 -> 67.22659
A39: Por cada kWh excedente de 800 kWh mensuales | B39: $/kWh (pesos por kWh) | C39: =C29 -> 0.01 | D39: =D29 -> 0.0105 | E39: =E29 -> 0.0106 | F39: =F29 -> 0.0113 | G39: =G29 -> 0.0104 | H39: =H29 -> 0.0112 | I39: =I38 -> -2.68632 | J39: =BT!J44 -> 67.22659
A40: Energia destinada a suministros con demanda mayor a 10 Kw y menor a 300 kW, excepto usuarios Residenciales y Alumbrado Publico - SIN FACTURACION DE POTENCIA
A41: Cargos Fijos | B41: $ (pesos) | C41: =C$13 -> 0.0187 | D41: =D$13 -> 0.0187 | E41: =E$13 -> 0.0187 | F41: =F$13 -> 0.0187 | G41: =G$13 -> 0.0187 | H41: =H$13 -> 0.0187 | I41: 0 | J41: =BT!J46 -> 0
A42: Para la totalidad de los kWh | B42: $/kWh (pesos por kWh) | C42: =C29 -> 0.01 | D42: =D29 -> 0.0105 | E42: =E29 -> 0.0106 | F42: =F29 -> 0.0113 | G42: =G29 -> 0.0104 | H42: =H29 -> 0.0112 | I42: =I38 -> -2.68632 | J42: =BT!J47 -> 67.22659
A43: Energia destinada a suministros con demanda igual o mayor a 300 kW, SIN FACTURACION DE POTENCIA
A44: Cargos Fijos | B44: $ (pesos) | C44: =C$13 -> 0.0187 | D44: =D$13 -> 0.0187 | E44: =E$13 -> 0.0187 | F44: =F$13 -> 0.0187 | G44: =G$13 -> 0.0187 | H44: =H$13 -> 0.0187 | I44: 0 | J44: 0
A45: Para la totalidad de los kWh | B45: $/kWh (pesos por kWh) | C45: =C29 -> 0.01 | D45: =D29 -> 0.0105 | E45: =E29 -> 0.0106 | F45: =F29 -> 0.0113 | G45: =G29 -> 0.0104 | H45: =H29 -> 0.0112 | I45: -2.88587 | J45: 64.87868
A46: Suministros a Clubes de Barrio y de Pueblo (diferencial aplicable respecto de la categoría disponible en el Cuadro Tarifario de la Prestadora, solo en caso que el respectivo Club/Entidad sea informado por el MINISTERIO DE TURISMO Y DEPORTES o el área que éste disponga, de conformidad con la Resolución SE Nº 742/2022) - CON FACTURACION DE POTENCIA
A47: Por cada kW-mes suministrado en Horario de Pico | B47: $/kW-mes (pesos por kW-mes) | C47: =BT!C49 -> 0.0148 | D47: =BT!D49 -> 0 | E47: =BT!E49 -> 0.0168 | F47: =BT!F49 -> 0 | G47: =BT!G49 -> 0.0166 | H47: =BT!H49 -> 0 | I47: 0 | J47: =BT!J49 -> 0
A48: Por cada kW-mes suministrado en Horario Fuera de Pico | B48: $/kW-mes (pesos por kW-mes) | C48: =BT!C50 -> 0.0181 | D48: =BT!D50 -> 0 | E48: =BT!E50 -> 0.0208 | F48: =BT!F50 -> 0 | G48: =BT!G50 -> 0.0205 | H48: =BT!H50 -> 0 | I48: 0 | J48: =BT!J50 -> 0
A49: Por cada kWh suministrado en Horario de Pico | B49: $/kWh (pesos por kWh) | C49: =BT!C51 -> 0 | D49: =BT!D51 -> 0 | E49: =BT!E51 -> 0 | F49: =BT!F51 -> 0 | G49: =BT!G51 -> 0 | H49: =BT!H51 -> 0 | I49: -39.51093 | J49: =BT!J51 -> 29.43583
A50: Por cada kWh suministrado en Horario de Valle | B50: $/kWh (pesos por kWh) | C50: =BT!C52 -> 0 | D50: =BT!D52 -> 0 | E50: =BT!E52 -> 0 | F50: =BT!F52 -> 0 | G50: =BT!G52 -> 0 | H50: =BT!H52 -> 0 | I50: -37.79305 | J50: =BT!J52 -> 28.57243
A51: Por cada kWh suministrado en Horario de Resto | B51: $/kWh (pesos por kWh) | C51: =BT!C53 -> 0 | D51: =BT!D53 -> 0 | E51: =BT!E53 -> 0 | F51: =BT!F53 -> 0 | G51: =BT!G53 -> 0 | H51: =BT!H53 -> 0 | I51: -38.15429 | J51: =BT!J53 -> 28.95315
A52: Suministros a entidades integrantes del Sistema Nacional de Bomberos Voluntarios (diferencial aplicable respecto de la categoría disponible en el Cuadro Tarifario de la Prestadora, según Res. SE 161/2023) - CON FACTURACION DE POTENCIA
A53: Por cada kW-mes suministrado en Horario de Pico | B53: $/kW-mes (pesos por kW-mes) | C53: =C47 -> 0.0148 | D53: =D47 -> 0 | E53: =E47 -> 0.0168 | F53: =F47 -> 0 | G53: =G47 -> 0.0166 | H53: =H47 -> 0 | I53: 0 | J53: 0
A54: Por cada kW-mes suministrado en Horario Fuera de Pico | B54: $/kW-mes (pesos por kW-mes) | C54: =C48 -> 0.0181 | D54: =D48 -> 0 | E54: =E48 -> 0.0208 | F54: =F48 -> 0 | G54: =G48 -> 0.0205 | H54: =H48 -> 0 | I54: 0 | J54: 0
A55: Por cada kWh suministrado en Horario de Pico | B55: $/kWh (pesos por kWh) | C55: =C49 -> 0 | D55: =D49 -> 0 | E55: =E49 -> 0 | F55: =F49 -> 0 | G55: =G49 -> 0 | H55: =H49 -> 0 | I55: -71.0417 | J55: 0
A56: Por cada kWh suministrado en Horario de Valle | B56: $/kWh (pesos por kWh) | C56: =C50 -> 0 | D56: =D50 -> 0 | E56: =E50 -> 0 | F56: =F50 -> 0 | G56: =G50 -> 0 | H56: =H50 -> 0 | I56: -68.45568 | J56: 0
A57: Por cada kWh suministrado en Horario de Resto | B57: $/kWh (pesos por kWh) | C57: =C51 -> 0 | D57: =D51 -> 0 | E57: =E51 -> 0 | F57: =F51 -> 0 | G57: =G51 -> 0 | H57: =H51 -> 0 | I57: -69.19972 | J57: 0
A58: Energia destinada a suministros identificados como Alumbrado Publico - CON FACTURACION DE POTENCIA
A59: Por cada kW-mes suministrado en Horario de Pico | B59: $/kW-mes (pesos por kW-mes) | C59: =C47 -> 0.0148 | D59: =D47 -> 0 | E59: =E47 -> 0.0168 | F59: =F47 -> 0 | G59: =G47 -> 0.0166 | H59: =H47 -> 0 | I59: 2240.8011 | J59: =BT!J61 -> 0
A60: Por cada kW-mes suministrado en Horario Fuera de Pico | B60: $/kW-mes (pesos por kW-mes) | C60: =C48 -> 0.0181 | D60: =D48 -> 0 | E60: =E48 -> 0.0208 | F60: =F48 -> 0 | G60: =G48 -> 0.0205 | H60: =H48 -> 0 | I60: 170.74994 | J60: =BT!J62 -> 0
A61: Por cada kWh suministrado en Horario de Pico | B61: $/kWh (pesos por kWh) | C61: =C49 -> 0 | D61: =D49 -> 0 | E61: =E49 -> 0 | F61: =F49 -> 0 | G61: =G49 -> 0 | H61: =H49 -> 0 | I61: -10.20568 | J61: =BT!J63 -> 68.73017
A62: Por cada kWh suministrado en Horario de Valle | B62: $/kWh (pesos por kWh) | C62: =C50 -> 0 | D62: =D50 -> 0 | E62: =E50 -> 0 | F62: =F50 -> 0 | G62: =G50 -> 0 | H62: =H50 -> 0 | I62: -10.15691 | J62: =BT!J64 -> 66.15833
A63: Por cada kWh suministrado en Horario de Resto | B63: $/kWh (pesos por kWh) | C63: =C51 -> 0 | D63: =D51 -> 0 | E63: =E51 -> 0 | F63: =F51 -> 0 | G63: =G51 -> 0 | H63: =H51 -> 0 | I63: -10.57545 | J63: =BT!J65 -> 66.8983
A64: Energia destinada a suministros con demanda mayor a 10 Kw y menor a 300 kW. excepto usuarios Residenciales y Alumbrado Publico - CON FACTURACION DE POTENCIA
A65: Por cada kW-mes suministrado en Horario de Pico | B65: $/kW-mes (pesos por kW-mes) | C65: =C47 -> 0.0148 | D65: =D47 -> 0 | E65: =E47 -> 0.0168 | F65: =F47 -> 0 | G65: =G47 -> 0.0166 | H65: =H47 -> 0 | I65: =I59 -> 2240.8011 | J65: =J59 -> 0
A66: Por cada kW-mes suministrado en Horario Fuera de Pico | B66: $/kW-mes (pesos por kW-mes) | C66: =C48 -> 0.0181 | D66: =D48 -> 0 | E66: =E48 -> 0.0208 | F66: =F48 -> 0 | G66: =G48 -> 0.0205 | H66: =H48 -> 0 | I66: =I60 -> 170.74994 | J66: =J60 -> 0
A67: Por cada kWh suministrado en Horario de Pico | B67: $/kWh (pesos por kWh) | C67: =C49 -> 0 | D67: =D49 -> 0 | E67: =E49 -> 0 | F67: =F49 -> 0 | G67: =G49 -> 0 | H67: =H49 -> 0 | I67: =I61 -> -10.20568 | J67: =J61 -> 68.73017
A68: Por cada kWh suministrado en Horario de Valle | B68: $/kWh (pesos por kWh) | C68: =C50 -> 0 | D68: =D50 -> 0 | E68: =E50 -> 0 | F68: =F50 -> 0 | G68: =G50 -> 0 | H68: =H50 -> 0 | I68: =I62 -> -10.15691 | J68: =J62 -> 66.15833
A69: Por cada kWh suministrado en Horario de Resto | B69: $/kWh (pesos por kWh) | C69: =C51 -> 0 | D69: =D51 -> 0 | E69: =E51 -> 0 | F69: =F51 -> 0 | G69: =G51 -> 0 | H69: =H51 -> 0 | I69: =I63 -> -10.57545 | J69: =J63 -> 66.8983
A70: Energia destinada a suministros con demanda igual o mayor a 300 Kw - CON FACTURACION DE POTENCIA
A71: Por cada kW-mes suministrado en Horario de Pico | B71: $/kW-mes (pesos por kW-mes) | C71: 0.0136 | D71: 0 | E71: 0.0155 | F71: 0 | G71: 0.0153 | H71: 0 | I71: 2916.8807 | J71: =J65 -> 0
A72: Por cada kW-mes suministrado en Horario Fuera de Pico | B72: $/kW-mes (pesos por kW-mes) | C72: =C66 -> 0.0181 | D72: 0 | E72: =E66 -> 0.0208 | F72: 0 | G72: =G66 -> 0.0205 | H72: 0 | I72: =I66 -> 170.74994 | J72: =J66 -> 0
A73: Por cada kWh suministrado en Horario de Pico | B73: $/kWh (pesos por kWh) | C73: =C49 -> 0 | D73: 0 | E73: =E49 -> 0 | F73: 0 | G73: =G49 -> 0 | H73: 0 | I73: -12.6295 | J73: 66.31963
A74: Por cada kWh suministrado en Horario de Valle | B74: $/kWh (pesos por kWh) | C74: =C73 -> 0 | D74: 0 | E74: =E73 -> 0 | F74: 0 | G74: =G73 -> 0 | H74: 0 | I74: -12.47411 | J74: 63.85382
A75: Por cada kWh suministrado en Horario de Resto | B75: $/kWh (pesos por kWh) | C75: =C73 -> 0 | D75: 0 | E75: =E73 -> 0 | F75: 0 | G75: =G73 -> 0 | H75: 0 | I75: -12.92214 | J75: 64.56446
A76: Suministros en Media Tension (7620, 13200 y 33000 V)
A77: Energia destinada a suministros con demanda mayor a 10 kW y menor a 300 kW, excepto usuarios Residenciales y Alumbrado Publico - SIN FACTURACION DE POTENCIA
A78: Cargos Fijos | B78: $ (pesos) | C78: =C$13 -> 0.0187 | D78: =D$13 -> 0.0187 | E78: =E$13 -> 0.0187 | F78: =F$13 -> 0.0187 | G78: =G$13 -> 0.0187 | H78: =H$13 -> 0.0187 | I78: 0 | J78: =J41 -> 0
A79: Para la totalidad de los kWh | B79: $/kWh (pesos por kWh) | C79: =C29 -> 0.01 | D79: =D29 -> 0.0105 | E79: =E29 -> 0.0106 | F79: =F29 -> 0.0113 | G79: =G29 -> 0.0104 | H79: =H29 -> 0.0112 | I79: -1.90889 | J79: 63.8891
A80: Energia destinada a suministros con demanda igual o mayor a 300 kW, SIN FACTURACION DE POTENCIA
A81: Cargos Fijos | B81: $ (pesos) | C81: =C$13 -> 0.0187 | D81: =D$13 -> 0.0187 | E81: =E$13 -> 0.0187 | F81: =F$13 -> 0.0187 | G81: =G$13 -> 0.0187 | H81: =H$13 -> 0.0187 | I81: 0 | J81: =J44 -> 0
A82: Para la totalidad de los kWh | B82: $/kWh (pesos por kWh) | C82: =C29 -> 0.01 | D82: =D29 -> 0.0105 | E82: =E29 -> 0.0106 | F82: =F29 -> 0.0113 | G82: =G29 -> 0.0104 | H82: =H29 -> 0.0112 | I82: -1.91795 | J82: 61.65775
A83: Energia destinada a suministros con demanda mayor a 10 kW y menor a 300 kW, excepto usuarios Residenciales y Alumbrado Publico - CON FACTURACION DE POTENCIA
A84: Por cada kW-mes suministrado en Horario de Pico | B84: $/kW-mes (pesos por kW-mes) | C84: 0.008 | D84: 0 | E84: 0.0091 | F84: 0 | G84: 0.009 | H84: 0 | I84: 2245.5561 | J84: =J65 -> 0
A85: Por cada kW-mes suministrado en Horario Fuera de Pico | B85: $/kW-mes (pesos por kW-mes) | C85: 0.0098 | D85: =D84 -> 0 | E85: 0.0113 | F85: =F84 -> 0 | G85: 0.0111 | H85: =H84 -> 0 | I85: 171.11227 | J85: =J66 -> 0
A86: Por cada kWh suministrado en Horario de Pico | B86: $/kWh (pesos por kWh) | C86: 0 | D86: 0 | E86: 0 | F86: 0 | G86: 0 | H86: 0 | I86: -9.69912 | J86: 65.31803
A87: Por cada kWh suministrado en Horario de Valle | B87: $/kWh (pesos por kWh) | C87: =C86 -> 0 | D87: =D86 -> 0 | E87: =E86 -> 0 | F87: =F86 -> 0 | G87: =G86 -> 0 | H87: =H86 -> 0 | I87: -9.65278 | J87: 62.87387
A88: Por cada kWh suministrado en Horario de Resto | B88: $/kWh (pesos por kWh) | C88: =C87 -> 0 | D88: =D87 -> 0 | E88: =E87 -> 0 | F88: =F87 -> 0 | G88: =G87 -> 0 | H88: =H87 -> 0 | I88: -10.05054 | J88: 63.5771
A89: Energia destinada a suministros con demanda mayor a 300 kW, CON FACTURACION DE POTENCIA
A90: Por cada kW-mes suministrado en Horario de Pico | B90: $/kW-mes (pesos por kW-mes) | C90: 0.0074 | D90: 0 | E90: 0.0084 | F90: 0 | G90: 0.0083 | H90: 0 | I90: 2923.0703 | J90: =J84 -> 0
A91: Por cada kW-mes suministrado en Horario Fuera de Pico | B91: $/kW-mes (pesos por kW-mes) | C91: =C85 -> 0.0098 | D91: =D90 -> 0 | E91: =E85 -> 0.0113 | F91: =F90 -> 0 | G91: =G85 -> 0.0111 | H91: =H90 -> 0 | I91: =I85 -> 171.11227 | J91: =J85 -> 0
A92: Por cada kWh suministrado en Horario de Pico | B92: $/kWh (pesos por kWh) | C92: =C86 -> 0 | D92: 0 | E92: =E86 -> 0 | F92: 0 | G92: =G86 -> 0 | H92: 0 | I92: -12.00264 | J92: 63.02717
A93: Por cada kWh suministrado en Horario de Valle | B93: $/kWh (pesos por kWh) | C93: =C92 -> 0 | D93: =D92 -> 0 | E93: =E92 -> 0 | F93: =F92 -> 0 | G93: =G92 -> 0 | H93: =H92 -> 0 | I93: -11.85496 | J93: 60.68378
A94: Por cada kWh suministrado en Horario de Resto | B94: $/kWh (pesos por kWh) | C94: =C93 -> 0 | D94: =D93 -> 0 | E94: =E93 -> 0 | F94: =F93 -> 0 | G94: =G93 -> 0 | H94: =H93 -> 0 | I94: -12.28075 | J94: 61.35914

Sheet AT
A1: TRASLADO RG ERSeP Nº04/2025 (LETRA D) y NOTA ERSeP DEL 18 DE NOVIEMBRE DE 2025
A2: CATEGORIA TARIFARIA | B2: UNIDADES | C2: A PARTIR DEL 1 DE NOVIEMBRE DE 2025
C3: MODIFICACION CT COOPERATIVA
C4: RG ERSEP 04/2025 (LETRA D) | D4: NOTA ERSeP - NUEVO ESTACIONAL Y FAM EPEC 10/2025
D5: MODIFICACION CT OCTUBRE 2025 COOPERATIVA (LUEGO DE APLICAR RG ERSeP Nº04/2025-LETRA D) | E5: TARIFAS PARA GENERACION DISTRIBUIDA
C6: GRUPO "A-AT" - Anexo VII | D6: ANEXO 1 | E6: ANEXO 4
C7: MODIFICACION POR ACTUALIZACION VAD COOPERATIVAS | D7: INCREMENTO AUTORIZADO POR NUEVO VAD EPEC | E7: VALORES A FACTURAR
A8: Cuadro N°4:
A9: Cooperativas con Compra en Alta Tension (66000 y 132000 V) con Facturacion de Potencia
A10: Suministros en Baja Tension (220 y 380 V)
A11: Energia destinada a suministros Residenciales con demanda menor a 10 kW
A12: NIVEL 1-ALTOS INGRESOS, NIVEL 2 CONSUMO MAYOR A 350 KWH Y NIVEL 3 CONSUMO MAYOR A 250 KWH-VALOR A INCREMENTAR RESPECTO DE LA TARIFA RESIDENCIAL N1 | D12: VALOR A INCREMENTAR RESPECTO DE LA TARIFA RESIDENCIAL N1
A13: Cargos Fijos | B13: $ (pesos) | C13: =BT!C18 -> 0.0187 | D13: 0 | E13: =MT!J13 -> 0
A14: Para la totalidad de los kWh (usuarios N1), Para el Excedente de 250 kWh/mes (usuarios N3). Para el excedente de 350 kWh/mes (usuarios N2) | B14: $/kWh (pesos por kWh) | C14: 0.0103 | D14: 4.22695 | E14: =MT!J14 -> 74.97428
A15: NIVEL 2 - INGRESOS BAJOS - VALOR A DETRAER O DESCONTAR DE LA TARIFA RESIDENCIAL N1 - POR LOS PRIMEROS 350 KWH | D15: VALOR A DESCONTAR RESPECTO DE LA TARIFA RESIDENCIAL N1
A16: Cargos Fijos | B16: $ (pesos) | C16: 0 | D16: 0 | E16: =MT!J16 -> 0
A17: Por los primeros 350 kWh | B17: $/kWh (pesos por kWh) | C17: 0 | D17: -59.80796 | E17: =MT!J17 -> 29.00454
A18: NIVEL 3 - INGRESOS MEDIOS - VALOR A DETRAER O DESCONTAR DE LA TARIFA RESIDENCIAL N1 - POR LOS PRIMEROS 250 KWH | D18: VALOR A DESCONTAR RESPECTO DE LA TARIFA RESIDENCIAL N1
A19: Cargos Fijos | B19: $ (pesos) | C19: 0 | D19: 0 | E19: =MT!J19 -> 0
A20: Por los primeros 250 | B20: $/kWh (pesos por kWh) | C20: 0 | D20: -46.0566 | E20: =MT!J20 -> 39.57415
A21: Para Usuarios ELECTRODEPENDIENTES SEGÚN LEY NACIONAL Nº 27351 (diferencial aplicable respecto de la tarifa resultante para Usuarios Residenciales Nivel 2) | D21: VALOR A DESCONTAR RESPECTO DE LA TARIFA RESIDENCIAL N2
A22: Cargos Fijos | B22: $ (pesos) | C22: 0 | D22: 0
A23: Para la totalidad de los kWh, cuando no se registre y/o facture potencia | B23: $/kWh (pesos por kWh) | C23: 0 | D23: -30.92732
A24: Para Usuarios ELECTRODEPENDIENTES SEGÚN LEY PROVINCIAL Nº 10511 (corresponde aplicar gratuidad del servicio) | D24: TARIFA FINAL A APLICAR POR TODO EL CONSUMO
A25: Cargos Fijos | B25: $ (pesos) | C25: 0 | D25: 0
A26: Para la totalidad de los kWh, cuando no se registre y/o facture potencia | B26: $/kWh (pesos por kWh) | C26: 0 | D26: 0
A27: Suministros a Clubes de Barrio y de Pueblo (diferencial aplicable respecto de la categoría disponible en el Cuadro Tarifario de la Prestadora, solo en caso que el respectivo Club/Entidad sea informado por el MINISTERIO DE TURISMO Y DEPORTES o el área que éste disponga, de conformidad con la Resolución SE Nº 742/2022) - SIN FACTURACION DE POTENCIA
A28: Cargos Fijos | B28: $ (pesos) | C28: =C$13 -> 0.0187 | D28: 0 | E28: =MT!J28 -> 0
A29: Para la totalidad de los kWh, cuando no se registre y/o facture potencia | B29: $/kWh (pesos por kWh) | C29: 0.0108 | D29: -38.22492 | E29: =MT!J29 -> 29.0025
A30: Suministros a entidades integrantes del Sistema Nacional de Bomberos Voluntarios (diferencial aplicable respecto de la categoría disponible en el Cuadro Tarifario de la Prestadora, según Res. SE 161/2023) - SIN FACTURACION DE POTENCIA
A31: Cargos Fijos | B31: $ (pesos) | C31: =C$13 -> 0.0187 | D31: 0 | E31: =MT!J31 -> 0
A32: Para la totalidad de los kWh, cuando no se registre y/o facture potencia | B32: $/kWh (pesos por kWh) | C32: =C29 -> 0.0108 | D32: -69.1502 | E32: =MT!J32 -> 0
A33: Energia destinada a suministros identificados como Alumbrado Publico - SIN FACTURACION DE POTENCIA
A34: Cargos Fijos | B34: $ (pesos) | C34: =C$13 -> 0.0187 | D34: 0 | E34: =MT!J34 -> 0
A35: Para la totalidad de los kWh, cuando no se registre y/o facture potencia | B35: $/kWh (pesos por kWh) | C35: =C29 -> 0.0108 | D35: -3.64855 | E35: =MT!J35 -> 67.07957
A36: Energia destinada a suministros Generales con demanda menor o igual a 10 kW, excepto usuarios Residenciales y Alumbrado Publico
A37: Cargos Fijos | B37: $ (pesos) | C37: =C$13 -> 0.0187 | D37: 0 | E37: =MT!J37 -> 0
A38: Por cada kWh hasta 800 kWh mensuales | B38: $/kWh (pesos por kWh) | C38: =C29 -> 0.0108 | D38: -2.37739 | E38: =MT!J38 -> 67.22659
A39: Por cada kWh excedente de 800 kWh mensuales | B39: $/kWh (pesos por kWh) | C39: =C29 -> 0.0108 | D39: =D38 -> -2.37739 | E39: =MT!J39 -> 67.22659
A40: Energia destinada a suministros con demanda mayor a 10 Kw y menor a 300 kW, excepto usuarios Residenciales y Alumbrado Publico - SIN FACTURACION DE POTENCIA
A41: Cargos Fijos | B41: $ (pesos) | C41: =C$13 -> 0.0187 | D41: 0 | E41: =MT!J41 -> 0
A42: Para la totalidad de los kWh | B42: $/kWh (pesos por kWh) | C42: =C29 -> 0.0108 | D42: =D39 -> -2.37739 | E42: =MT!J42 -> 67.22659
A43: Energia destinada a suministros con demanda igual o mayor a 300 kW, SIN FACTURACION DE POTENCIA
A44: Cargos Fijos | B44: $ (pesos) | C44: =C$13 -> 0.0187 | D44: 0 | E44: =MT!J44 -> 0
A45: Para la totalidad de los kWh | B45: $/kWh (pesos por kWh) | C45: =C29 -> 0.0108 | D45: -4.33394 | E45: =MT!J45 -> 64.87868
A46: Suministros a Clubes de Barrio y de Pueblo (diferencial aplicable respecto de la categoría disponible en el Cuadro Tarifario de la Prestadora, solo en caso que el respectivo Club/Entidad sea informado por el MINISTERIO DE TURISMO Y DEPORTES o el área que éste disponga, de conformidad con la Resolución SE Nº 742/2022) - CON FACTURACION DE POTENCIA
A47: Por cada kW-mes suministrado en Horario de Pico | B47: $/kW-mes (pesos por kW-mes) | C47: 0.0157 | D47: 0 | E47: =MT!J47 -> 0
A48: Por cada kW-mes suministrado en Horario Fuera de Pico | B48: $/kW-mes (pesos por kW-mes) | C48: 0.0195 | D48: 0 | E48: =MT!J48 -> 0
A49: Por cada kWh suministrado en Horario de Pico | B49: $/kWh (pesos por kWh) | C49: =BT!C51 -> 0 | D49: -39.29519 | E49: =MT!J49 -> 29.43583
A50: Por cada kWh suministrado en Horario de Valle | B50: $/kWh (pesos por kWh) | C50: =BT!C52 -> 0 | D50: -37.58671 | E50: =MT!J50 -> 28.57243
A51: Por cada kWh suministrado en Horario de Resto | B51: $/kWh (pesos por kWh) | C51: =BT!C53 -> 0 | D51: -37.94597 | E51: =MT!J51 -> 28.95315
A52: Suministros a entidades integrantes del Sistema Nacional de Bomberos Voluntarios (diferencial aplicable respecto de la categoría disponible en el Cuadro Tarifario de la Prestadora, según Res. SE 161/2023) - CON FACTURACION DE POTENCIA
A53: Por cada kW-mes suministrado en Horario de Pico | B53: $/kW-mes (pesos por kW-mes) | C53: =C47 -> 0.0157 | D53: 0 | E53: =MT!J53 -> 0
A54: Por cada kW-mes suministrado en Horario Fuera de Pico | B54: $/kW-mes (pesos por kW-mes) | C54: =C48 -> 0.0195 | D54: 0 | E54: =MT!J54 -> 0
A55: Por cada kWh suministrado en Horario de Pico | B55: $/kWh (pesos por kWh) | C55: =C49 -> 0 | D55: -70.65381 | E55: =MT!J55 -> 0
A56: Por cada kWh suministrado en Horario de Valle | B56: $/kWh (pesos por kWh) | C56: =C50 -> 0 | D56: -68.08191 | E56: =MT!J56 -> 0
A57: Por cada kWh suministrado en Horario de Resto | B57: $/kWh (pesos por kWh) | C57: =C51 -> 0 | D57: -68.8219 | E57: =MT!J57 -> 0
A58: Energia destinada a suministros identificados como Alumbrado Publico - CON FACTURACION DE POTENCIA
A59: Por cada kW-mes suministrado en Horario de Pico | B59: $/kW-mes (pesos por kW-mes) | C59: =C47 -> 0.0157 | D59: 2399.9767 | E59: =MT!J59 -> 0
A60: Por cada kW-mes suministrado en Horario Fuera de Pico | B60: $/kW-mes (pesos por kW-mes) | C60: =C48 -> 0.0195 | D60: 72.91035 | E60: =MT!J60 -> 0
A61: Por cada kWh suministrado en Horario de Pico | B61: $/kWh (pesos por kWh) | C61: =C49 -> 0 | D61: -10.14996 | E61: =MT!J61 -> 68.73017
A62: Por cada kWh suministrado en Horario de Valle | B62: $/kWh (pesos por kWh) | C62: =C50 -> 0 | D62: -10.10146 | E62: =MT!J62 -> 66.15833
A63: Por cada kWh suministrado en Horario de Resto | B63: $/kWh (pesos por kWh) | C63: =C51 -> 0 | D63: -10.5177 | E63: =MT!J63 -> 66.8983
A64: Energia destinada a suministros con demanda mayor a 10 Kw y menor a 300 kW, excepto usuarios Residenciales y Alumbrado Publico - CON FACTURACION DE POTENCIA
A65: Por cada kW-mes suministrado en Horario de Pico | B65: $/kW-mes (pesos por kW-mes) | C65: =C47 -> 0.0157 | D65: =D59 -> 2399.9767 | E65: =MT!J65 -> 0
A66: Por cada kW-mes suministrado en Horario Fuera de Pico | B66: $/kW-mes (pesos por kW-mes) | C66: =C48 -> 0.0195 | D66: =D60 -> 72.91035 | E66: =MT!J66 -> 0
A67: Por cada kWh suministrado en Horario de Pico | B67: $/kWh (pesos por kWh) | C67: =C49 -> 0 | D67: =D61 -> -10.14996 | E67: =MT!J67 -> 68.73017
A68: Por cada kWh suministrado en Horario de Valle | B68: $/kWh (pesos por kWh) | C68: =C50 -> 0 | D68: =D62 -> -10.10146 | E68: =MT!J68 -> 66.15833
A69: Por cada kWh suministrado en Horario de Resto | B69: $/kWh (pesos por kWh) | C69: =C51 -> 0 | D69: =D63 -> -10.5177 | E69: =MT!J69 -> 66.8983
A70: Energia destinada a suministros con demanda igual o mayor a 300 Kw - CON FACTURACION DE POTENCIA
A71: Por cada kW-mes suministrado en Horario de Pico | B71: $/kW-mes (pesos por kW-mes) | C71: 0.0145 | D71: 2521.5525 | E71: =MT!J71 -> 0
A72: Por cada kW-mes suministrado en Horario Fuera de Pico | B72: $/kW-mes (pesos por kW-mes) | C72: =C48 -> 0.0195 | D72: =D66 -> 72.91035 | E72: =MT!J72 -> 0
A73: Por cada kWh suministrado en Horario de Pico | B73: $/kWh (pesos por kWh) | C73: =C49 -> 0 | D73: -12.56055 | E73: =MT!J73 -> 66.31963
A74: Por cada kWh suministrado en Horario de Valle | B74: $/kWh (pesos por kWh) | C74: =C50 -> 0 | D74: -12.40601 | E74: =MT!J74 -> 63.85382
A75: Por cada kWh suministrado en Horario de Resto | B75: $/kWh (pesos por kWh) | C75: =C51 -> 0 | D75: -12.85158 | E75: =MT!J75 -> 64.56446
A76: Suministros en Media Tension (7620, 13200 y 33000 V)
A77: Energia destinada a suministros con demanda mayor a 10 kW y menor a 300 kW, excepto usuarios Residenciales y Alumbrado Publico - SIN FACTURACION DE POTENCIA
A78: Cargos Fijos | B78: $ (pesos) | C78: =C$13 -> 0.0187 | D78: 0 | E78: =E41 -> 0
A79: Para la totalidad de los kWh | B79: $/kWh (pesos por kWh) | C79: =C29 -> 0.0108 | D79: -1.53874 | E79: =MT!J79 -> 63.8891
A80: Energia destinada a suministros con demanda igual o mayor a 300 kW, SIN FACTURACION DE POTENCIA
A81: Cargos Fijos | B81: $ (pesos) | C81: =C$13 -> 0.0187 | D81: 0 | E81: =E44 -> 0
A82: Para la totalidad de los kWh | B82: $/kWh (pesos por kWh) | C82: =C29 -> 0.0108 | D82: -3.36269 | E82: =MT!J82 -> 61.65775
A83: Energia destinada a suministros con demanda mayor a 10 kW y menor a 300 kW, excepto usuarios Residenciales y Alumbrado Publico - CON FACTURACION DE POTENCIA
A84: Por cada kW-mes suministrado en Horario de Pico | B84: $/kW-mes (pesos por kW-mes) | C84: 0.0085 | D84: 2421.4736 | E84: =MT!J84 -> 0
A85: Por cada kW-mes suministrado en Horario Fuera de Pico | B85: $/kW-mes (pesos por kW-mes) | C85: 0.0105 | D85: 73.56342 | E85: =MT!J85 -> 0
A86: Por cada kWh suministrado en Horario de Pico | B86: $/kWh (pesos por kWh) | C86: 0 | D86: -9.64584 | E86: =MT!J86 -> 65.31803
A87: Por cada kWh suministrado en Horario de Valle | B87: $/kWh (pesos por kWh) | C87: 0 | D87: -9.59975 | E87: =MT!J87 -> 62.87387
A88: Por cada kWh suministrado en Horario de Resto | B88: $/kWh (pesos por kWh) | C88: 0 | D88: -9.99531 | E88: =MT!J88 -> 63.5771
A89: Energia destinada a suministros con demanda mayor a 300 kW, CON FACTURACION DE POTENCIA
A90: Por cada kW-mes suministrado en Horario de Pico | B90: $/kW-mes (pesos por kW-mes) | C90: 0.0078 | D90: 2544.1383 | E90: =MT!J90 -> 0
A91: Por cada kW-mes suministrado en Horario Fuera de Pico | B91: $/kW-mes (pesos por kW-mes) | C91: =C85 -> 0.0105 | D91: =D85 -> 73.56342 | E91: =MT!J91 -> 0
A92: Por cada kWh suministrado en Horario de Pico | B92: $/kWh (pesos por kWh) | C92: =C86 -> 0 | D92: -11.9367 | E92: =MT!J92 -> 63.02717
A93: Por cada kWh suministrado en Horario de Valle | B93: $/kWh (pesos por kWh) | C93: =C87 -> 0 | D93: -11.78983 | E93: =MT!J93 -> 60.68378
A94: Por cada kWh suministrado en Horario de Resto | B94: $/kWh (pesos por kWh) | C94: =C88 -> 0 | D94: -12.21327 | E94: =MT!J94 -> 61.35914
A95: Suministros en Alta Tension (66000 y 132000 V)
A96: Energia destinada a suministros con demanda mayor a 10 kW y menor a 300 kW, excepto usuarios Residenciales y Alumbrado Publico - CON FACTURACION DE POTENCIA
A97: Por cada kW-mes suministrado en Horario de Pico | B97: $/kW-mes (pesos por kW-mes) | C97: 0.0056 | D97: 2489.6964 | E97: 0
A98: Por cada kW-mes suministrado en Horario Fuera de Pico | B98: $/kW-mes (pesos por kW-mes) | C98: 0.0069 | D98: 75.636 | E98: 0
A99: Por cada kWh suministrado en Horario de Pico | B99: $/kWh (pesos por kWh) | C99: 0 | D99: -9.24994 | E99: 62.63707
A100: Por cada kWh suministrado en Horario de Valle | B100: $/kWh (pesos por kWh) | C100: 0 | D100: -9.20574 | E100: 60.29323
...

Sheet RG 04-2025 (LETRA D)
A1: RG 04-2025 (LETRA D)-NOVIEMBRE
C2: A | D2: B | E2: C | F2: D | G2: E | H2: F | I2: A-AT
A4: SMD | B4: TASAS | C4: 0.0187 | D4: 0.0187 | E4: 0.0187 | F4: 0.0187 | G4: 0.0187 | H4: 0.0187 | I4: 0.0187
B5: CARGO FIJO | C5: 0.0187 | D5: 0.0187 | E5: 0.0187 | F5: 0.0187 | G5: 0.0187 | H5: 0.0187 | I5: 0.0187
B6: RESIDENCIAL | C6: 0.0098 | D6: 0.0102 | E6: 0.0105 | F6: 0.0109 | G6: 0.0104 | H6: 0.0111 | I6: 0.0103
B7: ALUMBRADO PUBLICO | C7: 0.01 | D7: 0.0105 | E7: 0.0106 | F7: 0.0113 | G7: 0.0104 | H7: 0.0112 | I7: 0.0108
B8: NO RESIDENCIAL <=800 KWH | C8: 0.01 | D8: 0.0105 | E8: 0.0106 | F8: 0.0113 | G8: 0.0104 | H8: 0.0112 | I8: 0.0108
B9: NO RESIDENCIAL >800 KWH | C9: 0.01 | D9: 0.0105 | E9: 0.0106 | F9: 0.0113 | G9: 0.0104 | H9: 0.0112 | I9: 0.0108
A10: BT CMD | B10: DP-BT | C10: 0.0148 | E10: 0.0168 | G10: 0.0166 | I10: 0.0157
B11: DFP-BT | C11: 0.0181 | E11: 0.0208 | G11: 0.0205 | I11: 0.0195
B12: EPI-BT | C12: 0 | E12: 0 | G12: 0 | I12: 0
B13: EVA-BT | C13: 0 | E13: 0 | G13: 0 | I13: 0
B14: ERE-BT | C14: 0 | E14: 0 | G14: 0 | I14: 0
B15: DP-GUDI BT | C15: 0.0136 | E15: 0.0155 | G15: 0.0153 | I15: 0.0145
B16: DFP-GUDI BT | C16: 0.0181 | E16: 0.0208 | G16: 0.0205 | I16: 0.0195
B17: EPI-GUDI BT | C17: 0 | E17: 0 | G17: 0 | I17: 0
B18: EVA-GUDI BT | C18: 0 | E18: 0 | G18: 0 | I18: 0
B19: ERE-GUDI BT | C19: 0 | E19: 0 | G19: 0 | I19: 0
A20: MT CMD | B20: DP-MT | C20: 0.008 | E20: 0.0091 | G20: 0.009 | I20: 0.0088
B21: DFP-MT | C21: 0.0098 | E21: 0.0113 | G21: 0.0111 | I21: 0.0109
B22: EPI-MT | C22: 0 | E22: 0 | G22: 0 | I22: 0
B23: EVA-MT | C23: 0 | E23: 0 | G23: 0 | I23: 0
B24: ERE-MT | C24: 0 | E24: 0 | G24: 0 | I24: 0
B25: DP-GUDI MT | C25: 0.0074 | E25: 0.0084 | G25: 0.0083 | I25: 0.0078
B26: DFP-GUDI MT | C26: 0.0098 | E26: 0.0113 | G26: 0.0111 | I26: 0.0105
B27: EPI-GUDI MT | C27: 0 | E27: 0 | G27: 0 | I27: 0
B28: EVA-GUDI MT | C28: 0 | E28: 0 | G28: 0 | I28: 0
B29: ERE-GUDI MT | C29: 0 | E29: 0 | G29: 0 | I29: 0
A30: AT-CMD | B30: DP-AT | I30: 0.0056
B31: DFP-AT | I31: 0.0069
B32: EPI-AT | I32: 0
B33: EVA-AT | I33: 0
B34: ERE-AT | I34: 0
B35: DP-GUDI AT | I35: 0.0051
B36: DFP-GUDI AT | I36: 0.0069
B37: EPI-GUDI AT | I37: 0
B38: EVA-GUDI AT | I38: 0
B39: ERE-GUDI AT | I39: 0
